BEGIN:VCALENDAR
VERSION:2.0
PRODID:-//ΙΕΡΟΣ ΝΑΟΣ ΑΓΙΩΝ ΙΣΙΔΩΡΩΝ - ECPv6.15.17.1//NONSGML v1.0//EN
CALSCALE:GREGORIAN
METHOD:PUBLISH
X-ORIGINAL-URL:https://www.agioi-isidoroi.gr
X-WR-CALDESC:Events for ΙΕΡΟΣ ΝΑΟΣ ΑΓΙΩΝ ΙΣΙΔΩΡΩΝ
REFRESH-INTERVAL;VALUE=DURATION:PT1H
X-Robots-Tag:noindex
X-PUBLISHED-TTL:PT1H
BEGIN:VTIMEZONE
TZID:Europe/Athens
BEGIN:DAYLIGHT
TZOFFSETFROM:+0200
TZOFFSETTO:+0300
TZNAME:EEST
DTSTART:20210328T010000
END:DAYLIGHT
BEGIN:STANDARD
TZOFFSETFROM:+0300
TZOFFSETTO:+0200
TZNAME:EET
DTSTART:20211031T010000
END:STANDARD
BEGIN:DAYLIGHT
TZOFFSETFROM:+0200
TZOFFSETTO:+0300
TZNAME:EEST
DTSTART:20220327T010000
END:DAYLIGHT
BEGIN:STANDARD
TZOFFSETFROM:+0300
TZOFFSETTO:+0200
TZNAME:EET
DTSTART:20221030T010000
END:STANDARD
BEGIN:DAYLIGHT
TZOFFSETFROM:+0200
TZOFFSETTO:+0300
TZNAME:EEST
DTSTART:20230326T010000
END:DAYLIGHT
BEGIN:STANDARD
TZOFFSETFROM:+0300
TZOFFSETTO:+0200
TZNAME:EET
DTSTART:20231029T010000
END:STANDARD
END:VTIMEZONE
BEGIN:VEVENT
DTSTART;TZID=Europe/Athens:20220218T073000
DTEND;TZID=Europe/Athens:20220218T093000
DTSTAMP:20260420T063800
CREATED:20220125T183051Z
LAST-MODIFIED:20220209T202519Z
UID:4194-1645169400-1645176600@www.agioi-isidoroi.gr
SUMMARY:Λέοντος Πάπα Ρώμης
DESCRIPTION:Όρθρος & Θεία Λειτουργία
URL:https://www.agioi-isidoroi.gr/leitourgia/leontos-papa-romis/
LOCATION:Ιερός Ναός Αγίων Ισιδώρων Λυκαβηττού\, Λυκαβηττός\, Αθήνα\, Αττική\, 10210\, Greece
CATEGORIES:Όρθρος Και Θεία Λειτουργία
ORGANIZER;CN="%CE%99%CE%B5%CF%81%CF%8C%CF%82 %CE%9D%CE%B1%CF%8C%CF%82 %CE%91%CE%B3%CE%AF%CF%89%CE%BD %CE%99%CF%83%CE%B9%CE%B4%CF%8E%CF%81%CF%89%CE%BD %CE%9B%CF%85%CE%BA%CE%B1%CE%B2%CE%B7%CF%84%CF%84%CE%BF%CF%8D":MAILTO:aisidro@otenet.gr
END:VEVENT
BEGIN:VEVENT
DTSTART;TZID=Europe/Athens:20220219T073000
DTEND;TZID=Europe/Athens:20220219T093000
DTSTAMP:20260420T063800
CREATED:20220125T183143Z
LAST-MODIFIED:20220209T202550Z
UID:4196-1645255800-1645263000@www.agioi-isidoroi.gr
SUMMARY:Αγίας Φιλοθέης της Αθηναίας
DESCRIPTION:Όρθρος & Θεία Λειτουργία
URL:https://www.agioi-isidoroi.gr/leitourgia/agias-filotheis-tis-athinaias/
LOCATION:Ιερός Ναός Αγίων Ισιδώρων Λυκαβηττού\, Λυκαβηττός\, Αθήνα\, Αττική\, 10210\, Greece
CATEGORIES:Όρθρος Και Θεία Λειτουργία
ORGANIZER;CN="%CE%99%CE%B5%CF%81%CF%8C%CF%82 %CE%9D%CE%B1%CF%8C%CF%82 %CE%91%CE%B3%CE%AF%CF%89%CE%BD %CE%99%CF%83%CE%B9%CE%B4%CF%8E%CF%81%CF%89%CE%BD %CE%9B%CF%85%CE%BA%CE%B1%CE%B2%CE%B7%CF%84%CF%84%CE%BF%CF%8D":MAILTO:aisidro@otenet.gr
END:VEVENT
BEGIN:VEVENT
DTSTART;TZID=Europe/Athens:20220219T183000
DTEND;TZID=Europe/Athens:20220219T193000
DTSTAMP:20260420T063800
CREATED:20220125T183226Z
LAST-MODIFIED:20220131T193643Z
UID:4198-1645295400-1645299000@www.agioi-isidoroi.gr
SUMMARY:Αναστάσιμος Εσπερινός
DESCRIPTION:
URL:https://www.agioi-isidoroi.gr/leitourgia/anastasimos-esperinos-28/
LOCATION:Ιερός Ναός Αγίων Ισιδώρων Λυκαβηττού\, Λυκαβηττός\, Αθήνα\, Αττική\, 10210\, Greece
CATEGORIES:Αναστάσιμος Εσπερινός
ORGANIZER;CN="%CE%99%CE%B5%CF%81%CF%8C%CF%82 %CE%9D%CE%B1%CF%8C%CF%82 %CE%91%CE%B3%CE%AF%CF%89%CE%BD %CE%99%CF%83%CE%B9%CE%B4%CF%8E%CF%81%CF%89%CE%BD %CE%9B%CF%85%CE%BA%CE%B1%CE%B2%CE%B7%CF%84%CF%84%CE%BF%CF%8D":MAILTO:aisidro@otenet.gr
END:VEVENT
BEGIN:VEVENT
DTSTART;TZID=Europe/Athens:20220220T073000
DTEND;TZID=Europe/Athens:20220220T113000
DTSTAMP:20260420T063800
CREATED:20220125T183325Z
LAST-MODIFIED:20220209T203054Z
UID:4200-1645342200-1645356600@www.agioi-isidoroi.gr
SUMMARY:ΤΟΥ ΑΣΩΤΟΥ
DESCRIPTION:Όρθρος & Θεία Λειτουργία 
URL:https://www.agioi-isidoroi.gr/leitourgia/toy-asotoy/
LOCATION:Ιερός Ναός Αγίων Ισιδώρων Λυκαβηττού\, Λυκαβηττός\, Αθήνα\, Αττική\, 10210\, Greece
CATEGORIES:Όρθρος Και Θεία Λειτουργία
ORGANIZER;CN="%CE%99%CE%B5%CF%81%CF%8C%CF%82 %CE%9D%CE%B1%CF%8C%CF%82 %CE%91%CE%B3%CE%AF%CF%89%CE%BD %CE%99%CF%83%CE%B9%CE%B4%CF%8E%CF%81%CF%89%CE%BD %CE%9B%CF%85%CE%BA%CE%B1%CE%B2%CE%B7%CF%84%CF%84%CE%BF%CF%8D":MAILTO:aisidro@otenet.gr
END:VEVENT
BEGIN:VEVENT
DTSTART;TZID=Europe/Athens:20220221T073000
DTEND;TZID=Europe/Athens:20220221T093000
DTSTAMP:20260420T063800
CREATED:20220125T183413Z
LAST-MODIFIED:20220209T203129Z
UID:4202-1645428600-1645435800@www.agioi-isidoroi.gr
SUMMARY:Οσίου Τιμοθέου του εν Συμβόλοις
DESCRIPTION:Όρθρος & Θεία Λειτουργία
URL:https://www.agioi-isidoroi.gr/leitourgia/osioy-timotheoy-toy-en-symvolois/
LOCATION:Ιερός Ναός Αγίων Ισιδώρων Λυκαβηττού\, Λυκαβηττός\, Αθήνα\, Αττική\, 10210\, Greece
CATEGORIES:Όρθρος Και Θεία Λειτουργία
ORGANIZER;CN="%CE%99%CE%B5%CF%81%CF%8C%CF%82 %CE%9D%CE%B1%CF%8C%CF%82 %CE%91%CE%B3%CE%AF%CF%89%CE%BD %CE%99%CF%83%CE%B9%CE%B4%CF%8E%CF%81%CF%89%CE%BD %CE%9B%CF%85%CE%BA%CE%B1%CE%B2%CE%B7%CF%84%CF%84%CE%BF%CF%8D":MAILTO:aisidro@otenet.gr
END:VEVENT
BEGIN:VEVENT
DTSTART;TZID=Europe/Athens:20220222T073000
DTEND;TZID=Europe/Athens:20220222T093000
DTSTAMP:20260420T063800
CREATED:20220125T183459Z
LAST-MODIFIED:20220209T203156Z
UID:4204-1645515000-1645522200@www.agioi-isidoroi.gr
SUMMARY:Αγίας μάρτυρος Ανθούσας
DESCRIPTION:Όρθρος & Θεία Λειτουργία
URL:https://www.agioi-isidoroi.gr/leitourgia/agias-martyros-anthoysas/
LOCATION:Ιερός Ναός Αγίων Ισιδώρων Λυκαβηττού\, Λυκαβηττός\, Αθήνα\, Αττική\, 10210\, Greece
CATEGORIES:Όρθρος Και Θεία Λειτουργία
ORGANIZER;CN="%CE%99%CE%B5%CF%81%CF%8C%CF%82 %CE%9D%CE%B1%CF%8C%CF%82 %CE%91%CE%B3%CE%AF%CF%89%CE%BD %CE%99%CF%83%CE%B9%CE%B4%CF%8E%CF%81%CF%89%CE%BD %CE%9B%CF%85%CE%BA%CE%B1%CE%B2%CE%B7%CF%84%CF%84%CE%BF%CF%8D":MAILTO:aisidro@otenet.gr
END:VEVENT
BEGIN:VEVENT
DTSTART;TZID=Europe/Athens:20220223T073000
DTEND;TZID=Europe/Athens:20220223T093000
DTSTAMP:20260420T063800
CREATED:20220125T183609Z
LAST-MODIFIED:20220209T203219Z
UID:4206-1645601400-1645608600@www.agioi-isidoroi.gr
SUMMARY:Πολυκάρπου επισκ. Σμύρνης
DESCRIPTION:Όρθρος & Θεία Λειτουργία
URL:https://www.agioi-isidoroi.gr/leitourgia/polykarpoy-episk-smyrnis/
LOCATION:Ιερός Ναός Αγίων Ισιδώρων Λυκαβηττού\, Λυκαβηττός\, Αθήνα\, Αττική\, 10210\, Greece
CATEGORIES:Όρθρος Και Θεία Λειτουργία
ORGANIZER;CN="%CE%99%CE%B5%CF%81%CF%8C%CF%82 %CE%9D%CE%B1%CF%8C%CF%82 %CE%91%CE%B3%CE%AF%CF%89%CE%BD %CE%99%CF%83%CE%B9%CE%B4%CF%8E%CF%81%CF%89%CE%BD %CE%9B%CF%85%CE%BA%CE%B1%CE%B2%CE%B7%CF%84%CF%84%CE%BF%CF%8D":MAILTO:aisidro@otenet.gr
END:VEVENT
BEGIN:VEVENT
DTSTART;TZID=Europe/Athens:20220224T073000
DTEND;TZID=Europe/Athens:20220224T093000
DTSTAMP:20260420T063800
CREATED:20220125T183848Z
LAST-MODIFIED:20220209T203237Z
UID:4208-1645687800-1645695000@www.agioi-isidoroi.gr
SUMMARY:Α΄& Β΄ εύρεσις Κεφαλής Τιμίου Προδρόμου
DESCRIPTION:Όρθρος & Θεία Λειτουργία (Τσικνοπέμπτη)
URL:https://www.agioi-isidoroi.gr/leitourgia/a-amp-v-eyresis-kefalis-timioy-prodromoy/
LOCATION:Ιερός Ναός Αγίων Ισιδώρων Λυκαβηττού\, Λυκαβηττός\, Αθήνα\, Αττική\, 10210\, Greece
CATEGORIES:Όρθρος Και Θεία Λειτουργία
ORGANIZER;CN="%CE%99%CE%B5%CF%81%CF%8C%CF%82 %CE%9D%CE%B1%CF%8C%CF%82 %CE%91%CE%B3%CE%AF%CF%89%CE%BD %CE%99%CF%83%CE%B9%CE%B4%CF%8E%CF%81%CF%89%CE%BD %CE%9B%CF%85%CE%BA%CE%B1%CE%B2%CE%B7%CF%84%CF%84%CE%BF%CF%8D":MAILTO:aisidro@otenet.gr
END:VEVENT
BEGIN:VEVENT
DTSTART;TZID=Europe/Athens:20220225T073000
DTEND;TZID=Europe/Athens:20220225T093000
DTSTAMP:20260420T063800
CREATED:20220125T183938Z
LAST-MODIFIED:20220209T203302Z
UID:4210-1645774200-1645781400@www.agioi-isidoroi.gr
SUMMARY:Αγίου Ταρασίου Κων/πόλεως
DESCRIPTION:Όρθρος & Θεία Λειτουργία
URL:https://www.agioi-isidoroi.gr/leitourgia/agioy-tarasioy-kon-poleos/
LOCATION:Ιερός Ναός Αγίων Ισιδώρων Λυκαβηττού\, Λυκαβηττός\, Αθήνα\, Αττική\, 10210\, Greece
CATEGORIES:Όρθρος Και Θεία Λειτουργία
ORGANIZER;CN="%CE%99%CE%B5%CF%81%CF%8C%CF%82 %CE%9D%CE%B1%CF%8C%CF%82 %CE%91%CE%B3%CE%AF%CF%89%CE%BD %CE%99%CF%83%CE%B9%CE%B4%CF%8E%CF%81%CF%89%CE%BD %CE%9B%CF%85%CE%BA%CE%B1%CE%B2%CE%B7%CF%84%CF%84%CE%BF%CF%8D":MAILTO:aisidro@otenet.gr
END:VEVENT
BEGIN:VEVENT
DTSTART;TZID=Europe/Athens:20220225T180000
DTEND;TZID=Europe/Athens:20220225T190000
DTSTAMP:20260420T063800
CREATED:20220125T184024Z
LAST-MODIFIED:20220131T193735Z
UID:4212-1645812000-1645815600@www.agioi-isidoroi.gr
SUMMARY:Εσπερινός των ψυχών
DESCRIPTION:
URL:https://www.agioi-isidoroi.gr/leitourgia/esperinos-ton-psychon/
LOCATION:Ιερός Ναός Αγίων Ισιδώρων Λυκαβηττού\, Λυκαβηττός\, Αθήνα\, Αττική\, 10210\, Greece
CATEGORIES:Εσπερινός
ORGANIZER;CN="%CE%99%CE%B5%CF%81%CF%8C%CF%82 %CE%9D%CE%B1%CF%8C%CF%82 %CE%91%CE%B3%CE%AF%CF%89%CE%BD %CE%99%CF%83%CE%B9%CE%B4%CF%8E%CF%81%CF%89%CE%BD %CE%9B%CF%85%CE%BA%CE%B1%CE%B2%CE%B7%CF%84%CF%84%CE%BF%CF%8D":MAILTO:aisidro@otenet.gr
END:VEVENT
BEGIN:VEVENT
DTSTART;TZID=Europe/Athens:20220226T073000
DTEND;TZID=Europe/Athens:20220226T093000
DTSTAMP:20260420T063800
CREATED:20220125T184141Z
LAST-MODIFIED:20220209T203345Z
UID:4214-1645860600-1645867800@www.agioi-isidoroi.gr
SUMMARY:ΨΥΧΟΣΑΒΒΑΤΟ\, Αγίας Φωτεινής της Σαμαρείτιδος
DESCRIPTION:Όρθρος & Θεία Λειτουργία
URL:https://www.agioi-isidoroi.gr/leitourgia/psychosavvato-agias-foteinis-tis-samareitidos/
LOCATION:Ιερός Ναός Αγίων Ισιδώρων Λυκαβηττού\, Λυκαβηττός\, Αθήνα\, Αττική\, 10210\, Greece
CATEGORIES:Όρθρος Και Θεία Λειτουργία
ORGANIZER;CN="%CE%99%CE%B5%CF%81%CF%8C%CF%82 %CE%9D%CE%B1%CF%8C%CF%82 %CE%91%CE%B3%CE%AF%CF%89%CE%BD %CE%99%CF%83%CE%B9%CE%B4%CF%8E%CF%81%CF%89%CE%BD %CE%9B%CF%85%CE%BA%CE%B1%CE%B2%CE%B7%CF%84%CF%84%CE%BF%CF%8D":MAILTO:aisidro@otenet.gr
END:VEVENT
BEGIN:VEVENT
DTSTART;TZID=Europe/Athens:20220226T183000
DTEND;TZID=Europe/Athens:20220226T193000
DTSTAMP:20260420T063800
CREATED:20220125T184241Z
LAST-MODIFIED:20220131T193802Z
UID:4216-1645900200-1645903800@www.agioi-isidoroi.gr
SUMMARY:Αναστάσιμος Εσπερινός
DESCRIPTION:
URL:https://www.agioi-isidoroi.gr/leitourgia/anastasimos-esperinos-29/
LOCATION:Ιερός Ναός Αγίων Ισιδώρων Λυκαβηττού\, Λυκαβηττός\, Αθήνα\, Αττική\, 10210\, Greece
CATEGORIES:Αναστάσιμος Εσπερινός
ORGANIZER;CN="%CE%99%CE%B5%CF%81%CF%8C%CF%82 %CE%9D%CE%B1%CF%8C%CF%82 %CE%91%CE%B3%CE%AF%CF%89%CE%BD %CE%99%CF%83%CE%B9%CE%B4%CF%8E%CF%81%CF%89%CE%BD %CE%9B%CF%85%CE%BA%CE%B1%CE%B2%CE%B7%CF%84%CF%84%CE%BF%CF%8D":MAILTO:aisidro@otenet.gr
END:VEVENT
BEGIN:VEVENT
DTSTART;TZID=Europe/Athens:20220227T073000
DTEND;TZID=Europe/Athens:20220227T113000
DTSTAMP:20260420T063800
CREATED:20220125T184334Z
LAST-MODIFIED:20220209T203456Z
UID:4218-1645947000-1645961400@www.agioi-isidoroi.gr
SUMMARY:ΤΗΣ ΑΠΟΚΡΕΩ\, Οσίου Εφραίμ Κατουνακιώτη
DESCRIPTION:Όρθρος & Θεία Λειτουργία            
URL:https://www.agioi-isidoroi.gr/leitourgia/tis-apokreo-osioy-efraim-katoynakioti/
LOCATION:Ιερός Ναός Αγίων Ισιδώρων Λυκαβηττού\, Λυκαβηττός\, Αθήνα\, Αττική\, 10210\, Greece
CATEGORIES:Όρθρος Και Θεία Λειτουργία
ORGANIZER;CN="%CE%99%CE%B5%CF%81%CF%8C%CF%82 %CE%9D%CE%B1%CF%8C%CF%82 %CE%91%CE%B3%CE%AF%CF%89%CE%BD %CE%99%CF%83%CE%B9%CE%B4%CF%8E%CF%81%CF%89%CE%BD %CE%9B%CF%85%CE%BA%CE%B1%CE%B2%CE%B7%CF%84%CF%84%CE%BF%CF%8D":MAILTO:aisidro@otenet.gr
END:VEVENT
BEGIN:VEVENT
DTSTART;TZID=Europe/Athens:20220228T073000
DTEND;TZID=Europe/Athens:20220228T093000
DTSTAMP:20260420T063800
CREATED:20220125T184420Z
LAST-MODIFIED:20220209T203553Z
UID:4220-1646033400-1646040600@www.agioi-isidoroi.gr
SUMMARY:Αγίου Βασιλείου του ομολογητού
DESCRIPTION:Όρθρος & Θεία Λειτουργία            
URL:https://www.agioi-isidoroi.gr/leitourgia/agioy-vasileioy-toy-omologitoy/
LOCATION:Ιερός Ναός Αγίων Ισιδώρων Λυκαβηττού\, Λυκαβηττός\, Αθήνα\, Αττική\, 10210\, Greece
CATEGORIES:Όρθρος Και Θεία Λειτουργία
ORGANIZER;CN="%CE%99%CE%B5%CF%81%CF%8C%CF%82 %CE%9D%CE%B1%CF%8C%CF%82 %CE%91%CE%B3%CE%AF%CF%89%CE%BD %CE%99%CF%83%CE%B9%CE%B4%CF%8E%CF%81%CF%89%CE%BD %CE%9B%CF%85%CE%BA%CE%B1%CE%B2%CE%B7%CF%84%CF%84%CE%BF%CF%8D":MAILTO:aisidro@otenet.gr
END:VEVENT
BEGIN:VEVENT
DTSTART;TZID=Europe/Athens:20220301T073000
DTEND;TZID=Europe/Athens:20220301T093000
DTSTAMP:20260420T063800
CREATED:20220125T184538Z
LAST-MODIFIED:20220209T203619Z
UID:4222-1646119800-1646127000@www.agioi-isidoroi.gr
SUMMARY:Οσίας Ευδοκίας
DESCRIPTION:Όρθρος & Θεία Λειτουργία – Αγιασμός
URL:https://www.agioi-isidoroi.gr/leitourgia/osias-eydokias/
LOCATION:Ιερός Ναός Αγίων Ισιδώρων Λυκαβηττού\, Λυκαβηττός\, Αθήνα\, Αττική\, 10210\, Greece
CATEGORIES:Όρθρος Και Θεία Λειτουργία
ORGANIZER;CN="%CE%99%CE%B5%CF%81%CF%8C%CF%82 %CE%9D%CE%B1%CF%8C%CF%82 %CE%91%CE%B3%CE%AF%CF%89%CE%BD %CE%99%CF%83%CE%B9%CE%B4%CF%8E%CF%81%CF%89%CE%BD %CE%9B%CF%85%CE%BA%CE%B1%CE%B2%CE%B7%CF%84%CF%84%CE%BF%CF%8D":MAILTO:aisidro@otenet.gr
END:VEVENT
BEGIN:VEVENT
DTSTART;TZID=Europe/Athens:20220302T073000
DTEND;TZID=Europe/Athens:20220302T093000
DTSTAMP:20260420T063800
CREATED:20220224T155504Z
LAST-MODIFIED:20220224T155504Z
UID:4230-1646206200-1646213400@www.agioi-isidoroi.gr
SUMMARY:Αγίου Νικολάου του Πλανά
DESCRIPTION:Όρθρος\, Ώρες & Εσπερινός
URL:https://www.agioi-isidoroi.gr/leitourgia/agioy-nikolaoy-toy-plana-2/
LOCATION:Ιερός Ναός Αγίων Ισιδώρων Λυκαβηττού\, Λυκαβηττός\, Αθήνα\, Αττική\, 10210\, Greece
CATEGORIES:Εσπερινός,Όρθρος,Ώρες
ORGANIZER;CN="%CE%99%CE%B5%CF%81%CF%8C%CF%82 %CE%9D%CE%B1%CF%8C%CF%82 %CE%91%CE%B3%CE%AF%CF%89%CE%BD %CE%99%CF%83%CE%B9%CE%B4%CF%8E%CF%81%CF%89%CE%BD %CE%9B%CF%85%CE%BA%CE%B1%CE%B2%CE%B7%CF%84%CF%84%CE%BF%CF%8D":MAILTO:aisidro@otenet.gr
END:VEVENT
BEGIN:VEVENT
DTSTART;TZID=Europe/Athens:20220303T073000
DTEND;TZID=Europe/Athens:20220303T093000
DTSTAMP:20260420T063800
CREATED:20220224T155555Z
LAST-MODIFIED:20220224T155555Z
UID:4232-1646292600-1646299800@www.agioi-isidoroi.gr
SUMMARY:Αγίου Ιερομάρτυρος Θεοδωρήτου
DESCRIPTION:Όρθρος & Θεία Λειτουργία
URL:https://www.agioi-isidoroi.gr/leitourgia/agioy-ieromartyros-theodoritoy/
LOCATION:Ιερός Ναός Αγίων Ισιδώρων Λυκαβηττού\, Λυκαβηττός\, Αθήνα\, Αττική\, 10210\, Greece
CATEGORIES:Όρθρος Και Θεία Λειτουργία
ORGANIZER;CN="%CE%99%CE%B5%CF%81%CF%8C%CF%82 %CE%9D%CE%B1%CF%8C%CF%82 %CE%91%CE%B3%CE%AF%CF%89%CE%BD %CE%99%CF%83%CE%B9%CE%B4%CF%8E%CF%81%CF%89%CE%BD %CE%9B%CF%85%CE%BA%CE%B1%CE%B2%CE%B7%CF%84%CF%84%CE%BF%CF%8D":MAILTO:aisidro@otenet.gr
END:VEVENT
BEGIN:VEVENT
DTSTART;TZID=Europe/Athens:20220304T073000
DTEND;TZID=Europe/Athens:20220304T093000
DTSTAMP:20260420T063800
CREATED:20220224T155649Z
LAST-MODIFIED:20220224T155649Z
UID:4234-1646379000-1646386200@www.agioi-isidoroi.gr
SUMMARY:Αγίου Γερασίμου του Ιορδανίτου
DESCRIPTION:Όρθρος\, Ώρες & Εσπερινός
URL:https://www.agioi-isidoroi.gr/leitourgia/agioy-gerasimoy-toy-iordanitoy/
LOCATION:Ιερός Ναός Αγίων Ισιδώρων Λυκαβηττού\, Λυκαβηττός\, Αθήνα\, Αττική\, 10210\, Greece
CATEGORIES:Εσπερινός,Όρθρος,Ώρες
ORGANIZER;CN="%CE%99%CE%B5%CF%81%CF%8C%CF%82 %CE%9D%CE%B1%CF%8C%CF%82 %CE%91%CE%B3%CE%AF%CF%89%CE%BD %CE%99%CF%83%CE%B9%CE%B4%CF%8E%CF%81%CF%89%CE%BD %CE%9B%CF%85%CE%BA%CE%B1%CE%B2%CE%B7%CF%84%CF%84%CE%BF%CF%8D":MAILTO:aisidro@otenet.gr
END:VEVENT
BEGIN:VEVENT
DTSTART;TZID=Europe/Athens:20220304T183000
DTEND;TZID=Europe/Athens:20220304T193000
DTSTAMP:20260420T063800
CREATED:20220224T155740Z
LAST-MODIFIED:20220224T155740Z
UID:4236-1646418600-1646422200@www.agioi-isidoroi.gr
SUMMARY:Εσπερινός των ψυχών
DESCRIPTION:
URL:https://www.agioi-isidoroi.gr/leitourgia/esperinos-ton-psychon-2/
LOCATION:Ιερός Ναός Αγίων Ισιδώρων Λυκαβηττού\, Λυκαβηττός\, Αθήνα\, Αττική\, 10210\, Greece
CATEGORIES:Εσπερινός
ORGANIZER;CN="%CE%99%CE%B5%CF%81%CF%8C%CF%82 %CE%9D%CE%B1%CF%8C%CF%82 %CE%91%CE%B3%CE%AF%CF%89%CE%BD %CE%99%CF%83%CE%B9%CE%B4%CF%8E%CF%81%CF%89%CE%BD %CE%9B%CF%85%CE%BA%CE%B1%CE%B2%CE%B7%CF%84%CF%84%CE%BF%CF%8D":MAILTO:aisidro@otenet.gr
END:VEVENT
BEGIN:VEVENT
DTSTART;TZID=Europe/Athens:20220305T073000
DTEND;TZID=Europe/Athens:20220305T093000
DTSTAMP:20260420T063800
CREATED:20220224T155944Z
LAST-MODIFIED:20220224T155944Z
UID:4238-1646465400-1646472600@www.agioi-isidoroi.gr
SUMMARY:Οσίου Μάρκου του Αθηναίου
DESCRIPTION:Όρθρος & Θεία Λειτουργία
URL:https://www.agioi-isidoroi.gr/leitourgia/osioy-markoy-toy-athinaioy-2/
LOCATION:Ιερός Ναός Αγίων Ισιδώρων Λυκαβηττού\, Λυκαβηττός\, Αθήνα\, Αττική\, 10210\, Greece
CATEGORIES:Όρθρος Και Θεία Λειτουργία
ORGANIZER;CN="%CE%99%CE%B5%CF%81%CF%8C%CF%82 %CE%9D%CE%B1%CF%8C%CF%82 %CE%91%CE%B3%CE%AF%CF%89%CE%BD %CE%99%CF%83%CE%B9%CE%B4%CF%8E%CF%81%CF%89%CE%BD %CE%9B%CF%85%CE%BA%CE%B1%CE%B2%CE%B7%CF%84%CF%84%CE%BF%CF%8D":MAILTO:aisidro@otenet.gr
END:VEVENT
BEGIN:VEVENT
DTSTART;TZID=Europe/Athens:20220305T183000
DTEND;TZID=Europe/Athens:20220305T193000
DTSTAMP:20260420T063800
CREATED:20220224T160035Z
LAST-MODIFIED:20220224T160035Z
UID:4240-1646505000-1646508600@www.agioi-isidoroi.gr
SUMMARY:Αναστάσιμος Εσπερινός
DESCRIPTION:
URL:https://www.agioi-isidoroi.gr/leitourgia/anastasimos-esperinos-30/
LOCATION:Ιερός Ναός Αγίων Ισιδώρων Λυκαβηττού\, Λυκαβηττός\, Αθήνα\, Αττική\, 10210\, Greece
CATEGORIES:Εσπερινός
ORGANIZER;CN="%CE%99%CE%B5%CF%81%CF%8C%CF%82 %CE%9D%CE%B1%CF%8C%CF%82 %CE%91%CE%B3%CE%AF%CF%89%CE%BD %CE%99%CF%83%CE%B9%CE%B4%CF%8E%CF%81%CF%89%CE%BD %CE%9B%CF%85%CE%BA%CE%B1%CE%B2%CE%B7%CF%84%CF%84%CE%BF%CF%8D":MAILTO:aisidro@otenet.gr
END:VEVENT
BEGIN:VEVENT
DTSTART;TZID=Europe/Athens:20220306T073000
DTEND;TZID=Europe/Athens:20220306T093000
DTSTAMP:20260420T063800
CREATED:20220224T160203Z
LAST-MODIFIED:20220224T160203Z
UID:4242-1646551800-1646559000@www.agioi-isidoroi.gr
SUMMARY:ΤΗΣ ΤΥΡΙΝΗΣ
DESCRIPTION:+ Εύρεσις του Τιμίου Σταυρού υπό της Αγίας Ελένης\, Εύρεσις των Τιμίων Ήλων \nΌρθρος & Θεία Λειτουργία
URL:https://www.agioi-isidoroi.gr/leitourgia/tis-tyrinis-2/
LOCATION:Ιερός Ναός Αγίων Ισιδώρων Λυκαβηττού\, Λυκαβηττός\, Αθήνα\, Αττική\, 10210\, Greece
CATEGORIES:Όρθρος Και Θεία Λειτουργία
ORGANIZER;CN="%CE%99%CE%B5%CF%81%CF%8C%CF%82 %CE%9D%CE%B1%CF%8C%CF%82 %CE%91%CE%B3%CE%AF%CF%89%CE%BD %CE%99%CF%83%CE%B9%CE%B4%CF%8E%CF%81%CF%89%CE%BD %CE%9B%CF%85%CE%BA%CE%B1%CE%B2%CE%B7%CF%84%CF%84%CE%BF%CF%8D":MAILTO:aisidro@otenet.gr
END:VEVENT
BEGIN:VEVENT
DTSTART;TZID=Europe/Athens:20220306T073000
DTEND;TZID=Europe/Athens:20220306T113000
DTSTAMP:20260420T063800
CREATED:20220224T160246Z
LAST-MODIFIED:20220224T160246Z
UID:4244-1646551800-1646566200@www.agioi-isidoroi.gr
SUMMARY:Κατανυκτικός Εσπερινός (της Συγχωρήσεως)
DESCRIPTION:
URL:https://www.agioi-isidoroi.gr/leitourgia/katanyktikos-esperinos-tis-sygchoriseos-2/
LOCATION:Ιερός Ναός Αγίων Ισιδώρων Λυκαβηττού\, Λυκαβηττός\, Αθήνα\, Αττική\, 10210\, Greece
CATEGORIES:Εσπερινός
ORGANIZER;CN="%CE%99%CE%B5%CF%81%CF%8C%CF%82 %CE%9D%CE%B1%CF%8C%CF%82 %CE%91%CE%B3%CE%AF%CF%89%CE%BD %CE%99%CF%83%CE%B9%CE%B4%CF%8E%CF%81%CF%89%CE%BD %CE%9B%CF%85%CE%BA%CE%B1%CE%B2%CE%B7%CF%84%CF%84%CE%BF%CF%8D":MAILTO:aisidro@otenet.gr
END:VEVENT
BEGIN:VEVENT
DTSTART;TZID=Europe/Athens:20220307T073000
DTEND;TZID=Europe/Athens:20220307T093000
DTSTAMP:20260420T063800
CREATED:20220224T160346Z
LAST-MODIFIED:20220224T160346Z
UID:4246-1646638200-1646645400@www.agioi-isidoroi.gr
SUMMARY:ΚΑΘΑΡΑ ΔΕΥΤΕΡΑ
DESCRIPTION:+Αρχή της Μεγάλης Τεσσαρακοστής \nΌρθρος\, Ώρες & Εσπερινός
URL:https://www.agioi-isidoroi.gr/leitourgia/kathara-deytera/
LOCATION:Ιερός Ναός Αγίων Ισιδώρων Λυκαβηττού\, Λυκαβηττός\, Αθήνα\, Αττική\, 10210\, Greece
CATEGORIES:Εσπερινός,Όρθρος,Ώρες
ORGANIZER;CN="%CE%99%CE%B5%CF%81%CF%8C%CF%82 %CE%9D%CE%B1%CF%8C%CF%82 %CE%91%CE%B3%CE%AF%CF%89%CE%BD %CE%99%CF%83%CE%B9%CE%B4%CF%8E%CF%81%CF%89%CE%BD %CE%9B%CF%85%CE%BA%CE%B1%CE%B2%CE%B7%CF%84%CF%84%CE%BF%CF%8D":MAILTO:aisidro@otenet.gr
END:VEVENT
BEGIN:VEVENT
DTSTART;TZID=Europe/Athens:20220307T183000
DTEND;TZID=Europe/Athens:20220307T193000
DTSTAMP:20260420T063800
CREATED:20220224T160451Z
LAST-MODIFIED:20220224T160451Z
UID:4248-1646677800-1646681400@www.agioi-isidoroi.gr
SUMMARY:Μέγα Απόδειπνο
DESCRIPTION:
URL:https://www.agioi-isidoroi.gr/leitourgia/mega-apodeipno/
LOCATION:Ιερός Ναός Αγίων Ισιδώρων Λυκαβηττού\, Λυκαβηττός\, Αθήνα\, Αττική\, 10210\, Greece
ORGANIZER;CN="%CE%99%CE%B5%CF%81%CF%8C%CF%82 %CE%9D%CE%B1%CF%8C%CF%82 %CE%91%CE%B3%CE%AF%CF%89%CE%BD %CE%99%CF%83%CE%B9%CE%B4%CF%8E%CF%81%CF%89%CE%BD %CE%9B%CF%85%CE%BA%CE%B1%CE%B2%CE%B7%CF%84%CF%84%CE%BF%CF%8D":MAILTO:aisidro@otenet.gr
END:VEVENT
BEGIN:VEVENT
DTSTART;TZID=Europe/Athens:20220308T073000
DTEND;TZID=Europe/Athens:20220308T093000
DTSTAMP:20260420T063800
CREATED:20220224T160552Z
LAST-MODIFIED:20220224T160552Z
UID:4250-1646724600-1646731800@www.agioi-isidoroi.gr
SUMMARY:Οσίου Θεοφυλάκτου
DESCRIPTION:Όρθρος\, Ώρες & Εσπερινός
URL:https://www.agioi-isidoroi.gr/leitourgia/osioy-theofylaktoy/
LOCATION:Ιερός Ναός Αγίων Ισιδώρων Λυκαβηττού\, Λυκαβηττός\, Αθήνα\, Αττική\, 10210\, Greece
CATEGORIES:Εσπερινός,Όρθρος,Ώρες
ORGANIZER;CN="%CE%99%CE%B5%CF%81%CF%8C%CF%82 %CE%9D%CE%B1%CF%8C%CF%82 %CE%91%CE%B3%CE%AF%CF%89%CE%BD %CE%99%CF%83%CE%B9%CE%B4%CF%8E%CF%81%CF%89%CE%BD %CE%9B%CF%85%CE%BA%CE%B1%CE%B2%CE%B7%CF%84%CF%84%CE%BF%CF%8D":MAILTO:aisidro@otenet.gr
END:VEVENT
BEGIN:VEVENT
DTSTART;TZID=Europe/Athens:20220308T183000
DTEND;TZID=Europe/Athens:20220308T193000
DTSTAMP:20260420T063800
CREATED:20220224T160636Z
LAST-MODIFIED:20220224T160636Z
UID:4252-1646764200-1646767800@www.agioi-isidoroi.gr
SUMMARY:Μέγα Απόδειπνο
DESCRIPTION:
URL:https://www.agioi-isidoroi.gr/leitourgia/mega-apodeipno-2/
LOCATION:Ιερός Ναός Αγίων Ισιδώρων Λυκαβηττού\, Λυκαβηττός\, Αθήνα\, Αττική\, 10210\, Greece
ORGANIZER;CN="%CE%99%CE%B5%CF%81%CF%8C%CF%82 %CE%9D%CE%B1%CF%8C%CF%82 %CE%91%CE%B3%CE%AF%CF%89%CE%BD %CE%99%CF%83%CE%B9%CE%B4%CF%8E%CF%81%CF%89%CE%BD %CE%9B%CF%85%CE%BA%CE%B1%CE%B2%CE%B7%CF%84%CF%84%CE%BF%CF%8D":MAILTO:aisidro@otenet.gr
END:VEVENT
BEGIN:VEVENT
DTSTART;TZID=Europe/Athens:20220309T073000
DTEND;TZID=Europe/Athens:20220309T093000
DTSTAMP:20260420T063800
CREATED:20220224T160735Z
LAST-MODIFIED:20220224T160735Z
UID:4254-1646811000-1646818200@www.agioi-isidoroi.gr
SUMMARY:Αγίων Τεσσαράκοντα Μαρτύρων
DESCRIPTION:+Δριμύς ο χειμών\, γλυκύς ο Παράδεισος \nΠροηγιασμένη Θεία Λειτουργία
URL:https://www.agioi-isidoroi.gr/leitourgia/agion-tessarakonta-martyron-2/
LOCATION:Ιερός Ναός Αγίων Ισιδώρων Λυκαβηττού\, Λυκαβηττός\, Αθήνα\, Αττική\, 10210\, Greece
CATEGORIES:Θεία Λειτουργία
ORGANIZER;CN="%CE%99%CE%B5%CF%81%CF%8C%CF%82 %CE%9D%CE%B1%CF%8C%CF%82 %CE%91%CE%B3%CE%AF%CF%89%CE%BD %CE%99%CF%83%CE%B9%CE%B4%CF%8E%CF%81%CF%89%CE%BD %CE%9B%CF%85%CE%BA%CE%B1%CE%B2%CE%B7%CF%84%CF%84%CE%BF%CF%8D":MAILTO:aisidro@otenet.gr
END:VEVENT
BEGIN:VEVENT
DTSTART;TZID=Europe/Athens:20220310T073000
DTEND;TZID=Europe/Athens:20220310T093000
DTSTAMP:20260420T063800
CREATED:20220224T160820Z
LAST-MODIFIED:20220224T160820Z
UID:4256-1646897400-1646904600@www.agioi-isidoroi.gr
SUMMARY:Οσίας Αναστασίας της Πατρικίας
DESCRIPTION:Προηγιασμένη Θεία Λειτουργία
URL:https://www.agioi-isidoroi.gr/leitourgia/osias-anastasias-tis-patrikias/
LOCATION:Ιερός Ναός Αγίων Ισιδώρων Λυκαβηττού\, Λυκαβηττός\, Αθήνα\, Αττική\, 10210\, Greece
CATEGORIES:Θεία Λειτουργία
ORGANIZER;CN="%CE%99%CE%B5%CF%81%CF%8C%CF%82 %CE%9D%CE%B1%CF%8C%CF%82 %CE%91%CE%B3%CE%AF%CF%89%CE%BD %CE%99%CF%83%CE%B9%CE%B4%CF%8E%CF%81%CF%89%CE%BD %CE%9B%CF%85%CE%BA%CE%B1%CE%B2%CE%B7%CF%84%CF%84%CE%BF%CF%8D":MAILTO:aisidro@otenet.gr
END:VEVENT
BEGIN:VEVENT
DTSTART;TZID=Europe/Athens:20220310T183000
DTEND;TZID=Europe/Athens:20220310T193000
DTSTAMP:20260420T063800
CREATED:20220224T160856Z
LAST-MODIFIED:20220224T160856Z
UID:4258-1646937000-1646940600@www.agioi-isidoroi.gr
SUMMARY:Προηγιασμένη Θεία Λειτουργία
DESCRIPTION:
URL:https://www.agioi-isidoroi.gr/leitourgia/proigiasmeni-theia-leitoyrgia-12/
LOCATION:Ιερός Ναός Αγίων Ισιδώρων Λυκαβηττού\, Λυκαβηττός\, Αθήνα\, Αττική\, 10210\, Greece
CATEGORIES:Θεία Λειτουργία
ORGANIZER;CN="%CE%99%CE%B5%CF%81%CF%8C%CF%82 %CE%9D%CE%B1%CF%8C%CF%82 %CE%91%CE%B3%CE%AF%CF%89%CE%BD %CE%99%CF%83%CE%B9%CE%B4%CF%8E%CF%81%CF%89%CE%BD %CE%9B%CF%85%CE%BA%CE%B1%CE%B2%CE%B7%CF%84%CF%84%CE%BF%CF%8D":MAILTO:aisidro@otenet.gr
END:VEVENT
END:VCALENDAR