BEGIN:VCALENDAR
VERSION:2.0
PRODID:-//ΙΕΡΟΣ ΝΑΟΣ ΑΓΙΩΝ ΙΣΙΔΩΡΩΝ - ECPv6.15.17.1//NONSGML v1.0//EN
CALSCALE:GREGORIAN
METHOD:PUBLISH
X-WR-CALNAME:ΙΕΡΟΣ ΝΑΟΣ ΑΓΙΩΝ ΙΣΙΔΩΡΩΝ
X-ORIGINAL-URL:https://www.agioi-isidoroi.gr
X-WR-CALDESC:Events for ΙΕΡΟΣ ΝΑΟΣ ΑΓΙΩΝ ΙΣΙΔΩΡΩΝ
REFRESH-INTERVAL;VALUE=DURATION:PT1H
X-Robots-Tag:noindex
X-PUBLISHED-TTL:PT1H
BEGIN:VTIMEZONE
TZID:Europe/Athens
BEGIN:DAYLIGHT
TZOFFSETFROM:+0200
TZOFFSETTO:+0300
TZNAME:EEST
DTSTART:20210328T010000
END:DAYLIGHT
BEGIN:STANDARD
TZOFFSETFROM:+0300
TZOFFSETTO:+0200
TZNAME:EET
DTSTART:20211031T010000
END:STANDARD
BEGIN:DAYLIGHT
TZOFFSETFROM:+0200
TZOFFSETTO:+0300
TZNAME:EEST
DTSTART:20220327T010000
END:DAYLIGHT
BEGIN:STANDARD
TZOFFSETFROM:+0300
TZOFFSETTO:+0200
TZNAME:EET
DTSTART:20221030T010000
END:STANDARD
BEGIN:DAYLIGHT
TZOFFSETFROM:+0200
TZOFFSETTO:+0300
TZNAME:EEST
DTSTART:20230326T010000
END:DAYLIGHT
BEGIN:STANDARD
TZOFFSETFROM:+0300
TZOFFSETTO:+0200
TZNAME:EET
DTSTART:20231029T010000
END:STANDARD
END:VTIMEZONE
BEGIN:VEVENT
DTSTART;TZID=Europe/Athens:20220428T073000
DTEND;TZID=Europe/Athens:20220428T093000
DTSTAMP:20260420T062010
CREATED:20220403T133107Z
LAST-MODIFIED:20220403T133107Z
UID:4447-1651131000-1651138200@www.agioi-isidoroi.gr
SUMMARY:Των εν Κυζίκω εννέα μαρτύρων
DESCRIPTION:Όρθρος & Θεία Λειτουργία
URL:https://www.agioi-isidoroi.gr/leitourgia/ton-en-kyziko-ennea-martyron/
LOCATION:Ιερός Ναός Αγίων Ισιδώρων Λυκαβηττού\, Λυκαβηττός\, Αθήνα\, Αττική\, 10210\, Greece
CATEGORIES:Όρθρος Και Θεία Λειτουργία
ORGANIZER;CN="%CE%99%CE%B5%CF%81%CF%8C%CF%82 %CE%9D%CE%B1%CF%8C%CF%82 %CE%91%CE%B3%CE%AF%CF%89%CE%BD %CE%99%CF%83%CE%B9%CE%B4%CF%8E%CF%81%CF%89%CE%BD %CE%9B%CF%85%CE%BA%CE%B1%CE%B2%CE%B7%CF%84%CF%84%CE%BF%CF%8D":MAILTO:aisidro@otenet.gr
END:VEVENT
BEGIN:VEVENT
DTSTART;TZID=Europe/Athens:20220427T073000
DTEND;TZID=Europe/Athens:20220427T093000
DTSTAMP:20260420T062010
CREATED:20220403T133022Z
LAST-MODIFIED:20220403T133022Z
UID:4445-1651044600-1651051800@www.agioi-isidoroi.gr
SUMMARY:Συμεών Ιερομάρτυρος
DESCRIPTION:επισκόπου Ιεροσολύμων\, συγγενούς του Κυρίου (+107) \nΌρθρος & Θεία Λειτουργία
URL:https://www.agioi-isidoroi.gr/leitourgia/symeon-ieromartyros/
LOCATION:Ιερός Ναός Αγίων Ισιδώρων Λυκαβηττού\, Λυκαβηττός\, Αθήνα\, Αττική\, 10210\, Greece
CATEGORIES:Όρθρος Και Θεία Λειτουργία
ORGANIZER;CN="%CE%99%CE%B5%CF%81%CF%8C%CF%82 %CE%9D%CE%B1%CF%8C%CF%82 %CE%91%CE%B3%CE%AF%CF%89%CE%BD %CE%99%CF%83%CE%B9%CE%B4%CF%8E%CF%81%CF%89%CE%BD %CE%9B%CF%85%CE%BA%CE%B1%CE%B2%CE%B7%CF%84%CF%84%CE%BF%CF%8D":MAILTO:aisidro@otenet.gr
END:VEVENT
BEGIN:VEVENT
DTSTART;TZID=Europe/Athens:20220426T073000
DTEND;TZID=Europe/Athens:20220426T093000
DTSTAMP:20260420T062010
CREATED:20220403T132819Z
LAST-MODIFIED:20220403T132855Z
UID:4442-1650958200-1650965400@www.agioi-isidoroi.gr
SUMMARY:Αγίων Ραφαήλ Νικολάου & Ειρήνης Αποστόλου & Ευαγγελιστού Μάρκου
DESCRIPTION:  \nΌρθρος & Θεία Λειτουργία \n*Η Θεία Λειτουργία θα τελεστεί στο εικονοστάσιο του Σωτήρος Χριστού.\n*Θα τεθεί για προσκύνημα ιερό λείψανο του Αγίου Ραφαήλ.
URL:https://www.agioi-isidoroi.gr/leitourgia/agion-rafail-nikolaoy-amp-eirinis-3/
LOCATION:Ιερός Ναός Αγίων Ισιδώρων Λυκαβηττού\, Λυκαβηττός\, Αθήνα\, Αττική\, 10210\, Greece
CATEGORIES:Όρθρος Και Θεία Λειτουργία
ORGANIZER;CN="%CE%99%CE%B5%CF%81%CF%8C%CF%82 %CE%9D%CE%B1%CF%8C%CF%82 %CE%91%CE%B3%CE%AF%CF%89%CE%BD %CE%99%CF%83%CE%B9%CE%B4%CF%8E%CF%81%CF%89%CE%BD %CE%9B%CF%85%CE%BA%CE%B1%CE%B2%CE%B7%CF%84%CF%84%CE%BF%CF%8D":MAILTO:aisidro@otenet.gr
END:VEVENT
BEGIN:VEVENT
DTSTART;TZID=Europe/Athens:20220425T073000
DTEND;TZID=Europe/Athens:20220425T093000
DTSTAMP:20260420T062010
CREATED:20220403T130955Z
LAST-MODIFIED:20220403T130955Z
UID:4440-1650871800-1650879000@www.agioi-isidoroi.gr
SUMMARY:Αγίου Μεγαλομάρτυρος Γεωργίου
DESCRIPTION:Όρθρος & Πανηγυρική Θεία Λειτουργία \n*Θα τεθεί για προσκύνημα ιερό λείψανο του Αγίου Γεωργίου.\n*Θα προσφερθεί φρέσκο παραδοσιακό πρόβειο γάλα για να γνωρίσουν οι νεότεροι και να νοσταλγήσουν οι παλαιοί.
URL:https://www.agioi-isidoroi.gr/leitourgia/agioy-megalomartyros-georgioy/
LOCATION:Ιερός Ναός Αγίων Ισιδώρων Λυκαβηττού\, Λυκαβηττός\, Αθήνα\, Αττική\, 10210\, Greece
CATEGORIES:Όρθρος Και Θεία Λειτουργία
ORGANIZER;CN="%CE%99%CE%B5%CF%81%CF%8C%CF%82 %CE%9D%CE%B1%CF%8C%CF%82 %CE%91%CE%B3%CE%AF%CF%89%CE%BD %CE%99%CF%83%CE%B9%CE%B4%CF%8E%CF%81%CF%89%CE%BD %CE%9B%CF%85%CE%BA%CE%B1%CE%B2%CE%B7%CF%84%CF%84%CE%BF%CF%8D":MAILTO:aisidro@otenet.gr
END:VEVENT
BEGIN:VEVENT
DTSTART;TZID=Europe/Athens:20220424T113000
DTEND;TZID=Europe/Athens:20220424T130000
DTSTAMP:20260420T062010
CREATED:20220403T130820Z
LAST-MODIFIED:20220403T130820Z
UID:4438-1650799800-1650805200@www.agioi-isidoroi.gr
SUMMARY:Ο ΕΣΠΕΡΙΝΟΣ ΤΗΣ ΑΓΑΠΗΣ
DESCRIPTION:«Χριστός Ανέστη εκ νεκρών\, θανάτῳ θάνατον πατήσας και τοις εν τοις μνήμασι ζωήν χαρισάμενος»
URL:https://www.agioi-isidoroi.gr/leitourgia/o-esperinos-tis-agapis-2/
LOCATION:Ιερός Ναός Αγίων Ισιδώρων Λυκαβηττού\, Λυκαβηττός\, Αθήνα\, Αττική\, 10210\, Greece
CATEGORIES:Εσπερινός
ORGANIZER;CN="%CE%99%CE%B5%CF%81%CF%8C%CF%82 %CE%9D%CE%B1%CF%8C%CF%82 %CE%91%CE%B3%CE%AF%CF%89%CE%BD %CE%99%CF%83%CE%B9%CE%B4%CF%8E%CF%81%CF%89%CE%BD %CE%9B%CF%85%CE%BA%CE%B1%CE%B2%CE%B7%CF%84%CF%84%CE%BF%CF%8D":MAILTO:aisidro@otenet.gr
END:VEVENT
BEGIN:VEVENT
DTSTART;TZID=Europe/Athens:20220424T000000
DTEND;TZID=Europe/Athens:20220424T030000
DTSTAMP:20260420T062010
CREATED:20220403T125935Z
LAST-MODIFIED:20220403T165358Z
UID:4431-1650758400-1650769200@www.agioi-isidoroi.gr
SUMMARY:ΤΗΝ ΖΩΗΦΟΡΟΝ ΑΝΑΣΤΑΣΙΝ Του Κυρίου Ημών Ιησού Χριστού εορτάζομεν
DESCRIPTION:ΧΡΙΣΤΟΣ ΑΝΕΣΤΗ – ΑΛΗΘΩΣ ΑΝΕΣΤΗ \nΘεία Λειτουργία Αγου Ιωάννου του Χρυσοστόμου \n«Αναστάσεως ημέρα λαμπρυνθώμεν Λαοί\, Πάσχα Κυρίου\, Πάσχα• εκ γαρ θανάτου προς ζωήν\,\nκαι εκ γης προς ουρανόν\, Χριστός ο Θεός\, ημάς διεβίβασεν\, επινίκιον άδοντας»\n*Θα μοιραστούν Αυγά\, Τυρί και Κουλουράκια.
URL:https://www.agioi-isidoroi.gr/leitourgia/kyriaki-toy-pascha-tin-zoiforon-anastasin/
LOCATION:Ιερός Ναός Αγίων Ισιδώρων Λυκαβηττού\, Λυκαβηττός\, Αθήνα\, Αττική\, 10210\, Greece
CATEGORIES:Θεία Λειτουργία
ORGANIZER;CN="%CE%99%CE%B5%CF%81%CF%8C%CF%82 %CE%9D%CE%B1%CF%8C%CF%82 %CE%91%CE%B3%CE%AF%CF%89%CE%BD %CE%99%CF%83%CE%B9%CE%B4%CF%8E%CF%81%CF%89%CE%BD %CE%9B%CF%85%CE%BA%CE%B1%CE%B2%CE%B7%CF%84%CF%84%CE%BF%CF%8D":MAILTO:aisidro@otenet.gr
END:VEVENT
BEGIN:VEVENT
DTSTART;TZID=Europe/Athens:20220423T230000
DTEND;TZID=Europe/Athens:20220424T000000
DTSTAMP:20260420T062010
CREATED:20220403T125725Z
LAST-MODIFIED:20220403T125725Z
UID:4427-1650754800-1650758400@www.agioi-isidoroi.gr
SUMMARY:Παννυχίδα της Αναστάσεως
DESCRIPTION:
URL:https://www.agioi-isidoroi.gr/leitourgia/pannychida-tis-anastaseos/
LOCATION:Ιερός Ναός Αγίων Ισιδώρων Λυκαβηττού\, Λυκαβηττός\, Αθήνα\, Αττική\, 10210\, Greece
ORGANIZER;CN="%CE%99%CE%B5%CF%81%CF%8C%CF%82 %CE%9D%CE%B1%CF%8C%CF%82 %CE%91%CE%B3%CE%AF%CF%89%CE%BD %CE%99%CF%83%CE%B9%CE%B4%CF%8E%CF%81%CF%89%CE%BD %CE%9B%CF%85%CE%BA%CE%B1%CE%B2%CE%B7%CF%84%CF%84%CE%BF%CF%8D":MAILTO:aisidro@otenet.gr
END:VEVENT
BEGIN:VEVENT
DTSTART;TZID=Europe/Athens:20220423T080000
DTEND;TZID=Europe/Athens:20220423T110000
DTSTAMP:20260420T062010
CREATED:20220403T125530Z
LAST-MODIFIED:20220403T125530Z
UID:4425-1650700800-1650711600@www.agioi-isidoroi.gr
SUMMARY:Μεγάλο Σάββατο - Η Θεία Λειτουργία του Μεγάλου Βασιλείου
DESCRIPTION:Την θεόσωμον Ταφήν και την εις Άδου Κάθοδον Του Κυρίου\nκαι Σωτήρος Ημών Ιησού Χριστού εορτάζομεν\, δι’ ων της φθοράς το υμέτερον γένος\nανακληθέν\, προς αιωνίαν ζωήν μεταβέβηκε. \nΗ Θεία Λειτουργία του Μεγάλου Βασιλείου θα γίνει επάνω στον Επιτάφιο του Κυρίου
URL:https://www.agioi-isidoroi.gr/leitourgia/megalo-savvato-i-theia-leitoyrgia-toy-megaloy-vasileioy/
LOCATION:Ιερός Ναός Αγίων Ισιδώρων Λυκαβηττού\, Λυκαβηττός\, Αθήνα\, Αττική\, 10210\, Greece
CATEGORIES:Θεία Λειτουργία
ORGANIZER;CN="%CE%99%CE%B5%CF%81%CF%8C%CF%82 %CE%9D%CE%B1%CF%8C%CF%82 %CE%91%CE%B3%CE%AF%CF%89%CE%BD %CE%99%CF%83%CE%B9%CE%B4%CF%8E%CF%81%CF%89%CE%BD %CE%9B%CF%85%CE%BA%CE%B1%CE%B2%CE%B7%CF%84%CF%84%CE%BF%CF%8D":MAILTO:aisidro@otenet.gr
END:VEVENT
BEGIN:VEVENT
DTSTART;TZID=Europe/Athens:20220422T190000
DTEND;TZID=Europe/Athens:20220422T220000
DTSTAMP:20260420T062010
CREATED:20220416T212231Z
LAST-MODIFIED:20220416T212231Z
UID:4466-1650654000-1650664800@www.agioi-isidoroi.gr
SUMMARY:ΑΚΟΛΟΥΘΙΑ ΤΟΥ ΕΠΙΤΑΦΙΟΥ - ΤΑ ΕΓΚΩΜΙΑ
DESCRIPTION:«Ω γλυκύ μου έαρ\, γλυκύτατόν μου Τέκνον\, πού έδυ σου το κάλλος; Έρραναν τον τάφον αι Μυροφόροι μύρα\,\nλίαν πρωί ελθούσαι. Ω Τριάς Θεέ μου\, Πατήρ Υιός και Πνεύμα\, ελέησον τον κόσμον.»\n*Θα γίνει η περιφορά του Επιταφίου επί των οδών Σαρανταπήχου & Δοξαπατρή.
URL:https://www.agioi-isidoroi.gr/leitourgia/akoloythia-toy-epitafioy-ta-egkomia-3/
LOCATION:Ιερός Ναός Αγίων Ισιδώρων Λυκαβηττού\, Λυκαβηττός\, Αθήνα\, Αττική\, 10210\, Greece
CATEGORIES:Ακολουθία
ORGANIZER;CN="%CE%99%CE%B5%CF%81%CF%8C%CF%82 %CE%9D%CE%B1%CF%8C%CF%82 %CE%91%CE%B3%CE%AF%CF%89%CE%BD %CE%99%CF%83%CE%B9%CE%B4%CF%8E%CF%81%CF%89%CE%BD %CE%9B%CF%85%CE%BA%CE%B1%CE%B2%CE%B7%CF%84%CF%84%CE%BF%CF%8D":MAILTO:aisidro@otenet.gr
END:VEVENT
BEGIN:VEVENT
DTSTART;TZID=Europe/Athens:20220422T093000
DTEND;TZID=Europe/Athens:20220422T130000
DTSTAMP:20260420T062010
CREATED:20220403T125132Z
LAST-MODIFIED:20220403T125200Z
UID:4421-1650619800-1650632400@www.agioi-isidoroi.gr
SUMMARY:Μεγάλη Παρασκευή - ΤΑ ΑΓΙΑ ΠΑΘΗ ΤΟΥ ΚΥΡΙΟΥ
DESCRIPTION:ΑΚΟΛΟΥΘΙΑ ΤΩΝ ΜΕΓΑΛΩΝ ΩΡΩΝ \nΕσπερινός της Αποκαθηλώσεως (11:30-13:00) \n*Μετά το πέρας της ακολουθίας θα ψαλεί τρισάγιο υπέρ αναπαύσεως των ψυχών
URL:https://www.agioi-isidoroi.gr/leitourgia/megali-paraskeyi-ta-agia-pathi-toy-kyrioy-2/
LOCATION:Ιερός Ναός Αγίων Ισιδώρων Λυκαβηττού\, Λυκαβηττός\, Αθήνα\, Αττική\, 10210\, Greece
CATEGORIES:Ακολουθία
ORGANIZER;CN="%CE%99%CE%B5%CF%81%CF%8C%CF%82 %CE%9D%CE%B1%CF%8C%CF%82 %CE%91%CE%B3%CE%AF%CF%89%CE%BD %CE%99%CF%83%CE%B9%CE%B4%CF%8E%CF%81%CF%89%CE%BD %CE%9B%CF%85%CE%BA%CE%B1%CE%B2%CE%B7%CF%84%CF%84%CE%BF%CF%8D":MAILTO:aisidro@otenet.gr
END:VEVENT
BEGIN:VEVENT
DTSTART;TZID=Europe/Athens:20220421T193000
DTEND;TZID=Europe/Athens:20220422T000000
DTSTAMP:20260420T062010
CREATED:20220403T124504Z
LAST-MODIFIED:20220403T124504Z
UID:4419-1650569400-1650585600@www.agioi-isidoroi.gr
SUMMARY:+ΑΚΟΛΟΥΘΙΑ ΤΩΝ ΑΧΡΑΝΤΩΝ ΠΑΘΩΝ
DESCRIPTION:*Τα άγια και σωτήρια και φρικτά Πάθη Του Κυρίου και Θεού Σωτήρος ημών Ιησού Χριστού\, τους εμπτυσμούς\,\nτα ραπίσματα\, τα κολαφίσματα\, τας ύβρεις\, τους γέλωτας\, την πορφυράν χλαίναν\, τον κάλαμον\,\nτον σπόγγον\, το όξος\, τους ήλους\, την λόγχην και προ πάντων\, τον σταυρόν\, και τον θάνατον\, α δι’ ημάς εκών\nκατεδέξατο\, έτι δε και την του ευγνώμονος ληστού\, του συσταυρωθέντος αυτώ\, σωτήριον εν τω Σταυρώ ομολογίαν.\n«Σήμερον κρεμάται επί ξύλου\, ο εν ύδασι την γην κρεμάσας. Στέφανον εξ ακανθών περιτίθεται\, ο των\nαγγέλων βασιλεύς. Ψευδή πορφύραν περιβάλλεται\, ο περιβάλλων τον ουρανόν εν νεφέλαις. Ράπισμα\nκατεδέξατο\, ο εν Ιορδάνη ελευθερώσας τον Αδάμ. Προσηλώθη\, ο νυμφίος της Εκκλησίας. Λόγχη εκεντήθη\, ο\nυιός της Παρθένου. Προσκυνούμεν σου τα Πάθη\, Χριστέ. Δείξον ημίν και την ένδοξόν σου Ανάστασιν.»\n*Θα τεθεί για προσκύνημα Τεμάχιο Τιμίου Ξύλου & Πέτρα εκ του Φρικτού Γολγοθά.\n*Μετά το πέρας της ακολουθίας θα γίνει ο στολισμός του Επιταφίου..
URL:https://www.agioi-isidoroi.gr/leitourgia/akoloythia-ton-achranton-pathon-2/
LOCATION:Ιερός Ναός Αγίων Ισιδώρων Λυκαβηττού\, Λυκαβηττός\, Αθήνα\, Αττική\, 10210\, Greece
CATEGORIES:Ακολουθία
ORGANIZER;CN="%CE%99%CE%B5%CF%81%CF%8C%CF%82 %CE%9D%CE%B1%CF%8C%CF%82 %CE%91%CE%B3%CE%AF%CF%89%CE%BD %CE%99%CF%83%CE%B9%CE%B4%CF%8E%CF%81%CF%89%CE%BD %CE%9B%CF%85%CE%BA%CE%B1%CE%B2%CE%B7%CF%84%CF%84%CE%BF%CF%8D":MAILTO:aisidro@otenet.gr
END:VEVENT
BEGIN:VEVENT
DTSTART;TZID=Europe/Athens:20220421T080000
DTEND;TZID=Europe/Athens:20220421T100000
DTSTAMP:20260420T062010
CREATED:20220403T124123Z
LAST-MODIFIED:20220403T124123Z
UID:4417-1650528000-1650535200@www.agioi-isidoroi.gr
SUMMARY:Μεγάλη Πέμπτη - Ο Μυστικός Δείπνος
DESCRIPTION:Θεία Λειτουργία του Μεγάλου Βασιλείου
URL:https://www.agioi-isidoroi.gr/leitourgia/megali-pempti-o-mystikos-deipnos-2/
LOCATION:Ιερός Ναός Αγίων Ισιδώρων Λυκαβηττού\, Λυκαβηττός\, Αθήνα\, Αττική\, 10210\, Greece
CATEGORIES:Θεία Λειτουργία
ORGANIZER;CN="%CE%99%CE%B5%CF%81%CF%8C%CF%82 %CE%9D%CE%B1%CF%8C%CF%82 %CE%91%CE%B3%CE%AF%CF%89%CE%BD %CE%99%CF%83%CE%B9%CE%B4%CF%8E%CF%81%CF%89%CE%BD %CE%9B%CF%85%CE%BA%CE%B1%CE%B2%CE%B7%CF%84%CF%84%CE%BF%CF%8D":MAILTO:aisidro@otenet.gr
END:VEVENT
BEGIN:VEVENT
DTSTART;TZID=Europe/Athens:20220420T193000
DTEND;TZID=Europe/Athens:20220420T213000
DTSTAMP:20260420T062010
CREATED:20220403T124012Z
LAST-MODIFIED:20220416T210010Z
UID:4415-1650483000-1650490200@www.agioi-isidoroi.gr
SUMMARY:Ακολουθία του Νιπτήρος
DESCRIPTION:  \nΑκολουθία του Νιπτήρος\n«Ότε η ένδοξοι μαθηταί εν τω νιπτήρι εφωτίζοντο\, τότε Ιούδας ο δυσεβής\, φιλαργυρίαν νοσήσας\, εκοτίζετο·και\nανόμοις κριταίς σε τον δίκαιον κριτήν παραδίδωσι. Βλέπε\, χρημάτων εραστά\, τον δια ταύτα αγχόνη χρησάμενον·\nφεύγε ακόρεστον ψυχήν την διδασκάλω τοιαύτα τολμήσασαν. Ο περί πάντων αγαθός\, Κύριε\, δόξα σοι.»
URL:https://www.agioi-isidoroi.gr/leitourgia/akoloythia-toy-niptiros-2/
LOCATION:Ιερός Ναός Αγίων Ισιδώρων Λυκαβηττού\, Λυκαβηττός\, Αθήνα\, Αττική\, 10210\, Greece
CATEGORIES:Ακολουθία
ORGANIZER;CN="%CE%99%CE%B5%CF%81%CF%8C%CF%82 %CE%9D%CE%B1%CF%8C%CF%82 %CE%91%CE%B3%CE%AF%CF%89%CE%BD %CE%99%CF%83%CE%B9%CE%B4%CF%8E%CF%81%CF%89%CE%BD %CE%9B%CF%85%CE%BA%CE%B1%CE%B2%CE%B7%CF%84%CF%84%CE%BF%CF%8D":MAILTO:aisidro@otenet.gr
END:VEVENT
BEGIN:VEVENT
DTSTART;TZID=Europe/Athens:20220420T180000
DTEND;TZID=Europe/Athens:20220420T190000
DTSTAMP:20260420T062010
CREATED:20220416T210124Z
LAST-MODIFIED:20220416T210320Z
UID:4464-1650477600-1650481200@www.agioi-isidoroi.gr
SUMMARY:ΑΚΟΛΟΥΘΙΑ ΤΟΥ ΙΕΡΟΥ ΕΥΧΕΛΑΙΟΥ
DESCRIPTION:+Με την ευλογία του ΤΙΜΙΟΥ ΞΥΛΟΥ
URL:https://www.agioi-isidoroi.gr/leitourgia/akoloythia-toy-ieroy-eychelaioy-3/
LOCATION:Ιερός Ναός Αγίων Ισιδώρων Λυκαβηττού\, Λυκαβηττός\, Αθήνα\, Αττική\, 10210\, Greece
CATEGORIES:Ακολουθία
ORGANIZER;CN="%CE%99%CE%B5%CF%81%CF%8C%CF%82 %CE%9D%CE%B1%CF%8C%CF%82 %CE%91%CE%B3%CE%AF%CF%89%CE%BD %CE%99%CF%83%CE%B9%CE%B4%CF%8E%CF%81%CF%89%CE%BD %CE%9B%CF%85%CE%BA%CE%B1%CE%B2%CE%B7%CF%84%CF%84%CE%BF%CF%8D":MAILTO:aisidro@otenet.gr
END:VEVENT
BEGIN:VEVENT
DTSTART;TZID=Europe/Athens:20220420T073000
DTEND;TZID=Europe/Athens:20220420T093000
DTSTAMP:20260420T062010
CREATED:20220403T123736Z
LAST-MODIFIED:20220403T123736Z
UID:4413-1650439800-1650447000@www.agioi-isidoroi.gr
SUMMARY:Μεγάλη Τετάρτη - Εν η μνείαν ποιούμεθα της αλειψάσης τον Κύριον μύρω
DESCRIPTION:Προηγιασμένη Θεία Λειτουργία\, \n  \n 
URL:https://www.agioi-isidoroi.gr/leitourgia/megali-tetarti-en-i-mneian-poioymetha-tis-aleipsasis-ton-kyrion-myro/
LOCATION:Ιερός Ναός Αγίων Ισιδώρων Λυκαβηττού\, Λυκαβηττός\, Αθήνα\, Αττική\, 10210\, Greece
CATEGORIES:Προηγιασμένη Θεία Λειτουργία
ORGANIZER;CN="%CE%99%CE%B5%CF%81%CF%8C%CF%82 %CE%9D%CE%B1%CF%8C%CF%82 %CE%91%CE%B3%CE%AF%CF%89%CE%BD %CE%99%CF%83%CE%B9%CE%B4%CF%8E%CF%81%CF%89%CE%BD %CE%9B%CF%85%CE%BA%CE%B1%CE%B2%CE%B7%CF%84%CF%84%CE%BF%CF%8D":MAILTO:aisidro@otenet.gr
END:VEVENT
BEGIN:VEVENT
DTSTART;TZID=Europe/Athens:20220419T193000
DTEND;TZID=Europe/Athens:20220419T213000
DTSTAMP:20260420T062010
CREATED:20220403T123447Z
LAST-MODIFIED:20220403T123447Z
UID:4411-1650396600-1650403800@www.agioi-isidoroi.gr
SUMMARY:Ακολουθία του Νυμφίου Χριστού
DESCRIPTION:(Το Τροπάριο της Κασσιανής)\n«Ότε η αμαρτωλός προσέφερε το μύρον\, τότε ο μαθητής συνεφώνει τοις παρανόμοις\nη μεν έχαιρε κενούσα το πολύτιμον\, ο δε έσπευδε πωλήσαι τον ατίμητον\nαύτη τον Δεσπότην επεγίνωσκεν\, ούτος του Δεσπότου εχωρίζετο αύτη τον Δεσπότην επεγίνωσκεν\,\nούτος του Δεσπότου εχωρίζετο˙ αύτη ηλευθερούτο\, και ο Ιούδας δούλος εγεγόνει του εχθρού.\nΔεινόν η ραθυμία! Μεγάλη η μετάνοια\, ήν μοι δώρησαι\, Σωτήρ\, ο παθών υπέρ ημών\, και σώσον ημάς»
URL:https://www.agioi-isidoroi.gr/leitourgia/akoloythia-toy-nymfioy-christoy-6/
LOCATION:Ιερός Ναός Αγίων Ισιδώρων Λυκαβηττού\, Λυκαβηττός\, Αθήνα\, Αττική\, 10210\, Greece
CATEGORIES:Ακολουθία του Νυμφίου Χριστού
ORGANIZER;CN="%CE%99%CE%B5%CF%81%CF%8C%CF%82 %CE%9D%CE%B1%CF%8C%CF%82 %CE%91%CE%B3%CE%AF%CF%89%CE%BD %CE%99%CF%83%CE%B9%CE%B4%CF%8E%CF%81%CF%89%CE%BD %CE%9B%CF%85%CE%BA%CE%B1%CE%B2%CE%B7%CF%84%CF%84%CE%BF%CF%8D":MAILTO:aisidro@otenet.gr
END:VEVENT
BEGIN:VEVENT
DTSTART;TZID=Europe/Athens:20220419T073000
DTEND;TZID=Europe/Athens:20220419T093000
DTSTAMP:20260420T062010
CREATED:20220403T123349Z
LAST-MODIFIED:20220403T123349Z
UID:4409-1650353400-1650360600@www.agioi-isidoroi.gr
SUMMARY:Μεγάλη Τρίτη - Εν η μνείαν ποιούμεθα της των 10 Παρθένων
DESCRIPTION:Προηγιασμένη Θεία Λειτουργία
URL:https://www.agioi-isidoroi.gr/leitourgia/megali-triti-en-i-mneian-poioymetha-tis-ton-10-parthenon/
LOCATION:Ιερός Ναός Αγίων Ισιδώρων Λυκαβηττού\, Λυκαβηττός\, Αθήνα\, Αττική\, 10210\, Greece
CATEGORIES:Προηγιασμένη Θεία Λειτουργία
ORGANIZER;CN="%CE%99%CE%B5%CF%81%CF%8C%CF%82 %CE%9D%CE%B1%CF%8C%CF%82 %CE%91%CE%B3%CE%AF%CF%89%CE%BD %CE%99%CF%83%CE%B9%CE%B4%CF%8E%CF%81%CF%89%CE%BD %CE%9B%CF%85%CE%BA%CE%B1%CE%B2%CE%B7%CF%84%CF%84%CE%BF%CF%8D":MAILTO:aisidro@otenet.gr
END:VEVENT
BEGIN:VEVENT
DTSTART;TZID=Europe/Athens:20220418T213000
DTEND;TZID=Europe/Athens:20220418T213000
DTSTAMP:20260420T062010
CREATED:20220403T123233Z
LAST-MODIFIED:20220403T123233Z
UID:4407-1650317400-1650317400@www.agioi-isidoroi.gr
SUMMARY:Ακολουθία του Νυμφίου Χριστού
DESCRIPTION:«Tον νυμφώνα σου βλέπω\, Σωτήρ μου\, κεκοσμημένον και ένδυμα ουκ έχω\,\nίνα εισέλθω εν αυτώ λάμπρυνόν μου την στολήν της ψυχής\, φωτοδότα\, και σώσον με.»
URL:https://www.agioi-isidoroi.gr/leitourgia/akoloythia-toy-nymfioy-christoy-5/
LOCATION:Ιερός Ναός Αγίων Ισιδώρων Λυκαβηττού\, Λυκαβηττός\, Αθήνα\, Αττική\, 10210\, Greece
CATEGORIES:Ακολουθία του Νυμφίου Χριστού
ORGANIZER;CN="%CE%99%CE%B5%CF%81%CF%8C%CF%82 %CE%9D%CE%B1%CF%8C%CF%82 %CE%91%CE%B3%CE%AF%CF%89%CE%BD %CE%99%CF%83%CE%B9%CE%B4%CF%8E%CF%81%CF%89%CE%BD %CE%9B%CF%85%CE%BA%CE%B1%CE%B2%CE%B7%CF%84%CF%84%CE%BF%CF%8D":MAILTO:aisidro@otenet.gr
END:VEVENT
BEGIN:VEVENT
DTSTART;TZID=Europe/Athens:20220418T073000
DTEND;TZID=Europe/Athens:20220418T093000
DTSTAMP:20260420T062010
CREATED:20220403T123028Z
LAST-MODIFIED:20220403T123028Z
UID:4405-1650267000-1650274200@www.agioi-isidoroi.gr
SUMMARY:Μεγάλη Δευτέρα - Εν η μνείαν ποιούμεθα Ιωσήφ του Παγκάλου
DESCRIPTION:Προηγιασμένη Θεία Λειτουργία
URL:https://www.agioi-isidoroi.gr/leitourgia/megali-deytera-en-i-mneian-poioymetha-iosif-toy-pagkaloy/
LOCATION:Ιερός Ναός Αγίων Ισιδώρων Λυκαβηττού\, Λυκαβηττός\, Αθήνα\, Αττική\, 10210\, Greece
CATEGORIES:Προηγιασμένη Θεία Λειτουργία
ORGANIZER;CN="%CE%99%CE%B5%CF%81%CF%8C%CF%82 %CE%9D%CE%B1%CF%8C%CF%82 %CE%91%CE%B3%CE%AF%CF%89%CE%BD %CE%99%CF%83%CE%B9%CE%B4%CF%8E%CF%81%CF%89%CE%BD %CE%9B%CF%85%CE%BA%CE%B1%CE%B2%CE%B7%CF%84%CF%84%CE%BF%CF%8D":MAILTO:aisidro@otenet.gr
END:VEVENT
BEGIN:VEVENT
DTSTART;TZID=Europe/Athens:20220417T200000
DTEND;TZID=Europe/Athens:20220417T220000
DTSTAMP:20260420T062010
CREATED:20220330T154520Z
LAST-MODIFIED:20220403T164328Z
UID:4399-1650225600-1650232800@www.agioi-isidoroi.gr
SUMMARY:Ακολουθία του Νυμφίου Χριστού
DESCRIPTION:*Περιφορά της εικόνος του Νυμφίου από τον κήπο του Ναού έως την εκκλησία.\n«Ιδού\, ο Νυμφίος έρχεται εν τω μέσω της νυκτός\, και μακάριος ο δούλος\, ον ευρήσει γρηγορούντα.\nΑνάξιος δε πάλιν ον ευρήσει ραθυμούντα. Βλέπε ούν\, ψυχή μου\, μη τω ύπνω κατενεχθείς\,\nίνα μη τω θανάτω παραδοθείς και της βασιλείας έξω κλεισθείς. Αλλά ανάνηψον κράζουσα·\nΆγιος\, Άγιος\, Άγιος ει ο Θεός ημών\, διά της Θεοτόκου ελέησον ημάς».
URL:https://www.agioi-isidoroi.gr/leitourgia/akoloythia-toy-nymfioy-christoy-4/
LOCATION:Ιερός Ναός Αγίων Ισιδώρων Λυκαβηττού\, Λυκαβηττός\, Αθήνα\, Αττική\, 10210\, Greece
CATEGORIES:Ακολουθία του Νυμφίου Χριστού
ORGANIZER;CN="%CE%99%CE%B5%CF%81%CF%8C%CF%82 %CE%9D%CE%B1%CF%8C%CF%82 %CE%91%CE%B3%CE%AF%CF%89%CE%BD %CE%99%CF%83%CE%B9%CE%B4%CF%8E%CF%81%CF%89%CE%BD %CE%9B%CF%85%CE%BA%CE%B1%CE%B2%CE%B7%CF%84%CF%84%CE%BF%CF%8D":MAILTO:aisidro@otenet.gr
END:VEVENT
BEGIN:VEVENT
DTSTART;TZID=Europe/Athens:20220417T073000
DTEND;TZID=Europe/Athens:20220417T113000
DTSTAMP:20260420T062010
CREATED:20220330T153126Z
LAST-MODIFIED:20220330T153126Z
UID:4397-1650180600-1650195000@www.agioi-isidoroi.gr
SUMMARY:ΤΩΝ ΒΑΙΩΝ
DESCRIPTION:+Η εις Ιερουσαλήμ είσοδος του Κυρίου ημών Ιησού Χριστού \nΌρθρος & Πανηγυρική Θεία Λειτουργία \nΣήμερον ο Χριστός εισέρχεται εν πόλει τη Αγία εν πώλω καθήμενος…
URL:https://www.agioi-isidoroi.gr/leitourgia/ton-vaion-2/
LOCATION:Ιερός Ναός Αγίων Ισιδώρων Λυκαβηττού\, Λυκαβηττός\, Αθήνα\, Αττική\, 10210\, Greece
CATEGORIES:Όρθρος Και Θεία Λειτουργία
ORGANIZER;CN="%CE%99%CE%B5%CF%81%CF%8C%CF%82 %CE%9D%CE%B1%CF%8C%CF%82 %CE%91%CE%B3%CE%AF%CF%89%CE%BD %CE%99%CF%83%CE%B9%CE%B4%CF%8E%CF%81%CF%89%CE%BD %CE%9B%CF%85%CE%BA%CE%B1%CE%B2%CE%B7%CF%84%CF%84%CE%BF%CF%8D":MAILTO:aisidro@otenet.gr
END:VEVENT
BEGIN:VEVENT
DTSTART;TZID=Europe/Athens:20220416T183000
DTEND;TZID=Europe/Athens:20220416T193000
DTSTAMP:20260420T062010
CREATED:20220330T153006Z
LAST-MODIFIED:20220330T153006Z
UID:4395-1650133800-1650137400@www.agioi-isidoroi.gr
SUMMARY:Εσπερινός των Βαΐων
DESCRIPTION:
URL:https://www.agioi-isidoroi.gr/leitourgia/esperinos-ton-va-on-2/
LOCATION:Ιερός Ναός Αγίων Ισιδώρων Λυκαβηττού\, Λυκαβηττός\, Αθήνα\, Αττική\, 10210\, Greece
CATEGORIES:Εσπερινός των Βαΐων
ORGANIZER;CN="%CE%99%CE%B5%CF%81%CF%8C%CF%82 %CE%9D%CE%B1%CF%8C%CF%82 %CE%91%CE%B3%CE%AF%CF%89%CE%BD %CE%99%CF%83%CE%B9%CE%B4%CF%8E%CF%81%CF%89%CE%BD %CE%9B%CF%85%CE%BA%CE%B1%CE%B2%CE%B7%CF%84%CF%84%CE%BF%CF%8D":MAILTO:aisidro@otenet.gr
END:VEVENT
BEGIN:VEVENT
DTSTART;TZID=Europe/Athens:20220416T073000
DTEND;TZID=Europe/Athens:20220416T093000
DTSTAMP:20260420T062010
CREATED:20220330T152842Z
LAST-MODIFIED:20220330T152842Z
UID:4393-1650094200-1650101400@www.agioi-isidoroi.gr
SUMMARY:Η Ανάσταση του Λαζάρου
DESCRIPTION:Όρθρος & Θεία Λειτουργία
URL:https://www.agioi-isidoroi.gr/leitourgia/i-anastasi-toy-lazaroy-2/
LOCATION:Ιερός Ναός Αγίων Ισιδώρων Λυκαβηττού\, Λυκαβηττός\, Αθήνα\, Αττική\, 10210\, Greece
CATEGORIES:Όρθρος Και Θεία Λειτουργία
ORGANIZER;CN="%CE%99%CE%B5%CF%81%CF%8C%CF%82 %CE%9D%CE%B1%CF%8C%CF%82 %CE%91%CE%B3%CE%AF%CF%89%CE%BD %CE%99%CF%83%CE%B9%CE%B4%CF%8E%CF%81%CF%89%CE%BD %CE%9B%CF%85%CE%BA%CE%B1%CE%B2%CE%B7%CF%84%CF%84%CE%BF%CF%8D":MAILTO:aisidro@otenet.gr
END:VEVENT
BEGIN:VEVENT
DTSTART;TZID=Europe/Athens:20220415T183000
DTEND;TZID=Europe/Athens:20220415T193000
DTSTAMP:20260420T062010
CREATED:20220330T152752Z
LAST-MODIFIED:20220330T152752Z
UID:4391-1650047400-1650051000@www.agioi-isidoroi.gr
SUMMARY:Εσπερινός του Λαζάρου
DESCRIPTION:
URL:https://www.agioi-isidoroi.gr/leitourgia/esperinos-toy-lazaroy-2/
LOCATION:Ιερός Ναός Αγίων Ισιδώρων Λυκαβηττού\, Λυκαβηττός\, Αθήνα\, Αττική\, 10210\, Greece
CATEGORIES:Εσπερινός του Λαζάρου
ORGANIZER;CN="%CE%99%CE%B5%CF%81%CF%8C%CF%82 %CE%9D%CE%B1%CF%8C%CF%82 %CE%91%CE%B3%CE%AF%CF%89%CE%BD %CE%99%CF%83%CE%B9%CE%B4%CF%8E%CF%81%CF%89%CE%BD %CE%9B%CF%85%CE%BA%CE%B1%CE%B2%CE%B7%CF%84%CF%84%CE%BF%CF%8D":MAILTO:aisidro@otenet.gr
END:VEVENT
BEGIN:VEVENT
DTSTART;TZID=Europe/Athens:20220415T073000
DTEND;TZID=Europe/Athens:20220415T093000
DTSTAMP:20260420T062010
CREATED:20220330T152651Z
LAST-MODIFIED:20220330T152651Z
UID:4389-1650007800-1650015000@www.agioi-isidoroi.gr
SUMMARY:Αγίου Λεωνίδου επισκόπου Αθηνών
DESCRIPTION:Προηγιασμένη Θεία Λειτουργία
URL:https://www.agioi-isidoroi.gr/leitourgia/agioy-leonidoy-episkopoy-athinon/
LOCATION:Ιερός Ναός Αγίων Ισιδώρων Λυκαβηττού\, Λυκαβηττός\, Αθήνα\, Αττική\, 10210\, Greece
CATEGORIES:Θεία Λειτουργία
ORGANIZER;CN="%CE%99%CE%B5%CF%81%CF%8C%CF%82 %CE%9D%CE%B1%CF%8C%CF%82 %CE%91%CE%B3%CE%AF%CF%89%CE%BD %CE%99%CF%83%CE%B9%CE%B4%CF%8E%CF%81%CF%89%CE%BD %CE%9B%CF%85%CE%BA%CE%B1%CE%B2%CE%B7%CF%84%CF%84%CE%BF%CF%8D":MAILTO:aisidro@otenet.gr
END:VEVENT
BEGIN:VEVENT
DTSTART;TZID=Europe/Athens:20220414T073000
DTEND;TZID=Europe/Athens:20220414T093000
DTSTAMP:20260420T062010
CREATED:20220330T152600Z
LAST-MODIFIED:20220330T152600Z
UID:4387-1649921400-1649928600@www.agioi-isidoroi.gr
SUMMARY:Νεομάρτυρος Δημητρίου αθλήσαντος εν Τριπόλει (+1803)
DESCRIPTION:Προηγιασμένη Θεία Λειτουργία
URL:https://www.agioi-isidoroi.gr/leitourgia/neomartyros-dimitrioy-athlisantos-en-tripolei-1803/
LOCATION:Ιερός Ναός Αγίων Ισιδώρων Λυκαβηττού\, Λυκαβηττός\, Αθήνα\, Αττική\, 10210\, Greece
CATEGORIES:Θεία Λειτουργία
ORGANIZER;CN="%CE%99%CE%B5%CF%81%CF%8C%CF%82 %CE%9D%CE%B1%CF%8C%CF%82 %CE%91%CE%B3%CE%AF%CF%89%CE%BD %CE%99%CF%83%CE%B9%CE%B4%CF%8E%CF%81%CF%89%CE%BD %CE%9B%CF%85%CE%BA%CE%B1%CE%B2%CE%B7%CF%84%CF%84%CE%BF%CF%8D":MAILTO:aisidro@otenet.gr
END:VEVENT
BEGIN:VEVENT
DTSTART;TZID=Europe/Athens:20220413T073000
DTEND;TZID=Europe/Athens:20220413T093000
DTSTAMP:20260420T062010
CREATED:20220330T152517Z
LAST-MODIFIED:20220330T152517Z
UID:4385-1649835000-1649842200@www.agioi-isidoroi.gr
SUMMARY:Αγίου Μαρτίνου Πάπα Ρώμης (+655)
DESCRIPTION:Προηγιασμένη Θεία Λειτουργία
URL:https://www.agioi-isidoroi.gr/leitourgia/agioy-martinoy-papa-romis-655/
LOCATION:Ιερός Ναός Αγίων Ισιδώρων Λυκαβηττού\, Λυκαβηττός\, Αθήνα\, Αττική\, 10210\, Greece
CATEGORIES:Θεία Λειτουργία
ORGANIZER;CN="%CE%99%CE%B5%CF%81%CF%8C%CF%82 %CE%9D%CE%B1%CF%8C%CF%82 %CE%91%CE%B3%CE%AF%CF%89%CE%BD %CE%99%CF%83%CE%B9%CE%B4%CF%8E%CF%81%CF%89%CE%BD %CE%9B%CF%85%CE%BA%CE%B1%CE%B2%CE%B7%CF%84%CF%84%CE%BF%CF%8D":MAILTO:aisidro@otenet.gr
END:VEVENT
BEGIN:VEVENT
DTSTART;TZID=Europe/Athens:20220412T073000
DTEND;TZID=Europe/Athens:20220412T093000
DTSTAMP:20260420T062010
CREATED:20220330T152435Z
LAST-MODIFIED:20220330T152435Z
UID:4383-1649748600-1649755800@www.agioi-isidoroi.gr
SUMMARY:Οσίου Νεοφύτου του εγκλείστου
DESCRIPTION:Προηγιασμένη Θεία Λειτουργία
URL:https://www.agioi-isidoroi.gr/leitourgia/osioy-neofytoy-toy-egkleistoy/
LOCATION:Ιερός Ναός Αγίων Ισιδώρων Λυκαβηττού\, Λυκαβηττός\, Αθήνα\, Αττική\, 10210\, Greece
CATEGORIES:Θεία Λειτουργία
ORGANIZER;CN="%CE%99%CE%B5%CF%81%CF%8C%CF%82 %CE%9D%CE%B1%CF%8C%CF%82 %CE%91%CE%B3%CE%AF%CF%89%CE%BD %CE%99%CF%83%CE%B9%CE%B4%CF%8E%CF%81%CF%89%CE%BD %CE%9B%CF%85%CE%BA%CE%B1%CE%B2%CE%B7%CF%84%CF%84%CE%BF%CF%8D":MAILTO:aisidro@otenet.gr
END:VEVENT
BEGIN:VEVENT
DTSTART;TZID=Europe/Athens:20220411T073000
DTEND;TZID=Europe/Athens:20220411T093000
DTSTAMP:20260420T062010
CREATED:20220330T152348Z
LAST-MODIFIED:20220330T152348Z
UID:4381-1649662200-1649669400@www.agioi-isidoroi.gr
SUMMARY:Αγίου Αντύπα επισκόπου Περγάμου (+92)
DESCRIPTION:Προηγιασμένη Θεία Λειτουργία
URL:https://www.agioi-isidoroi.gr/leitourgia/agioy-antypa-episkopoy-pergamoy-92/
LOCATION:Ιερός Ναός Αγίων Ισιδώρων Λυκαβηττού\, Λυκαβηττός\, Αθήνα\, Αττική\, 10210\, Greece
CATEGORIES:Θεία Λειτουργία
ORGANIZER;CN="%CE%99%CE%B5%CF%81%CF%8C%CF%82 %CE%9D%CE%B1%CF%8C%CF%82 %CE%91%CE%B3%CE%AF%CF%89%CE%BD %CE%99%CF%83%CE%B9%CE%B4%CF%8E%CF%81%CF%89%CE%BD %CE%9B%CF%85%CE%BA%CE%B1%CE%B2%CE%B7%CF%84%CF%84%CE%BF%CF%8D":MAILTO:aisidro@otenet.gr
END:VEVENT
BEGIN:VEVENT
DTSTART;TZID=Europe/Athens:20220410T183000
DTEND;TZID=Europe/Athens:20220410T193000
DTSTAMP:20260420T062010
CREATED:20220330T151805Z
LAST-MODIFIED:20220330T151805Z
UID:4377-1649615400-1649619000@www.agioi-isidoroi.gr
SUMMARY:Κατανυκτικός εσπερινός
DESCRIPTION:
URL:https://www.agioi-isidoroi.gr/leitourgia/katanyktikos-esperinos-10/
LOCATION:Ιερός Ναός Αγίων Ισιδώρων Λυκαβηττού\, Λυκαβηττός\, Αθήνα\, Αττική\, 10210\, Greece
CATEGORIES:Εσπερινός
ORGANIZER;CN="%CE%99%CE%B5%CF%81%CF%8C%CF%82 %CE%9D%CE%B1%CF%8C%CF%82 %CE%91%CE%B3%CE%AF%CF%89%CE%BD %CE%99%CF%83%CE%B9%CE%B4%CF%8E%CF%81%CF%89%CE%BD %CE%9B%CF%85%CE%BA%CE%B1%CE%B2%CE%B7%CF%84%CF%84%CE%BF%CF%8D":MAILTO:aisidro@otenet.gr
END:VEVENT
END:VCALENDAR