BEGIN:VCALENDAR
VERSION:2.0
PRODID:-//ΙΕΡΟΣ ΝΑΟΣ ΑΓΙΩΝ ΙΣΙΔΩΡΩΝ - ECPv6.15.17.1//NONSGML v1.0//EN
CALSCALE:GREGORIAN
METHOD:PUBLISH
X-WR-CALNAME:ΙΕΡΟΣ ΝΑΟΣ ΑΓΙΩΝ ΙΣΙΔΩΡΩΝ
X-ORIGINAL-URL:https://www.agioi-isidoroi.gr
X-WR-CALDESC:Events for ΙΕΡΟΣ ΝΑΟΣ ΑΓΙΩΝ ΙΣΙΔΩΡΩΝ
REFRESH-INTERVAL;VALUE=DURATION:PT1H
X-Robots-Tag:noindex
X-PUBLISHED-TTL:PT1H
BEGIN:VTIMEZONE
TZID:Europe/Athens
BEGIN:DAYLIGHT
TZOFFSETFROM:+0200
TZOFFSETTO:+0300
TZNAME:EEST
DTSTART:20210328T010000
END:DAYLIGHT
BEGIN:STANDARD
TZOFFSETFROM:+0300
TZOFFSETTO:+0200
TZNAME:EET
DTSTART:20211031T010000
END:STANDARD
BEGIN:DAYLIGHT
TZOFFSETFROM:+0200
TZOFFSETTO:+0300
TZNAME:EEST
DTSTART:20220327T010000
END:DAYLIGHT
BEGIN:STANDARD
TZOFFSETFROM:+0300
TZOFFSETTO:+0200
TZNAME:EET
DTSTART:20221030T010000
END:STANDARD
BEGIN:DAYLIGHT
TZOFFSETFROM:+0200
TZOFFSETTO:+0300
TZNAME:EEST
DTSTART:20230326T010000
END:DAYLIGHT
BEGIN:STANDARD
TZOFFSETFROM:+0300
TZOFFSETTO:+0200
TZNAME:EET
DTSTART:20231029T010000
END:STANDARD
END:VTIMEZONE
BEGIN:VEVENT
DTSTART;TZID=Europe/Athens:20220924T073000
DTEND;TZID=Europe/Athens:20220924T093000
DTSTAMP:20260420T032855
CREATED:20220908T185248Z
LAST-MODIFIED:20220908T185248Z
UID:4904-1664004600-1664011800@www.agioi-isidoroi.gr
SUMMARY:Παναγίας Μυρτιδιωτίσσης\, Ισαπ. Θέκλης
DESCRIPTION:Όρθρος & Θεία Λειτουργία
URL:https://www.agioi-isidoroi.gr/leitourgia/panagias-myrtidiotissis-isap-theklis-2/
LOCATION:Ιερός Ναός Αγίων Ισιδώρων Λυκαβηττού\, Λυκαβηττός\, Αθήνα\, Αττική\, 10210\, Greece
CATEGORIES:Όρθρος Και Θεία Λειτουργία
ORGANIZER;CN="%CE%99%CE%B5%CF%81%CF%8C%CF%82 %CE%9D%CE%B1%CF%8C%CF%82 %CE%91%CE%B3%CE%AF%CF%89%CE%BD %CE%99%CF%83%CE%B9%CE%B4%CF%8E%CF%81%CF%89%CE%BD %CE%9B%CF%85%CE%BA%CE%B1%CE%B2%CE%B7%CF%84%CF%84%CE%BF%CF%8D":MAILTO:aisidro@otenet.gr
END:VEVENT
BEGIN:VEVENT
DTSTART;TZID=Europe/Athens:20220925T073000
DTEND;TZID=Europe/Athens:20220925T113000
DTSTAMP:20260420T032855
CREATED:20220908T185327Z
LAST-MODIFIED:20220908T185327Z
UID:4906-1664091000-1664105400@www.agioi-isidoroi.gr
SUMMARY:Α’ ΛΟΥΚΑ\, Αγίας Ευφροσύνης
DESCRIPTION:Όρθρος & Θεία Λειτουργία
URL:https://www.agioi-isidoroi.gr/leitourgia/a-loyka-agias-eyfrosynis/
LOCATION:Ιερός Ναός Αγίων Ισιδώρων Λυκαβηττού\, Λυκαβηττός\, Αθήνα\, Αττική\, 10210\, Greece
CATEGORIES:Όρθρος Και Θεία Λειτουργία
ORGANIZER;CN="%CE%99%CE%B5%CF%81%CF%8C%CF%82 %CE%9D%CE%B1%CF%8C%CF%82 %CE%91%CE%B3%CE%AF%CF%89%CE%BD %CE%99%CF%83%CE%B9%CE%B4%CF%8E%CF%81%CF%89%CE%BD %CE%9B%CF%85%CE%BA%CE%B1%CE%B2%CE%B7%CF%84%CF%84%CE%BF%CF%8D":MAILTO:aisidro@otenet.gr
END:VEVENT
BEGIN:VEVENT
DTSTART;TZID=Europe/Athens:20220926T073000
DTEND;TZID=Europe/Athens:20220926T093000
DTSTAMP:20260420T032855
CREATED:20220908T185421Z
LAST-MODIFIED:20220908T185421Z
UID:4908-1664177400-1664184600@www.agioi-isidoroi.gr
SUMMARY:Η μετάσταση Αγίου Ιωάννου του Θεολόγου
DESCRIPTION:Όρθρος & Θεία Λειτουργία \nΙΕΡΑ ΠΑΝΗΓΥΡΙΣ ΤΗΣ ΣΥΝΑΞΕΩΣ\nΤΩΝ ΑΓΙΩΝ ΙΣΙΔΩΡΩΝ ΠΗΛΟΥΣΙΩΤΟΥ & ΧΙΟΠΟΛΙΤΟΥ\nΤΡΙΤΗ 27 ΣΕΠΤΕΜΒΡΙΟΥ 2022\n«Ισιδώρων δυάδα την αγιόλεκτον εγκωμιάσωμεν πόθῳ Λυκαβηττού εν δρυμοίς\nκαι αυτών σεπτήν εικόνα προσκυνήσωμεν κράζοντες· Χίου αριστεύ και του όρους οικιστά\nφωσφόρε του Πηλουσίου\, άμφω πιστούς οὐρανόθεν ἐπευλογεῖτε καὶ στηρίζετε».
URL:https://www.agioi-isidoroi.gr/leitourgia/i-metastasi-agioy-ioannoy-toy-theologoy-2/
LOCATION:Ιερός Ναός Αγίων Ισιδώρων Λυκαβηττού\, Λυκαβηττός\, Αθήνα\, Αττική\, 10210\, Greece
CATEGORIES:Όρθρος Και Θεία Λειτουργία
ORGANIZER;CN="%CE%99%CE%B5%CF%81%CF%8C%CF%82 %CE%9D%CE%B1%CF%8C%CF%82 %CE%91%CE%B3%CE%AF%CF%89%CE%BD %CE%99%CF%83%CE%B9%CE%B4%CF%8E%CF%81%CF%89%CE%BD %CE%9B%CF%85%CE%BA%CE%B1%CE%B2%CE%B7%CF%84%CF%84%CE%BF%CF%8D":MAILTO:aisidro@otenet.gr
END:VEVENT
BEGIN:VEVENT
DTSTART;TZID=Europe/Athens:20220926T190000
DTEND;TZID=Europe/Athens:20220926T200000
DTSTAMP:20260420T032855
CREATED:20220908T185523Z
LAST-MODIFIED:20220908T185523Z
UID:4910-1664218800-1664222400@www.agioi-isidoroi.gr
SUMMARY:ΜΕΓΑΣ ΠΑΝΗΓΥΡΙΚΟΣ ΕΣΠΕΡΙΝΟΣ
DESCRIPTION:ΙΕΡΑ ΑΓΡΥΠΝΙΑ [10 μ.μ.]
URL:https://www.agioi-isidoroi.gr/leitourgia/megas-panigyrikos-esperinos-7/
LOCATION:Ιερός Ναός Αγίων Ισιδώρων Λυκαβηττού\, Λυκαβηττός\, Αθήνα\, Αττική\, 10210\, Greece
CATEGORIES:Εσπερινός,Ιερά Αγρυπνία
ORGANIZER;CN="%CE%99%CE%B5%CF%81%CF%8C%CF%82 %CE%9D%CE%B1%CF%8C%CF%82 %CE%91%CE%B3%CE%AF%CF%89%CE%BD %CE%99%CF%83%CE%B9%CE%B4%CF%8E%CF%81%CF%89%CE%BD %CE%9B%CF%85%CE%BA%CE%B1%CE%B2%CE%B7%CF%84%CF%84%CE%BF%CF%8D":MAILTO:aisidro@otenet.gr
END:VEVENT
BEGIN:VEVENT
DTSTART;TZID=Europe/Athens:20220927T073000
DTEND;TZID=Europe/Athens:20220927T093000
DTSTAMP:20260420T032855
CREATED:20220908T185602Z
LAST-MODIFIED:20220908T185602Z
UID:4912-1664263800-1664271000@www.agioi-isidoroi.gr
SUMMARY:Η ΣΥΝΑΞΙΣ ΤΩΝ ΑΓΙΩΝ ΙΣΙΔΩΡΩΝ
DESCRIPTION:ΟΡΘΡΟΣ & ΠΑΝΗΓΥΡΙΚΗ ΘΕΙΑ ΛΕΙΤΟΥΡΓΙΑ
URL:https://www.agioi-isidoroi.gr/leitourgia/i-synaxis-ton-agion-isidoron/
LOCATION:Ιερός Ναός Αγίων Ισιδώρων Λυκαβηττού\, Λυκαβηττός\, Αθήνα\, Αττική\, 10210\, Greece
CATEGORIES:Όρθρος Και Θεία Λειτουργία
ORGANIZER;CN="%CE%99%CE%B5%CF%81%CF%8C%CF%82 %CE%9D%CE%B1%CF%8C%CF%82 %CE%91%CE%B3%CE%AF%CF%89%CE%BD %CE%99%CF%83%CE%B9%CE%B4%CF%8E%CF%81%CF%89%CE%BD %CE%9B%CF%85%CE%BA%CE%B1%CE%B2%CE%B7%CF%84%CF%84%CE%BF%CF%8D":MAILTO:aisidro@otenet.gr
END:VEVENT
BEGIN:VEVENT
DTSTART;TZID=Europe/Athens:20220927T190000
DTEND;TZID=Europe/Athens:20220927T200000
DTSTAMP:20260420T032855
CREATED:20220908T185656Z
LAST-MODIFIED:20220908T185656Z
UID:4914-1664305200-1664308800@www.agioi-isidoroi.gr
SUMMARY:ΜΕΘΕΟΡΤΟΣ ΕΣΠΕΡΙΝΟΣ
DESCRIPTION:ΛΙΤΑΝΕΙΑ ΙΕΡΑΣ ΕΙΚΟΝΟΣ ΤΩΝ ΑΓΙΩΝ ΙΣΙΔΩΡΩΝ\, \nΟ ΠΑΡΑΚΛΗΤΙΚΟΣ ΚΑΝΟΝΑΣ ΤΩΝ ΑΓΙΩΝ
URL:https://www.agioi-isidoroi.gr/leitourgia/metheortos-esperinos-2/
LOCATION:Ιερός Ναός Αγίων Ισιδώρων Λυκαβηττού\, Λυκαβηττός\, Αθήνα\, Αττική\, 10210\, Greece
CATEGORIES:Εσπερινός,Λιτανεία
ORGANIZER;CN="%CE%99%CE%B5%CF%81%CF%8C%CF%82 %CE%9D%CE%B1%CF%8C%CF%82 %CE%91%CE%B3%CE%AF%CF%89%CE%BD %CE%99%CF%83%CE%B9%CE%B4%CF%8E%CF%81%CF%89%CE%BD %CE%9B%CF%85%CE%BA%CE%B1%CE%B2%CE%B7%CF%84%CF%84%CE%BF%CF%8D":MAILTO:aisidro@otenet.gr
END:VEVENT
BEGIN:VEVENT
DTSTART;TZID=Europe/Athens:20220928T073000
DTEND;TZID=Europe/Athens:20220928T093000
DTSTAMP:20260420T032855
CREATED:20220908T185733Z
LAST-MODIFIED:20220908T185733Z
UID:4916-1664350200-1664357400@www.agioi-isidoroi.gr
SUMMARY:Χαρίτωνος του ομολογητού
DESCRIPTION:Όρθρος & Θεία Λειτουργία
URL:https://www.agioi-isidoroi.gr/leitourgia/charitonos-toy-omologitoy-2/
LOCATION:Ιερός Ναός Αγίων Ισιδώρων Λυκαβηττού\, Λυκαβηττός\, Αθήνα\, Αττική\, 10210\, Greece
CATEGORIES:Όρθρος Και Θεία Λειτουργία
ORGANIZER;CN="%CE%99%CE%B5%CF%81%CF%8C%CF%82 %CE%9D%CE%B1%CF%8C%CF%82 %CE%91%CE%B3%CE%AF%CF%89%CE%BD %CE%99%CF%83%CE%B9%CE%B4%CF%8E%CF%81%CF%89%CE%BD %CE%9B%CF%85%CE%BA%CE%B1%CE%B2%CE%B7%CF%84%CF%84%CE%BF%CF%8D":MAILTO:aisidro@otenet.gr
END:VEVENT
BEGIN:VEVENT
DTSTART;TZID=Europe/Athens:20220929T073000
DTEND;TZID=Europe/Athens:20220929T093000
DTSTAMP:20260420T032855
CREATED:20220908T185822Z
LAST-MODIFIED:20220908T185822Z
UID:4918-1664436600-1664443800@www.agioi-isidoroi.gr
SUMMARY:Κυριακού του Αναχωρητού
DESCRIPTION:Ευχαριστήριος Θεία Λειτουργία προς τιμή των Αγίων & θαυματουργών Ισιδώρων \nΌρθρος & Θεία Λειτουργία
URL:https://www.agioi-isidoroi.gr/leitourgia/kyriakoy-toy-anachoritoy/
LOCATION:Ιερός Ναός Αγίων Ισιδώρων Λυκαβηττού\, Λυκαβηττός\, Αθήνα\, Αττική\, 10210\, Greece
CATEGORIES:Όρθρος Και Θεία Λειτουργία
ORGANIZER;CN="%CE%99%CE%B5%CF%81%CF%8C%CF%82 %CE%9D%CE%B1%CF%8C%CF%82 %CE%91%CE%B3%CE%AF%CF%89%CE%BD %CE%99%CF%83%CE%B9%CE%B4%CF%8E%CF%81%CF%89%CE%BD %CE%9B%CF%85%CE%BA%CE%B1%CE%B2%CE%B7%CF%84%CF%84%CE%BF%CF%8D":MAILTO:aisidro@otenet.gr
END:VEVENT
BEGIN:VEVENT
DTSTART;TZID=Europe/Athens:20220930T073000
DTEND;TZID=Europe/Athens:20220930T093000
DTSTAMP:20260420T032855
CREATED:20220908T185905Z
LAST-MODIFIED:20220908T185905Z
UID:4920-1664523000-1664530200@www.agioi-isidoroi.gr
SUMMARY:Αγίου Γρηγορίου Αρμενίας
DESCRIPTION:Όρθρος & Θεία Λειτουργία \nΙΕΡΑ ΠΑΝΗΓΥΡΙΣ ΠΑΝΑΓΙΑΣ ΤΗΣ ΓΙΑΤΡΙΣΣΑΣ – ΓΟΡΓΟΥΠΗΚΟΟΥ\nΣΑΒΒΑΤΟ 1 ΟΚΤΩΒΡΙΟΥ 2022
URL:https://www.agioi-isidoroi.gr/leitourgia/agioy-grigorioy-armenias/
LOCATION:Ιερός Ναός Αγίων Ισιδώρων Λυκαβηττού\, Λυκαβηττός\, Αθήνα\, Αττική\, 10210\, Greece
CATEGORIES:Όρθρος Και Θεία Λειτουργία
ORGANIZER;CN="%CE%99%CE%B5%CF%81%CF%8C%CF%82 %CE%9D%CE%B1%CF%8C%CF%82 %CE%91%CE%B3%CE%AF%CF%89%CE%BD %CE%99%CF%83%CE%B9%CE%B4%CF%8E%CF%81%CF%89%CE%BD %CE%9B%CF%85%CE%BA%CE%B1%CE%B2%CE%B7%CF%84%CF%84%CE%BF%CF%8D":MAILTO:aisidro@otenet.gr
END:VEVENT
BEGIN:VEVENT
DTSTART;TZID=Europe/Athens:20220930T183000
DTEND;TZID=Europe/Athens:20220930T193000
DTSTAMP:20260420T032855
CREATED:20220908T185944Z
LAST-MODIFIED:20220908T185944Z
UID:4922-1664562600-1664566200@www.agioi-isidoroi.gr
SUMMARY:Πανηγυρικός Εσπερινός
DESCRIPTION:
URL:https://www.agioi-isidoroi.gr/leitourgia/panigyrikos-esperinos-28/
LOCATION:Ιερός Ναός Αγίων Ισιδώρων Λυκαβηττού\, Λυκαβηττός\, Αθήνα\, Αττική\, 10210\, Greece
CATEGORIES:Εσπερινός
ORGANIZER;CN="%CE%99%CE%B5%CF%81%CF%8C%CF%82 %CE%9D%CE%B1%CF%8C%CF%82 %CE%91%CE%B3%CE%AF%CF%89%CE%BD %CE%99%CF%83%CE%B9%CE%B4%CF%8E%CF%81%CF%89%CE%BD %CE%9B%CF%85%CE%BA%CE%B1%CE%B2%CE%B7%CF%84%CF%84%CE%BF%CF%8D":MAILTO:aisidro@otenet.gr
END:VEVENT
BEGIN:VEVENT
DTSTART;TZID=Europe/Athens:20221001T073000
DTEND;TZID=Europe/Athens:20221001T093000
DTSTAMP:20260420T032855
CREATED:20220908T190024Z
LAST-MODIFIED:20220908T190024Z
UID:4924-1664609400-1664616600@www.agioi-isidoroi.gr
SUMMARY:Παναγίας της Γοργουπηκόου
DESCRIPTION:Όρθρος & Πανηγυρική Θεία Λειτουργία
URL:https://www.agioi-isidoroi.gr/leitourgia/panagias-tis-gorgoypikooy/
LOCATION:Ιερός Ναός Αγίων Ισιδώρων Λυκαβηττού\, Λυκαβηττός\, Αθήνα\, Αττική\, 10210\, Greece
CATEGORIES:Όρθρος Και Θεία Λειτουργία
ORGANIZER;CN="%CE%99%CE%B5%CF%81%CF%8C%CF%82 %CE%9D%CE%B1%CF%8C%CF%82 %CE%91%CE%B3%CE%AF%CF%89%CE%BD %CE%99%CF%83%CE%B9%CE%B4%CF%8E%CF%81%CF%89%CE%BD %CE%9B%CF%85%CE%BA%CE%B1%CE%B2%CE%B7%CF%84%CF%84%CE%BF%CF%8D":MAILTO:aisidro@otenet.gr
END:VEVENT
BEGIN:VEVENT
DTSTART;TZID=Europe/Athens:20221001T183000
DTEND;TZID=Europe/Athens:20221001T193000
DTSTAMP:20260420T032855
CREATED:20220908T190102Z
LAST-MODIFIED:20220928T151735Z
UID:4926-1664649000-1664652600@www.agioi-isidoroi.gr
SUMMARY:Αναστάσιμος Εσπερινός & η Παράκληση στην Παναγία
DESCRIPTION:
URL:https://www.agioi-isidoroi.gr/leitourgia/metheortos-esperinos-amp-i-paraklisi-stin-panagia-2/
LOCATION:Ιερός Ναός Αγίων Ισιδώρων Λυκαβηττού\, Λυκαβηττός\, Αθήνα\, Αττική\, 10210\, Greece
CATEGORIES:Εσπερινός & Παράκληση
ORGANIZER;CN="%CE%99%CE%B5%CF%81%CF%8C%CF%82 %CE%9D%CE%B1%CF%8C%CF%82 %CE%91%CE%B3%CE%AF%CF%89%CE%BD %CE%99%CF%83%CE%B9%CE%B4%CF%8E%CF%81%CF%89%CE%BD %CE%9B%CF%85%CE%BA%CE%B1%CE%B2%CE%B7%CF%84%CF%84%CE%BF%CF%8D":MAILTO:aisidro@otenet.gr
END:VEVENT
BEGIN:VEVENT
DTSTART;TZID=Europe/Athens:20221002T073000
DTEND;TZID=Europe/Athens:20221002T113000
DTSTAMP:20260420T032855
CREATED:20220928T151503Z
LAST-MODIFIED:20220928T151503Z
UID:4934-1664695800-1664710200@www.agioi-isidoroi.gr
SUMMARY:Β’ ΛΟΥΚΑ\, Αγίων Κυπριανού & Ιουστίνης
DESCRIPTION:Όρθρος και Θεία Λειτουργία
URL:https://www.agioi-isidoroi.gr/leitourgia/v-loyka-agion-kyprianoy-amp-ioystinis/
LOCATION:Ιερός Ναός Αγίων Ισιδώρων Λυκαβηττού\, Λυκαβηττός\, Αθήνα\, Αττική\, 10210\, Greece
CATEGORIES:Όρθρος Και Θεία Λειτουργία
ORGANIZER;CN="%CE%99%CE%B5%CF%81%CF%8C%CF%82 %CE%9D%CE%B1%CF%8C%CF%82 %CE%91%CE%B3%CE%AF%CF%89%CE%BD %CE%99%CF%83%CE%B9%CE%B4%CF%8E%CF%81%CF%89%CE%BD %CE%9B%CF%85%CE%BA%CE%B1%CE%B2%CE%B7%CF%84%CF%84%CE%BF%CF%8D":MAILTO:aisidro@otenet.gr
END:VEVENT
BEGIN:VEVENT
DTSTART;TZID=Europe/Athens:20221003T073000
DTEND;TZID=Europe/Athens:20221003T093000
DTSTAMP:20260420T032855
CREATED:20220928T151647Z
LAST-MODIFIED:20220928T151647Z
UID:4936-1664782200-1664789400@www.agioi-isidoroi.gr
SUMMARY:Αγίου Διονυσίου του Αεροπαγίτου
DESCRIPTION:Όρθρος και Θεία Λειτουργία
URL:https://www.agioi-isidoroi.gr/leitourgia/agioy-dionysioy-toy-aeropagitoy/
LOCATION:Ιερός Ναός Αγίων Ισιδώρων Λυκαβηττού\, Λυκαβηττός\, Αθήνα\, Αττική\, 10210\, Greece
CATEGORIES:Όρθρος Και Θεία Λειτουργία
ORGANIZER;CN="%CE%99%CE%B5%CF%81%CF%8C%CF%82 %CE%9D%CE%B1%CF%8C%CF%82 %CE%91%CE%B3%CE%AF%CF%89%CE%BD %CE%99%CF%83%CE%B9%CE%B4%CF%8E%CF%81%CF%89%CE%BD %CE%9B%CF%85%CE%BA%CE%B1%CE%B2%CE%B7%CF%84%CF%84%CE%BF%CF%8D":MAILTO:aisidro@otenet.gr
END:VEVENT
BEGIN:VEVENT
DTSTART;TZID=Europe/Athens:20221004T073000
DTEND;TZID=Europe/Athens:20221004T093000
DTSTAMP:20260420T032855
CREATED:20220928T151847Z
LAST-MODIFIED:20220928T151847Z
UID:4939-1664868600-1664875800@www.agioi-isidoroi.gr
SUMMARY:Αγίου Ιεροθέου Αθηνών
DESCRIPTION:Όρθρος και Θεία Λειτουργία
URL:https://www.agioi-isidoroi.gr/leitourgia/agioy-ierotheoy-athinon/
LOCATION:Ιερός Ναός Αγίων Ισιδώρων Λυκαβηττού\, Λυκαβηττός\, Αθήνα\, Αττική\, 10210\, Greece
CATEGORIES:Όρθρος Και Θεία Λειτουργία
ORGANIZER;CN="%CE%99%CE%B5%CF%81%CF%8C%CF%82 %CE%9D%CE%B1%CF%8C%CF%82 %CE%91%CE%B3%CE%AF%CF%89%CE%BD %CE%99%CF%83%CE%B9%CE%B4%CF%8E%CF%81%CF%89%CE%BD %CE%9B%CF%85%CE%BA%CE%B1%CE%B2%CE%B7%CF%84%CF%84%CE%BF%CF%8D":MAILTO:aisidro@otenet.gr
END:VEVENT
BEGIN:VEVENT
DTSTART;TZID=Europe/Athens:20221005T073000
DTEND;TZID=Europe/Athens:20221005T093000
DTSTAMP:20260420T032855
CREATED:20220929T160037Z
LAST-MODIFIED:20220929T160037Z
UID:4942-1664955000-1664962200@www.agioi-isidoroi.gr
SUMMARY:Αγίας Χαριτίνης
DESCRIPTION:Όρθρος και Θεία Λειτουργία
URL:https://www.agioi-isidoroi.gr/leitourgia/agias-charitinis-2/
LOCATION:Ιερός Ναός Αγίων Ισιδώρων Λυκαβηττού\, Λυκαβηττός\, Αθήνα\, Αττική\, 10210\, Greece
CATEGORIES:Όρθρος Και Θεία Λειτουργία
ORGANIZER;CN="%CE%99%CE%B5%CF%81%CF%8C%CF%82 %CE%9D%CE%B1%CF%8C%CF%82 %CE%91%CE%B3%CE%AF%CF%89%CE%BD %CE%99%CF%83%CE%B9%CE%B4%CF%8E%CF%81%CF%89%CE%BD %CE%9B%CF%85%CE%BA%CE%B1%CE%B2%CE%B7%CF%84%CF%84%CE%BF%CF%8D":MAILTO:aisidro@otenet.gr
END:VEVENT
BEGIN:VEVENT
DTSTART;TZID=Europe/Athens:20221006T073000
DTEND;TZID=Europe/Athens:20221006T093000
DTSTAMP:20260420T032855
CREATED:20220929T160130Z
LAST-MODIFIED:20220929T160130Z
UID:4944-1665041400-1665048600@www.agioi-isidoroi.gr
SUMMARY:Αποστόλου Θωμά
DESCRIPTION:Όρθρος και Θεία Λειτουργία
URL:https://www.agioi-isidoroi.gr/leitourgia/apostoloy-thoma-2/
LOCATION:Ιερός Ναός Αγίων Ισιδώρων Λυκαβηττού\, Λυκαβηττός\, Αθήνα\, Αττική\, 10210\, Greece
CATEGORIES:Όρθρος Και Θεία Λειτουργία
ORGANIZER;CN="%CE%99%CE%B5%CF%81%CF%8C%CF%82 %CE%9D%CE%B1%CF%8C%CF%82 %CE%91%CE%B3%CE%AF%CF%89%CE%BD %CE%99%CF%83%CE%B9%CE%B4%CF%8E%CF%81%CF%89%CE%BD %CE%9B%CF%85%CE%BA%CE%B1%CE%B2%CE%B7%CF%84%CF%84%CE%BF%CF%8D":MAILTO:aisidro@otenet.gr
END:VEVENT
BEGIN:VEVENT
DTSTART;TZID=Europe/Athens:20221007T073000
DTEND;TZID=Europe/Athens:20221007T093000
DTSTAMP:20260420T032855
CREATED:20220929T160224Z
LAST-MODIFIED:20220929T160224Z
UID:4946-1665127800-1665135000@www.agioi-isidoroi.gr
SUMMARY:Αγίων Σεργίου & Βάκχου
DESCRIPTION:Όρθρος και Θεία Λειτουργία
URL:https://www.agioi-isidoroi.gr/leitourgia/agion-sergioy-amp-vakchoy-2/
LOCATION:Ιερός Ναός Αγίων Ισιδώρων Λυκαβηττού\, Λυκαβηττός\, Αθήνα\, Αττική\, 10210\, Greece
CATEGORIES:Όρθρος Και Θεία Λειτουργία
ORGANIZER;CN="%CE%99%CE%B5%CF%81%CF%8C%CF%82 %CE%9D%CE%B1%CF%8C%CF%82 %CE%91%CE%B3%CE%AF%CF%89%CE%BD %CE%99%CF%83%CE%B9%CE%B4%CF%8E%CF%81%CF%89%CE%BD %CE%9B%CF%85%CE%BA%CE%B1%CE%B2%CE%B7%CF%84%CF%84%CE%BF%CF%8D":MAILTO:aisidro@otenet.gr
END:VEVENT
BEGIN:VEVENT
DTSTART;TZID=Europe/Athens:20221008T073000
DTEND;TZID=Europe/Athens:20221008T093000
DTSTAMP:20260420T032855
CREATED:20220929T160316Z
LAST-MODIFIED:20220929T160316Z
UID:4948-1665214200-1665221400@www.agioi-isidoroi.gr
SUMMARY:Οσίας Πελαγίας
DESCRIPTION:Όρθρος και Θεία Λειτουργία
URL:https://www.agioi-isidoroi.gr/leitourgia/osias-pelagias-2/
LOCATION:Ιερός Ναός Αγίων Ισιδώρων Λυκαβηττού\, Λυκαβηττός\, Αθήνα\, Αττική\, 10210\, Greece
CATEGORIES:Όρθρος Και Θεία Λειτουργία
ORGANIZER;CN="%CE%99%CE%B5%CF%81%CF%8C%CF%82 %CE%9D%CE%B1%CF%8C%CF%82 %CE%91%CE%B3%CE%AF%CF%89%CE%BD %CE%99%CF%83%CE%B9%CE%B4%CF%8E%CF%81%CF%89%CE%BD %CE%9B%CF%85%CE%BA%CE%B1%CE%B2%CE%B7%CF%84%CF%84%CE%BF%CF%8D":MAILTO:aisidro@otenet.gr
END:VEVENT
BEGIN:VEVENT
DTSTART;TZID=Europe/Athens:20221009T073000
DTEND;TZID=Europe/Athens:20221009T113000
DTSTAMP:20260420T032855
CREATED:20220929T160425Z
LAST-MODIFIED:20220929T160425Z
UID:4950-1665300600-1665315000@www.agioi-isidoroi.gr
SUMMARY:Γ’ ΛΟΥΚΑ\, Ιακώβου του Αποστόλου
DESCRIPTION:Όρθρος και Θεία Λειτουργία
URL:https://www.agioi-isidoroi.gr/leitourgia/g-loyka-iakovoy-toy-apostoloy/
LOCATION:Ιερός Ναός Αγίων Ισιδώρων Λυκαβηττού\, Λυκαβηττός\, Αθήνα\, Αττική\, 10210\, Greece
CATEGORIES:Όρθρος Και Θεία Λειτουργία
ORGANIZER;CN="%CE%99%CE%B5%CF%81%CF%8C%CF%82 %CE%9D%CE%B1%CF%8C%CF%82 %CE%91%CE%B3%CE%AF%CF%89%CE%BD %CE%99%CF%83%CE%B9%CE%B4%CF%8E%CF%81%CF%89%CE%BD %CE%9B%CF%85%CE%BA%CE%B1%CE%B2%CE%B7%CF%84%CF%84%CE%BF%CF%8D":MAILTO:aisidro@otenet.gr
END:VEVENT
BEGIN:VEVENT
DTSTART;TZID=Europe/Athens:20221010T073000
DTEND;TZID=Europe/Athens:20221010T093000
DTSTAMP:20260420T032855
CREATED:20220929T160657Z
LAST-MODIFIED:20220929T160657Z
UID:4952-1665387000-1665394200@www.agioi-isidoroi.gr
SUMMARY:Αγίων Ευλαμπίου & Ευλαμπίας
DESCRIPTION:Όρθρος και Θεία Λειτουργία
URL:https://www.agioi-isidoroi.gr/leitourgia/agion-eylampioy-amp-eylampias/
LOCATION:Ιερός Ναός Αγίων Ισιδώρων Λυκαβηττού\, Λυκαβηττός\, Αθήνα\, Αττική\, 10210\, Greece
CATEGORIES:Όρθρος Και Θεία Λειτουργία
ORGANIZER;CN="%CE%99%CE%B5%CF%81%CF%8C%CF%82 %CE%9D%CE%B1%CF%8C%CF%82 %CE%91%CE%B3%CE%AF%CF%89%CE%BD %CE%99%CF%83%CE%B9%CE%B4%CF%8E%CF%81%CF%89%CE%BD %CE%9B%CF%85%CE%BA%CE%B1%CE%B2%CE%B7%CF%84%CF%84%CE%BF%CF%8D":MAILTO:aisidro@otenet.gr
END:VEVENT
BEGIN:VEVENT
DTSTART;TZID=Europe/Athens:20221011T073000
DTEND;TZID=Europe/Athens:20221011T093000
DTSTAMP:20260420T032855
CREATED:20220929T160808Z
LAST-MODIFIED:20220929T160808Z
UID:4954-1665473400-1665480600@www.agioi-isidoroi.gr
SUMMARY:Φιλίππου του διακόνου
DESCRIPTION:Όρθρος και Θεία Λειτουργία
URL:https://www.agioi-isidoroi.gr/leitourgia/filippoy-toy-diakonoy/
LOCATION:Ιερός Ναός Αγίων Ισιδώρων Λυκαβηττού\, Λυκαβηττός\, Αθήνα\, Αττική\, 10210\, Greece
CATEGORIES:Όρθρος Και Θεία Λειτουργία
ORGANIZER;CN="%CE%99%CE%B5%CF%81%CF%8C%CF%82 %CE%9D%CE%B1%CF%8C%CF%82 %CE%91%CE%B3%CE%AF%CF%89%CE%BD %CE%99%CF%83%CE%B9%CE%B4%CF%8E%CF%81%CF%89%CE%BD %CE%9B%CF%85%CE%BA%CE%B1%CE%B2%CE%B7%CF%84%CF%84%CE%BF%CF%8D":MAILTO:aisidro@otenet.gr
END:VEVENT
BEGIN:VEVENT
DTSTART;TZID=Europe/Athens:20221012T073000
DTEND;TZID=Europe/Athens:20221012T093000
DTSTAMP:20260420T032855
CREATED:20220929T160857Z
LAST-MODIFIED:20220929T160857Z
UID:4956-1665559800-1665567000@www.agioi-isidoroi.gr
SUMMARY:Συμεών του Νέου Θεολόγου
DESCRIPTION:Όρθρος και Θεία Λειτουργία
URL:https://www.agioi-isidoroi.gr/leitourgia/symeon-toy-neoy-theologoy/
LOCATION:Ιερός Ναός Αγίων Ισιδώρων Λυκαβηττού\, Λυκαβηττός\, Αθήνα\, Αττική\, 10210\, Greece
CATEGORIES:Όρθρος Και Θεία Λειτουργία
ORGANIZER;CN="%CE%99%CE%B5%CF%81%CF%8C%CF%82 %CE%9D%CE%B1%CF%8C%CF%82 %CE%91%CE%B3%CE%AF%CF%89%CE%BD %CE%99%CF%83%CE%B9%CE%B4%CF%8E%CF%81%CF%89%CE%BD %CE%9B%CF%85%CE%BA%CE%B1%CE%B2%CE%B7%CF%84%CF%84%CE%BF%CF%8D":MAILTO:aisidro@otenet.gr
END:VEVENT
BEGIN:VEVENT
DTSTART;TZID=Europe/Athens:20221013T073000
DTEND;TZID=Europe/Athens:20221013T093000
DTSTAMP:20260420T032855
CREATED:20220929T160954Z
LAST-MODIFIED:20220929T160954Z
UID:4958-1665646200-1665653400@www.agioi-isidoroi.gr
SUMMARY:Αγία νεομάρτυς Χρυσή (+1795)
DESCRIPTION:Όρθρος και Θεία Λειτουργία
URL:https://www.agioi-isidoroi.gr/leitourgia/agia-neomartys-chrysi-1795/
LOCATION:Ιερός Ναός Αγίων Ισιδώρων Λυκαβηττού\, Λυκαβηττός\, Αθήνα\, Αττική\, 10210\, Greece
CATEGORIES:Όρθρος Και Θεία Λειτουργία
ORGANIZER;CN="%CE%99%CE%B5%CF%81%CF%8C%CF%82 %CE%9D%CE%B1%CF%8C%CF%82 %CE%91%CE%B3%CE%AF%CF%89%CE%BD %CE%99%CF%83%CE%B9%CE%B4%CF%8E%CF%81%CF%89%CE%BD %CE%9B%CF%85%CE%BA%CE%B1%CE%B2%CE%B7%CF%84%CF%84%CE%BF%CF%8D":MAILTO:aisidro@otenet.gr
END:VEVENT
BEGIN:VEVENT
DTSTART;TZID=Europe/Athens:20221014T073000
DTEND;TZID=Europe/Athens:20221014T093000
DTSTAMP:20260420T032855
CREATED:20220929T161033Z
LAST-MODIFIED:20220929T161033Z
UID:4960-1665732600-1665739800@www.agioi-isidoroi.gr
SUMMARY:Οσίου Κοσμά του Μελωδού (+787)
DESCRIPTION:Όρθρος και Θεία Λειτουργία
URL:https://www.agioi-isidoroi.gr/leitourgia/osioy-kosma-toy-melodoy-787/
LOCATION:Ιερός Ναός Αγίων Ισιδώρων Λυκαβηττού\, Λυκαβηττός\, Αθήνα\, Αττική\, 10210\, Greece
CATEGORIES:Όρθρος Και Θεία Λειτουργία
ORGANIZER;CN="%CE%99%CE%B5%CF%81%CF%8C%CF%82 %CE%9D%CE%B1%CF%8C%CF%82 %CE%91%CE%B3%CE%AF%CF%89%CE%BD %CE%99%CF%83%CE%B9%CE%B4%CF%8E%CF%81%CF%89%CE%BD %CE%9B%CF%85%CE%BA%CE%B1%CE%B2%CE%B7%CF%84%CF%84%CE%BF%CF%8D":MAILTO:aisidro@otenet.gr
END:VEVENT
BEGIN:VEVENT
DTSTART;TZID=Europe/Athens:20221015T073000
DTEND;TZID=Europe/Athens:20221015T093000
DTSTAMP:20260420T032855
CREATED:20220929T161132Z
LAST-MODIFIED:20220929T161132Z
UID:4962-1665819000-1665826200@www.agioi-isidoroi.gr
SUMMARY:Ιερομάρτυρος Λουκιανού
DESCRIPTION:Όρθρος και Θεία Λειτουργία
URL:https://www.agioi-isidoroi.gr/leitourgia/ieromartyros-loykianoy/
LOCATION:Ιερός Ναός Αγίων Ισιδώρων Λυκαβηττού\, Λυκαβηττός\, Αθήνα\, Αττική\, 10210\, Greece
CATEGORIES:Όρθρος Και Θεία Λειτουργία
ORGANIZER;CN="%CE%99%CE%B5%CF%81%CF%8C%CF%82 %CE%9D%CE%B1%CF%8C%CF%82 %CE%91%CE%B3%CE%AF%CF%89%CE%BD %CE%99%CF%83%CE%B9%CE%B4%CF%8E%CF%81%CF%89%CE%BD %CE%9B%CF%85%CE%BA%CE%B1%CE%B2%CE%B7%CF%84%CF%84%CE%BF%CF%8D":MAILTO:aisidro@otenet.gr
END:VEVENT
BEGIN:VEVENT
DTSTART;TZID=Europe/Athens:20221015T183000
DTEND;TZID=Europe/Athens:20221015T193000
DTSTAMP:20260420T032855
CREATED:20220929T161430Z
LAST-MODIFIED:20220929T161430Z
UID:4964-1665858600-1665862200@www.agioi-isidoroi.gr
SUMMARY:Πανηγυρικός Εσπερινός
DESCRIPTION:ΙΕΡΑ ΠΑΝΗΓΥΡΙΣ\nΤΟΥ ΑΓΙΟΥ ΛΟΓΓΙΝΟΥ ΤΟΥ ΕΚΑΤΟΝΤΑΡΧΟΥ\nΚΥΡΙΑΚΗ 16 ΟΚΤΩΒΡΙΟΥ 2022 \n 
URL:https://www.agioi-isidoroi.gr/leitourgia/panigyrikos-esperinos-29/
LOCATION:Ιερός Ναός Αγίων Ισιδώρων Λυκαβηττού\, Λυκαβηττός\, Αθήνα\, Αττική\, 10210\, Greece
CATEGORIES:Εσπερινός
ORGANIZER;CN="%CE%99%CE%B5%CF%81%CF%8C%CF%82 %CE%9D%CE%B1%CF%8C%CF%82 %CE%91%CE%B3%CE%AF%CF%89%CE%BD %CE%99%CF%83%CE%B9%CE%B4%CF%8E%CF%81%CF%89%CE%BD %CE%9B%CF%85%CE%BA%CE%B1%CE%B2%CE%B7%CF%84%CF%84%CE%BF%CF%8D":MAILTO:aisidro@otenet.gr
END:VEVENT
BEGIN:VEVENT
DTSTART;TZID=Europe/Athens:20221016T073000
DTEND;TZID=Europe/Athens:20221016T093000
DTSTAMP:20260420T032855
CREATED:20220929T161621Z
LAST-MODIFIED:20220929T161621Z
UID:4966-1665905400-1665912600@www.agioi-isidoroi.gr
SUMMARY:Ζ’ Οικ. Συνόδου\, Αγίου Λογγίνου του Εκατοντάρχου
DESCRIPTION:Όρθρος & Πανηγυρική Θεία Λειτουργία \n• Θα τεθεί σε προσκύνηση ιερό λείψανο του Αγίου Λογγίνου. \n 
URL:https://www.agioi-isidoroi.gr/leitourgia/z-oik-synodoy-agioy-logginoy-toy-ekatontarchoy/
LOCATION:Ιερός Ναός Αγίων Ισιδώρων Λυκαβηττού\, Λυκαβηττός\, Αθήνα\, Αττική\, 10210\, Greece
CATEGORIES:Όρθρος Και Θεία Λειτουργία
ORGANIZER;CN="%CE%99%CE%B5%CF%81%CF%8C%CF%82 %CE%9D%CE%B1%CF%8C%CF%82 %CE%91%CE%B3%CE%AF%CF%89%CE%BD %CE%99%CF%83%CE%B9%CE%B4%CF%8E%CF%81%CF%89%CE%BD %CE%9B%CF%85%CE%BA%CE%B1%CE%B2%CE%B7%CF%84%CF%84%CE%BF%CF%8D":MAILTO:aisidro@otenet.gr
END:VEVENT
BEGIN:VEVENT
DTSTART;TZID=Europe/Athens:20221017T073000
DTEND;TZID=Europe/Athens:20221017T093000
DTSTAMP:20260420T032855
CREATED:20220929T161705Z
LAST-MODIFIED:20220929T161705Z
UID:4968-1665991800-1665999000@www.agioi-isidoroi.gr
SUMMARY:Ανακομιδή λειψάνων Αγίου Λαζάρου
DESCRIPTION:Όρθρος και Θεία Λειτουργία
URL:https://www.agioi-isidoroi.gr/leitourgia/anakomidi-leipsanon-agioy-lazaroy/
LOCATION:Ιερός Ναός Αγίων Ισιδώρων Λυκαβηττού\, Λυκαβηττός\, Αθήνα\, Αττική\, 10210\, Greece
CATEGORIES:Όρθρος Και Θεία Λειτουργία
ORGANIZER;CN="%CE%99%CE%B5%CF%81%CF%8C%CF%82 %CE%9D%CE%B1%CF%8C%CF%82 %CE%91%CE%B3%CE%AF%CF%89%CE%BD %CE%99%CF%83%CE%B9%CE%B4%CF%8E%CF%81%CF%89%CE%BD %CE%9B%CF%85%CE%BA%CE%B1%CE%B2%CE%B7%CF%84%CF%84%CE%BF%CF%8D":MAILTO:aisidro@otenet.gr
END:VEVENT
BEGIN:VEVENT
DTSTART;TZID=Europe/Athens:20221018T073000
DTEND;TZID=Europe/Athens:20221018T093000
DTSTAMP:20260420T032855
CREATED:20220929T161829Z
LAST-MODIFIED:20220929T161829Z
UID:4970-1666078200-1666085400@www.agioi-isidoroi.gr
SUMMARY:Αγίου Λουκά του Ευαγγελιστού\, Αγίου Ισιδώρου του εν Κρήτη και των τέκνων Γεωργίου & Ειρήνης
DESCRIPTION:Όρθρος και Θεία Λειτουργία
URL:https://www.agioi-isidoroi.gr/leitourgia/agioy-loyka-toy-eyaggelistoy-agioy-isidoroy-toy-en-kriti-kai-ton-teknon-georgioy-amp-eirinis/
LOCATION:Ιερός Ναός Αγίων Ισιδώρων Λυκαβηττού\, Λυκαβηττός\, Αθήνα\, Αττική\, 10210\, Greece
CATEGORIES:Όρθρος Και Θεία Λειτουργία
ORGANIZER;CN="%CE%99%CE%B5%CF%81%CF%8C%CF%82 %CE%9D%CE%B1%CF%8C%CF%82 %CE%91%CE%B3%CE%AF%CF%89%CE%BD %CE%99%CF%83%CE%B9%CE%B4%CF%8E%CF%81%CF%89%CE%BD %CE%9B%CF%85%CE%BA%CE%B1%CE%B2%CE%B7%CF%84%CF%84%CE%BF%CF%8D":MAILTO:aisidro@otenet.gr
END:VEVENT
END:VCALENDAR