BEGIN:VCALENDAR
VERSION:2.0
PRODID:-//ΙΕΡΟΣ ΝΑΟΣ ΑΓΙΩΝ ΙΣΙΔΩΡΩΝ - ECPv6.15.17.1//NONSGML v1.0//EN
CALSCALE:GREGORIAN
METHOD:PUBLISH
X-ORIGINAL-URL:https://www.agioi-isidoroi.gr
X-WR-CALDESC:Events for ΙΕΡΟΣ ΝΑΟΣ ΑΓΙΩΝ ΙΣΙΔΩΡΩΝ
REFRESH-INTERVAL;VALUE=DURATION:PT1H
X-Robots-Tag:noindex
X-PUBLISHED-TTL:PT1H
BEGIN:VTIMEZONE
TZID:Europe/Athens
BEGIN:DAYLIGHT
TZOFFSETFROM:+0200
TZOFFSETTO:+0300
TZNAME:EEST
DTSTART:20200329T010000
END:DAYLIGHT
BEGIN:STANDARD
TZOFFSETFROM:+0300
TZOFFSETTO:+0200
TZNAME:EET
DTSTART:20201025T010000
END:STANDARD
BEGIN:DAYLIGHT
TZOFFSETFROM:+0200
TZOFFSETTO:+0300
TZNAME:EEST
DTSTART:20210328T010000
END:DAYLIGHT
BEGIN:STANDARD
TZOFFSETFROM:+0300
TZOFFSETTO:+0200
TZNAME:EET
DTSTART:20211031T010000
END:STANDARD
BEGIN:DAYLIGHT
TZOFFSETFROM:+0200
TZOFFSETTO:+0300
TZNAME:EEST
DTSTART:20220327T010000
END:DAYLIGHT
BEGIN:STANDARD
TZOFFSETFROM:+0300
TZOFFSETTO:+0200
TZNAME:EET
DTSTART:20221030T010000
END:STANDARD
END:VTIMEZONE
BEGIN:VEVENT
DTSTART;TZID=Europe/Athens:20211114T073000
DTEND;TZID=Europe/Athens:20211114T110000
DTSTAMP:20260420T014332
CREATED:20211029T192721Z
LAST-MODIFIED:20211029T192721Z
UID:3900-1636875000-1636887600@www.agioi-isidoroi.gr
SUMMARY:Η’ ΛΟΥΚΑ\, Αγίου αποστόλου Φιλίππου
DESCRIPTION:Όρθρος & Θεία Λειτουργία
URL:https://www.agioi-isidoroi.gr/leitourgia/i-loyka-agioy-apostoloy-filippoy/
LOCATION:Ιερός Ναός Αγίων Ισιδώρων Λυκαβηττού\, Λυκαβηττός\, Αθήνα\, Αττική\, 10210\, Greece
CATEGORIES:Όρθρος Και Θεία Λειτουργία
ORGANIZER;CN="%CE%99%CE%B5%CF%81%CF%8C%CF%82 %CE%9D%CE%B1%CF%8C%CF%82 %CE%91%CE%B3%CE%AF%CF%89%CE%BD %CE%99%CF%83%CE%B9%CE%B4%CF%8E%CF%81%CF%89%CE%BD %CE%9B%CF%85%CE%BA%CE%B1%CE%B2%CE%B7%CF%84%CF%84%CE%BF%CF%8D":MAILTO:aisidro@otenet.gr
END:VEVENT
BEGIN:VEVENT
DTSTART;TZID=Europe/Athens:20211115T073000
DTEND;TZID=Europe/Athens:20211115T110000
DTSTAMP:20260420T014332
CREATED:20211110T163158Z
LAST-MODIFIED:20211110T163158Z
UID:3905-1636961400-1636974000@www.agioi-isidoroi.gr
SUMMARY:Αγίων Γουρία\, Σαμωνά\, Αβίβου
DESCRIPTION:Όρθρος & Θεία Λειτουργία \nΑΡΧΗ ΤΗΣ ΝΗΣΤΕΙΑΣ ΤΩΝ ΧΡΙΣΤΟΥΓΕΝΝΩΝ
URL:https://www.agioi-isidoroi.gr/leitourgia/agion-goyria-samona-avivoy/
LOCATION:Ιερός Ναός Αγίων Ισιδώρων Λυκαβηττού\, Λυκαβηττός\, Αθήνα\, Αττική\, 10210\, Greece
CATEGORIES:Όρθρος Και Θεία Λειτουργία
ORGANIZER;CN="%CE%99%CE%B5%CF%81%CF%8C%CF%82 %CE%9D%CE%B1%CF%8C%CF%82 %CE%91%CE%B3%CE%AF%CF%89%CE%BD %CE%99%CF%83%CE%B9%CE%B4%CF%8E%CF%81%CF%89%CE%BD %CE%9B%CF%85%CE%BA%CE%B1%CE%B2%CE%B7%CF%84%CF%84%CE%BF%CF%8D":MAILTO:aisidro@otenet.gr
END:VEVENT
BEGIN:VEVENT
DTSTART;TZID=Europe/Athens:20211115T183000
DTEND;TZID=Europe/Athens:20211115T210000
DTSTAMP:20260420T014332
CREATED:20211110T163307Z
LAST-MODIFIED:20211110T163307Z
UID:3907-1637001000-1637010000@www.agioi-isidoroi.gr
SUMMARY:Εσπερινός & Νυχτερινή Θεία Λειτουργία
DESCRIPTION:
URL:https://www.agioi-isidoroi.gr/leitourgia/esperinos-amp-nychterini-theia-leitoyrgia-11/
LOCATION:Ιερός Ναός Αγίων Ισιδώρων Λυκαβηττού\, Λυκαβηττός\, Αθήνα\, Αττική\, 10210\, Greece
CATEGORIES:Εσπερινός,Θεία Λειτουργία
ORGANIZER;CN="%CE%99%CE%B5%CF%81%CF%8C%CF%82 %CE%9D%CE%B1%CF%8C%CF%82 %CE%91%CE%B3%CE%AF%CF%89%CE%BD %CE%99%CF%83%CE%B9%CE%B4%CF%8E%CF%81%CF%89%CE%BD %CE%9B%CF%85%CE%BA%CE%B1%CE%B2%CE%B7%CF%84%CF%84%CE%BF%CF%8D":MAILTO:aisidro@otenet.gr
END:VEVENT
BEGIN:VEVENT
DTSTART;TZID=Europe/Athens:20211116T073000
DTEND;TZID=Europe/Athens:20211116T110000
DTSTAMP:20260420T014332
CREATED:20211110T163413Z
LAST-MODIFIED:20211110T163413Z
UID:3909-1637047800-1637060400@www.agioi-isidoroi.gr
SUMMARY:Αποστόλου & Ευαγγελιστού Ματθαίου
DESCRIPTION:Όρθρος & Θεία Λειτουργία
URL:https://www.agioi-isidoroi.gr/leitourgia/apostoloy-amp-eyaggelistoy-matthaioy/
LOCATION:Ιερός Ναός Αγίων Ισιδώρων Λυκαβηττού\, Λυκαβηττός\, Αθήνα\, Αττική\, 10210\, Greece
CATEGORIES:Όρθρος Και Θεία Λειτουργία
ORGANIZER;CN="%CE%99%CE%B5%CF%81%CF%8C%CF%82 %CE%9D%CE%B1%CF%8C%CF%82 %CE%91%CE%B3%CE%AF%CF%89%CE%BD %CE%99%CF%83%CE%B9%CE%B4%CF%8E%CF%81%CF%89%CE%BD %CE%9B%CF%85%CE%BA%CE%B1%CE%B2%CE%B7%CF%84%CF%84%CE%BF%CF%8D":MAILTO:aisidro@otenet.gr
END:VEVENT
BEGIN:VEVENT
DTSTART;TZID=Europe/Athens:20211117T073000
DTEND;TZID=Europe/Athens:20211117T110000
DTSTAMP:20260420T014332
CREATED:20211110T163528Z
LAST-MODIFIED:20211110T163528Z
UID:3912-1637134200-1637146800@www.agioi-isidoroi.gr
SUMMARY:Αγίου Γρηγορίου Νεοκαισαρείας
DESCRIPTION:Όρθρος & Θεία Λειτουργία
URL:https://www.agioi-isidoroi.gr/leitourgia/agioy-grigorioy-neokaisareias/
LOCATION:Ιερός Ναός Αγίων Ισιδώρων Λυκαβηττού\, Λυκαβηττός\, Αθήνα\, Αττική\, 10210\, Greece
CATEGORIES:Όρθρος Και Θεία Λειτουργία
ORGANIZER;CN="%CE%99%CE%B5%CF%81%CF%8C%CF%82 %CE%9D%CE%B1%CF%8C%CF%82 %CE%91%CE%B3%CE%AF%CF%89%CE%BD %CE%99%CF%83%CE%B9%CE%B4%CF%8E%CF%81%CF%89%CE%BD %CE%9B%CF%85%CE%BA%CE%B1%CE%B2%CE%B7%CF%84%CF%84%CE%BF%CF%8D":MAILTO:aisidro@otenet.gr
END:VEVENT
BEGIN:VEVENT
DTSTART;TZID=Europe/Athens:20211118T073000
DTEND;TZID=Europe/Athens:20211118T110000
DTSTAMP:20260420T014332
CREATED:20211110T163658Z
LAST-MODIFIED:20211110T163658Z
UID:3914-1637220600-1637233200@www.agioi-isidoroi.gr
SUMMARY:Αγίου μεγαλομάρτ. Πλάτωνος
DESCRIPTION:Όρθρος & Θεία Λειτουργία
URL:https://www.agioi-isidoroi.gr/leitourgia/agioy-megalomart-platonos/
LOCATION:Ιερός Ναός Αγίων Ισιδώρων Λυκαβηττού\, Λυκαβηττός\, Αθήνα\, Αττική\, 10210\, Greece
CATEGORIES:Όρθρος Και Θεία Λειτουργία
ORGANIZER;CN="%CE%99%CE%B5%CF%81%CF%8C%CF%82 %CE%9D%CE%B1%CF%8C%CF%82 %CE%91%CE%B3%CE%AF%CF%89%CE%BD %CE%99%CF%83%CE%B9%CE%B4%CF%8E%CF%81%CF%89%CE%BD %CE%9B%CF%85%CE%BA%CE%B1%CE%B2%CE%B7%CF%84%CF%84%CE%BF%CF%8D":MAILTO:aisidro@otenet.gr
END:VEVENT
BEGIN:VEVENT
DTSTART;TZID=Europe/Athens:20211118T183000
DTEND;TZID=Europe/Athens:20211118T210000
DTSTAMP:20260420T014332
CREATED:20211110T163917Z
LAST-MODIFIED:20211110T163917Z
UID:3916-1637260200-1637269200@www.agioi-isidoroi.gr
SUMMARY:Εσπερινός & Νυχτερινή Θεία Λειτουργία
DESCRIPTION:
URL:https://www.agioi-isidoroi.gr/leitourgia/esperinos-amp-nychterini-theia-leitoyrgia-12/
LOCATION:Ιερός Ναός Αγίων Ισιδώρων Λυκαβηττού\, Λυκαβηττός\, Αθήνα\, Αττική\, 10210\, Greece
CATEGORIES:Εσπερινός,Θεία Λειτουργία
ORGANIZER;CN="%CE%99%CE%B5%CF%81%CF%8C%CF%82 %CE%9D%CE%B1%CF%8C%CF%82 %CE%91%CE%B3%CE%AF%CF%89%CE%BD %CE%99%CF%83%CE%B9%CE%B4%CF%8E%CF%81%CF%89%CE%BD %CE%9B%CF%85%CE%BA%CE%B1%CE%B2%CE%B7%CF%84%CF%84%CE%BF%CF%8D":MAILTO:aisidro@otenet.gr
END:VEVENT
BEGIN:VEVENT
DTSTART;TZID=Europe/Athens:20211119T073000
DTEND;TZID=Europe/Athens:20211119T110000
DTSTAMP:20260420T014332
CREATED:20211110T164159Z
LAST-MODIFIED:20211110T164159Z
UID:3918-1637307000-1637319600@www.agioi-isidoroi.gr
SUMMARY:Προφήτου Αβδιού
DESCRIPTION:Όρθρος & Θεία Λειτουργία
URL:https://www.agioi-isidoroi.gr/leitourgia/profitoy-avdioy/
LOCATION:Ιερός Ναός Αγίων Ισιδώρων Λυκαβηττού\, Λυκαβηττός\, Αθήνα\, Αττική\, 10210\, Greece
CATEGORIES:Όρθρος Και Θεία Λειτουργία
ORGANIZER;CN="%CE%99%CE%B5%CF%81%CF%8C%CF%82 %CE%9D%CE%B1%CF%8C%CF%82 %CE%91%CE%B3%CE%AF%CF%89%CE%BD %CE%99%CF%83%CE%B9%CE%B4%CF%8E%CF%81%CF%89%CE%BD %CE%9B%CF%85%CE%BA%CE%B1%CE%B2%CE%B7%CF%84%CF%84%CE%BF%CF%8D":MAILTO:aisidro@otenet.gr
END:VEVENT
BEGIN:VEVENT
DTSTART;TZID=Europe/Athens:20211120T073000
DTEND;TZID=Europe/Athens:20211120T110000
DTSTAMP:20260420T014332
CREATED:20211110T164345Z
LAST-MODIFIED:20211110T164345Z
UID:3920-1637393400-1637406000@www.agioi-isidoroi.gr
SUMMARY:Αγίου Γρηγορίου του Δεκαπολίτου
DESCRIPTION:Όρθρος & Θεία Λειτουργία
URL:https://www.agioi-isidoroi.gr/leitourgia/agioy-grigorioy-toy-dekapolitoy/
LOCATION:Ιερός Ναός Αγίων Ισιδώρων Λυκαβηττού\, Λυκαβηττός\, Αθήνα\, Αττική\, 10210\, Greece
CATEGORIES:Όρθρος Και Θεία Λειτουργία
ORGANIZER;CN="%CE%99%CE%B5%CF%81%CF%8C%CF%82 %CE%9D%CE%B1%CF%8C%CF%82 %CE%91%CE%B3%CE%AF%CF%89%CE%BD %CE%99%CF%83%CE%B9%CE%B4%CF%8E%CF%81%CF%89%CE%BD %CE%9B%CF%85%CE%BA%CE%B1%CE%B2%CE%B7%CF%84%CF%84%CE%BF%CF%8D":MAILTO:aisidro@otenet.gr
END:VEVENT
BEGIN:VEVENT
DTSTART;TZID=Europe/Athens:20211120T183000
DTEND;TZID=Europe/Athens:20211120T210000
DTSTAMP:20260420T014332
CREATED:20211110T164448Z
LAST-MODIFIED:20211110T164448Z
UID:3922-1637433000-1637442000@www.agioi-isidoroi.gr
SUMMARY:Εσπερινός των Εισοδίων
DESCRIPTION:
URL:https://www.agioi-isidoroi.gr/leitourgia/esperinos-ton-eisodion/
LOCATION:Ιερός Ναός Αγίων Ισιδώρων Λυκαβηττού\, Λυκαβηττός\, Αθήνα\, Αττική\, 10210\, Greece
CATEGORIES:Εσπερινός
ORGANIZER;CN="%CE%99%CE%B5%CF%81%CF%8C%CF%82 %CE%9D%CE%B1%CF%8C%CF%82 %CE%91%CE%B3%CE%AF%CF%89%CE%BD %CE%99%CF%83%CE%B9%CE%B4%CF%8E%CF%81%CF%89%CE%BD %CE%9B%CF%85%CE%BA%CE%B1%CE%B2%CE%B7%CF%84%CF%84%CE%BF%CF%8D":MAILTO:aisidro@otenet.gr
END:VEVENT
BEGIN:VEVENT
DTSTART;TZID=Europe/Athens:20211121T073000
DTEND;TZID=Europe/Athens:20211121T110000
DTSTAMP:20260420T014332
CREATED:20211110T164540Z
LAST-MODIFIED:20211110T164540Z
UID:3924-1637479800-1637492400@www.agioi-isidoroi.gr
SUMMARY:ΤΑ ΕΙΣΟΔΙΑ ΤΗΣ ΥΠΕΡΑΓΙΑΣ ΘΕΟΤΟΚΟΥ
DESCRIPTION:Όρθρος & Θεία Λειτουργία
URL:https://www.agioi-isidoroi.gr/leitourgia/ta-eisodia-tis-yperagias-theotokoy/
LOCATION:Ιερός Ναός Αγίων Ισιδώρων Λυκαβηττού\, Λυκαβηττός\, Αθήνα\, Αττική\, 10210\, Greece
CATEGORIES:Όρθρος Και Θεία Λειτουργία
ORGANIZER;CN="%CE%99%CE%B5%CF%81%CF%8C%CF%82 %CE%9D%CE%B1%CF%8C%CF%82 %CE%91%CE%B3%CE%AF%CF%89%CE%BD %CE%99%CF%83%CE%B9%CE%B4%CF%8E%CF%81%CF%89%CE%BD %CE%9B%CF%85%CE%BA%CE%B1%CE%B2%CE%B7%CF%84%CF%84%CE%BF%CF%8D":MAILTO:aisidro@otenet.gr
END:VEVENT
BEGIN:VEVENT
DTSTART;TZID=Europe/Athens:20211122T073000
DTEND;TZID=Europe/Athens:20211122T110000
DTSTAMP:20260420T014332
CREATED:20211110T164631Z
LAST-MODIFIED:20211110T164631Z
UID:3926-1637566200-1637578800@www.agioi-isidoroi.gr
SUMMARY:Αγίου Ιακώβου του εν Ευβοία [Τσαλίκη]
DESCRIPTION:Όρθρος & Θεία Λειτουργία
URL:https://www.agioi-isidoroi.gr/leitourgia/agioy-iakovoy-toy-en-eyvoia-tsaliki/
LOCATION:Ιερός Ναός Αγίων Ισιδώρων Λυκαβηττού\, Λυκαβηττός\, Αθήνα\, Αττική\, 10210\, Greece
CATEGORIES:Όρθρος Και Θεία Λειτουργία
ORGANIZER;CN="%CE%99%CE%B5%CF%81%CF%8C%CF%82 %CE%9D%CE%B1%CF%8C%CF%82 %CE%91%CE%B3%CE%AF%CF%89%CE%BD %CE%99%CF%83%CE%B9%CE%B4%CF%8E%CF%81%CF%89%CE%BD %CE%9B%CF%85%CE%BA%CE%B1%CE%B2%CE%B7%CF%84%CF%84%CE%BF%CF%8D":MAILTO:aisidro@otenet.gr
END:VEVENT
BEGIN:VEVENT
DTSTART;TZID=Europe/Athens:20211123T073000
DTEND;TZID=Europe/Athens:20211123T110000
DTSTAMP:20260420T014332
CREATED:20211110T164721Z
LAST-MODIFIED:20211110T164721Z
UID:3928-1637652600-1637665200@www.agioi-isidoroi.gr
SUMMARY:Αγίου Αμφιλοχίου επισκ. Ικονίου
DESCRIPTION:Όρθρος & Θεία Λειτουργία
URL:https://www.agioi-isidoroi.gr/leitourgia/agioy-amfilochioy-episk-ikonioy/
LOCATION:Ιερός Ναός Αγίων Ισιδώρων Λυκαβηττού\, Λυκαβηττός\, Αθήνα\, Αττική\, 10210\, Greece
CATEGORIES:Όρθρος Και Θεία Λειτουργία
ORGANIZER;CN="%CE%99%CE%B5%CF%81%CF%8C%CF%82 %CE%9D%CE%B1%CF%8C%CF%82 %CE%91%CE%B3%CE%AF%CF%89%CE%BD %CE%99%CF%83%CE%B9%CE%B4%CF%8E%CF%81%CF%89%CE%BD %CE%9B%CF%85%CE%BA%CE%B1%CE%B2%CE%B7%CF%84%CF%84%CE%BF%CF%8D":MAILTO:aisidro@otenet.gr
END:VEVENT
BEGIN:VEVENT
DTSTART;TZID=Europe/Athens:20211124T073000
DTEND;TZID=Europe/Athens:20211124T110000
DTSTAMP:20260420T014332
CREATED:20211110T164904Z
LAST-MODIFIED:20211110T164904Z
UID:3931-1637739000-1637751600@www.agioi-isidoroi.gr
SUMMARY:Αγίου Κλήμεντος επισκ. Ρώμης
DESCRIPTION:Όρθρος & Θεία Λειτουργία
URL:https://www.agioi-isidoroi.gr/leitourgia/agioy-klimentos-episk-romis/
LOCATION:Ιερός Ναός Αγίων Ισιδώρων Λυκαβηττού\, Λυκαβηττός\, Αθήνα\, Αττική\, 10210\, Greece
CATEGORIES:Όρθρος Και Θεία Λειτουργία
ORGANIZER;CN="%CE%99%CE%B5%CF%81%CF%8C%CF%82 %CE%9D%CE%B1%CF%8C%CF%82 %CE%91%CE%B3%CE%AF%CF%89%CE%BD %CE%99%CF%83%CE%B9%CE%B4%CF%8E%CF%81%CF%89%CE%BD %CE%9B%CF%85%CE%BA%CE%B1%CE%B2%CE%B7%CF%84%CF%84%CE%BF%CF%8D":MAILTO:aisidro@otenet.gr
END:VEVENT
BEGIN:VEVENT
DTSTART;TZID=Europe/Athens:20211124T183000
DTEND;TZID=Europe/Athens:20211124T210000
DTSTAMP:20260420T014332
CREATED:20211110T164955Z
LAST-MODIFIED:20211110T164955Z
UID:3933-1637778600-1637787600@www.agioi-isidoroi.gr
SUMMARY:Εσπερινός & Νυχτερινή Θεία Λειτουργία
DESCRIPTION:
URL:https://www.agioi-isidoroi.gr/leitourgia/esperinos-amp-nychterini-theia-leitoyrgia-13/
LOCATION:Ιερός Ναός Αγίων Ισιδώρων Λυκαβηττού\, Λυκαβηττός\, Αθήνα\, Αττική\, 10210\, Greece
CATEGORIES:Εσπερινός,Θεία Λειτουργία
ORGANIZER;CN="%CE%99%CE%B5%CF%81%CF%8C%CF%82 %CE%9D%CE%B1%CF%8C%CF%82 %CE%91%CE%B3%CE%AF%CF%89%CE%BD %CE%99%CF%83%CE%B9%CE%B4%CF%8E%CF%81%CF%89%CE%BD %CE%9B%CF%85%CE%BA%CE%B1%CE%B2%CE%B7%CF%84%CF%84%CE%BF%CF%8D":MAILTO:aisidro@otenet.gr
END:VEVENT
BEGIN:VEVENT
DTSTART;TZID=Europe/Athens:20211125T073000
DTEND;TZID=Europe/Athens:20211125T110000
DTSTAMP:20260420T014332
CREATED:20211110T165046Z
LAST-MODIFIED:20211110T165046Z
UID:3935-1637825400-1637838000@www.agioi-isidoroi.gr
SUMMARY:Αγίας μεγαλομ. Αικατερίνης
DESCRIPTION:Όρθρος & Θεία Λειτουργία
URL:https://www.agioi-isidoroi.gr/leitourgia/agias-megalom-aikaterinis/
LOCATION:Ιερός Ναός Αγίων Ισιδώρων Λυκαβηττού\, Λυκαβηττός\, Αθήνα\, Αττική\, 10210\, Greece
CATEGORIES:Όρθρος Και Θεία Λειτουργία
ORGANIZER;CN="%CE%99%CE%B5%CF%81%CF%8C%CF%82 %CE%9D%CE%B1%CF%8C%CF%82 %CE%91%CE%B3%CE%AF%CF%89%CE%BD %CE%99%CF%83%CE%B9%CE%B4%CF%8E%CF%81%CF%89%CE%BD %CE%9B%CF%85%CE%BA%CE%B1%CE%B2%CE%B7%CF%84%CF%84%CE%BF%CF%8D":MAILTO:aisidro@otenet.gr
END:VEVENT
BEGIN:VEVENT
DTSTART;TZID=Europe/Athens:20211126T073000
DTEND;TZID=Europe/Athens:20211126T110000
DTSTAMP:20260420T014332
CREATED:20211110T165140Z
LAST-MODIFIED:20211110T165140Z
UID:3937-1637911800-1637924400@www.agioi-isidoroi.gr
SUMMARY:Αγίου Στυλιανού
DESCRIPTION:Όρθρος & Θεία Λειτουργία
URL:https://www.agioi-isidoroi.gr/leitourgia/agioy-stylianoy/
LOCATION:Ιερός Ναός Αγίων Ισιδώρων Λυκαβηττού\, Λυκαβηττός\, Αθήνα\, Αττική\, 10210\, Greece
CATEGORIES:Όρθρος Και Θεία Λειτουργία
ORGANIZER;CN="%CE%99%CE%B5%CF%81%CF%8C%CF%82 %CE%9D%CE%B1%CF%8C%CF%82 %CE%91%CE%B3%CE%AF%CF%89%CE%BD %CE%99%CF%83%CE%B9%CE%B4%CF%8E%CF%81%CF%89%CE%BD %CE%9B%CF%85%CE%BA%CE%B1%CE%B2%CE%B7%CF%84%CF%84%CE%BF%CF%8D":MAILTO:aisidro@otenet.gr
END:VEVENT
BEGIN:VEVENT
DTSTART;TZID=Europe/Athens:20211127T073000
DTEND;TZID=Europe/Athens:20211127T110000
DTSTAMP:20260420T014332
CREATED:20211110T165231Z
LAST-MODIFIED:20211110T165231Z
UID:3939-1637998200-1638010800@www.agioi-isidoroi.gr
SUMMARY:Αγίου μεγαλ. Ιακώβου του Πέρσου
DESCRIPTION:Όρθρος & Θεία Λειτουργία
URL:https://www.agioi-isidoroi.gr/leitourgia/agioy-megal-iakovoy-toy-persoy/
LOCATION:Ιερός Ναός Αγίων Ισιδώρων Λυκαβηττού\, Λυκαβηττός\, Αθήνα\, Αττική\, 10210\, Greece
CATEGORIES:Όρθρος Και Θεία Λειτουργία
ORGANIZER;CN="%CE%99%CE%B5%CF%81%CF%8C%CF%82 %CE%9D%CE%B1%CF%8C%CF%82 %CE%91%CE%B3%CE%AF%CF%89%CE%BD %CE%99%CF%83%CE%B9%CE%B4%CF%8E%CF%81%CF%89%CE%BD %CE%9B%CF%85%CE%BA%CE%B1%CE%B2%CE%B7%CF%84%CF%84%CE%BF%CF%8D":MAILTO:aisidro@otenet.gr
END:VEVENT
BEGIN:VEVENT
DTSTART;TZID=Europe/Athens:20211128T073000
DTEND;TZID=Europe/Athens:20211128T110000
DTSTAMP:20260420T014332
CREATED:20211110T165358Z
LAST-MODIFIED:20211110T165358Z
UID:3941-1638084600-1638097200@www.agioi-isidoroi.gr
SUMMARY:ΙΓ’ ΛΟΥΚΑ\, Οσίου Στεφάνου του ομολογητού
DESCRIPTION:Όρθρος & Θεία Λειτουργία
URL:https://www.agioi-isidoroi.gr/leitourgia/ig-loyka-osioy-stefanoy-toy-omologitoy/
LOCATION:Ιερός Ναός Αγίων Ισιδώρων Λυκαβηττού\, Λυκαβηττός\, Αθήνα\, Αττική\, 10210\, Greece
CATEGORIES:Όρθρος Και Θεία Λειτουργία
ORGANIZER;CN="%CE%99%CE%B5%CF%81%CF%8C%CF%82 %CE%9D%CE%B1%CF%8C%CF%82 %CE%91%CE%B3%CE%AF%CF%89%CE%BD %CE%99%CF%83%CE%B9%CE%B4%CF%8E%CF%81%CF%89%CE%BD %CE%9B%CF%85%CE%BA%CE%B1%CE%B2%CE%B7%CF%84%CF%84%CE%BF%CF%8D":MAILTO:aisidro@otenet.gr
END:VEVENT
BEGIN:VEVENT
DTSTART;TZID=Europe/Athens:20211128T183000
DTEND;TZID=Europe/Athens:20211128T210000
DTSTAMP:20260420T014332
CREATED:20211110T165516Z
LAST-MODIFIED:20211110T165516Z
UID:3943-1638124200-1638133200@www.agioi-isidoroi.gr
SUMMARY:Εσπερινός & Νυχτερινή Θεία Λειτουργία
DESCRIPTION:
URL:https://www.agioi-isidoroi.gr/leitourgia/esperinos-amp-nychterini-theia-leitoyrgia-14/
LOCATION:Ιερός Ναός Αγίων Ισιδώρων Λυκαβηττού\, Λυκαβηττός\, Αθήνα\, Αττική\, 10210\, Greece
CATEGORIES:Εσπερινός,Θεία Λειτουργία
ORGANIZER;CN="%CE%99%CE%B5%CF%81%CF%8C%CF%82 %CE%9D%CE%B1%CF%8C%CF%82 %CE%91%CE%B3%CE%AF%CF%89%CE%BD %CE%99%CF%83%CE%B9%CE%B4%CF%8E%CF%81%CF%89%CE%BD %CE%9B%CF%85%CE%BA%CE%B1%CE%B2%CE%B7%CF%84%CF%84%CE%BF%CF%8D":MAILTO:aisidro@otenet.gr
END:VEVENT
BEGIN:VEVENT
DTSTART;TZID=Europe/Athens:20211129T073000
DTEND;TZID=Europe/Athens:20211129T110000
DTSTAMP:20260420T014332
CREATED:20211110T165700Z
LAST-MODIFIED:20211110T165700Z
UID:3945-1638171000-1638183600@www.agioi-isidoroi.gr
SUMMARY:Αγίου Φιλουμένου
DESCRIPTION:Όρθρος & Θεία Λειτουργία \n• θα τεθεί σε προσκύνηση το επιγονάτιο του Αγίου και Ιερό του Λείψανο.
URL:https://www.agioi-isidoroi.gr/leitourgia/agioy-filoymenoy/
LOCATION:Ιερός Ναός Αγίων Ισιδώρων Λυκαβηττού\, Λυκαβηττός\, Αθήνα\, Αττική\, 10210\, Greece
CATEGORIES:Όρθρος Και Θεία Λειτουργία
ORGANIZER;CN="%CE%99%CE%B5%CF%81%CF%8C%CF%82 %CE%9D%CE%B1%CF%8C%CF%82 %CE%91%CE%B3%CE%AF%CF%89%CE%BD %CE%99%CF%83%CE%B9%CE%B4%CF%8E%CF%81%CF%89%CE%BD %CE%9B%CF%85%CE%BA%CE%B1%CE%B2%CE%B7%CF%84%CF%84%CE%BF%CF%8D":MAILTO:aisidro@otenet.gr
END:VEVENT
BEGIN:VEVENT
DTSTART;TZID=Europe/Athens:20211129T183000
DTEND;TZID=Europe/Athens:20211129T210000
DTSTAMP:20260420T014332
CREATED:20211110T165901Z
LAST-MODIFIED:20211110T165901Z
UID:3947-1638210600-1638219600@www.agioi-isidoroi.gr
SUMMARY:Εσπερινός & Νυχτερινή Θεία Λειτουργία
DESCRIPTION:
URL:https://www.agioi-isidoroi.gr/leitourgia/esperinos-amp-nychterini-theia-leitoyrgia-15/
LOCATION:Ιερός Ναός Αγίων Ισιδώρων Λυκαβηττού\, Λυκαβηττός\, Αθήνα\, Αττική\, 10210\, Greece
CATEGORIES:Εσπερινός,Θεία Λειτουργία
ORGANIZER;CN="%CE%99%CE%B5%CF%81%CF%8C%CF%82 %CE%9D%CE%B1%CF%8C%CF%82 %CE%91%CE%B3%CE%AF%CF%89%CE%BD %CE%99%CF%83%CE%B9%CE%B4%CF%8E%CF%81%CF%89%CE%BD %CE%9B%CF%85%CE%BA%CE%B1%CE%B2%CE%B7%CF%84%CF%84%CE%BF%CF%8D":MAILTO:aisidro@otenet.gr
END:VEVENT
BEGIN:VEVENT
DTSTART;TZID=Europe/Athens:20211130T073000
DTEND;TZID=Europe/Athens:20211130T110000
DTSTAMP:20260420T014332
CREATED:20211110T165948Z
LAST-MODIFIED:20211110T165948Z
UID:3949-1638257400-1638270000@www.agioi-isidoroi.gr
SUMMARY:Αγίου Ανδρέου του Πρωτοκλήτου
DESCRIPTION:Όρθρος & Θεία Λειτουργία
URL:https://www.agioi-isidoroi.gr/leitourgia/agioy-andreoy-toy-protoklitoy/
LOCATION:Ιερός Ναός Αγίων Ισιδώρων Λυκαβηττού\, Λυκαβηττός\, Αθήνα\, Αττική\, 10210\, Greece
CATEGORIES:Όρθρος Και Θεία Λειτουργία
ORGANIZER;CN="%CE%99%CE%B5%CF%81%CF%8C%CF%82 %CE%9D%CE%B1%CF%8C%CF%82 %CE%91%CE%B3%CE%AF%CF%89%CE%BD %CE%99%CF%83%CE%B9%CE%B4%CF%8E%CF%81%CF%89%CE%BD %CE%9B%CF%85%CE%BA%CE%B1%CE%B2%CE%B7%CF%84%CF%84%CE%BF%CF%8D":MAILTO:aisidro@otenet.gr
END:VEVENT
BEGIN:VEVENT
DTSTART;TZID=Europe/Athens:20211201T073000
DTEND;TZID=Europe/Athens:20211201T110000
DTSTAMP:20260420T014332
CREATED:20211129T215428Z
LAST-MODIFIED:20211129T215428Z
UID:3955-1638343800-1638356400@www.agioi-isidoroi.gr
SUMMARY:Προφήτου Ναούμ
DESCRIPTION:Όρθρος & Θεία Λειτουργία-Αγιασμός
URL:https://www.agioi-isidoroi.gr/leitourgia/profitoy-naoym/
LOCATION:Ιερός Ναός Αγίων Ισιδώρων Λυκαβηττού\, Λυκαβηττός\, Αθήνα\, Αττική\, 10210\, Greece
CATEGORIES:Όρθρος Και Θεία Λειτουργία
ORGANIZER;CN="%CE%99%CE%B5%CF%81%CF%8C%CF%82 %CE%9D%CE%B1%CF%8C%CF%82 %CE%91%CE%B3%CE%AF%CF%89%CE%BD %CE%99%CF%83%CE%B9%CE%B4%CF%8E%CF%81%CF%89%CE%BD %CE%9B%CF%85%CE%BA%CE%B1%CE%B2%CE%B7%CF%84%CF%84%CE%BF%CF%8D":MAILTO:aisidro@otenet.gr
END:VEVENT
BEGIN:VEVENT
DTSTART;TZID=Europe/Athens:20211201T073000
DTEND;TZID=Europe/Athens:20211201T110000
DTSTAMP:20260420T014332
CREATED:20211201T124950Z
LAST-MODIFIED:20211201T124950Z
UID:4044-1638343800-1638356400@www.agioi-isidoroi.gr
SUMMARY:Όρθρος & Θεία Λειτουργία - ΔΟΞΟΛΟΓΙΑ
DESCRIPTION:• Με λαμπρότητα τιμάτε η εορτή του Μεγάλου Βασιλείου\, ο οποίος όταν σπούδαζε\nστην Αθήνα συνήθιζε να έρχεται στο Ιερό Σπήλαιο των Αγίων Ισιδώρων μαζί με τον\nΆγιο Γρηγόριο τον Θεολόγο για προσευχή και περισυλλογή.\n• Θα τεθεί για προσκύνηση ιερό λείψανο του Αγίου Βασιλείου του Μεγάλου.\n• Θα γίνει η κοπή της Πρωτοχρονιάτικης Βασιλόπιτας\, θα ψαλούν τα κάλαντα και θα\nμοιραστούν στους προσκυνητές γλυκίσματα.
URL:https://www.agioi-isidoroi.gr/leitourgia/orthros-amp-theia-leitoyrgia-doxologia/
LOCATION:Ιερός Ναός Αγίων Ισιδώρων Λυκαβηττού\, Λυκαβηττός\, Αθήνα\, Αττική\, 10210\, Greece
CATEGORIES:Όρθρος Και Θεία Λειτουργία
ORGANIZER;CN="%CE%99%CE%B5%CF%81%CF%8C%CF%82 %CE%9D%CE%B1%CF%8C%CF%82 %CE%91%CE%B3%CE%AF%CF%89%CE%BD %CE%99%CF%83%CE%B9%CE%B4%CF%8E%CF%81%CF%89%CE%BD %CE%9B%CF%85%CE%BA%CE%B1%CE%B2%CE%B7%CF%84%CF%84%CE%BF%CF%8D":MAILTO:aisidro@otenet.gr
END:VEVENT
BEGIN:VEVENT
DTSTART;TZID=Europe/Athens:20211201T183000
DTEND;TZID=Europe/Athens:20211201T210000
DTSTAMP:20260420T014332
CREATED:20211129T220044Z
LAST-MODIFIED:20211129T220044Z
UID:3959-1638383400-1638392400@www.agioi-isidoroi.gr
SUMMARY:Πανηγυρικός Εσπερινός & ΝΥΧΤΕΡΙΝΗ ΘΕΙΑ ΛΕΙΤΟΥΡΓΙΑ
DESCRIPTION:
URL:https://www.agioi-isidoroi.gr/leitourgia/panigyrikos-esperinos-amp-nychterini-theia-leitoyrgia-4/
LOCATION:Αττική
CATEGORIES:Εσπερινός,Θεία Λειτουργία
END:VEVENT
BEGIN:VEVENT
DTSTART;TZID=Europe/Athens:20211202T073000
DTEND;TZID=Europe/Athens:20211202T110000
DTSTAMP:20260420T014332
CREATED:20211129T215909Z
LAST-MODIFIED:20211129T215909Z
UID:3957-1638430200-1638442800@www.agioi-isidoroi.gr
SUMMARY:ΕΟΡΤΗ ΤΗΣ ΑΓΙΑΣ ΜΥΡΟΠΗΣ & ΤΟΥ ΟΣΙΟΥ ΠΟΡΦΥΡΙΟΥ
DESCRIPTION:Όρθρος & Πανηγυρική Θεία Λειτουργία \n• Θα τεθεί για προσκύνηση ιερό άμφιο του Αγίου γέροντος Πορφυρίου. \n  \nΤης Ευβοίας τον γόνον\, Οικουμένης αγλάισμα\, της Θεολογίας τον μύστην και\nΧριστού φίλον γνήσιον\, Πορφύριον τιμήσωμεν\, πιστοί\, τον πλήρη χαρισμάτων\nεκ παιδός. Δαιμονώντας γαρ λυτρούται\, και ασθενείς ιάται πίστει κράζοντας· δόξα\nτω δεδωκότι σοι ισχύν\, δόξα τω σε αγιάσαντι\, δόξα τω ενεργούντι διά σού πάσιν\nιάματα.\n• Ο Άγιος Πορφύριος επισκεπτόταν και προσηύχετο στον ιερό μας ναό.\n• Στον ιερό μας ναό υπάρχει προσκυνητάρι της Αγίας Μυρόπης.
URL:https://www.agioi-isidoroi.gr/leitourgia/eorti-tis-agias-myropis-amp-toy-osioy-porfyrioy/
LOCATION:Ιερός Ναός Αγίων Ισιδώρων Λυκαβηττού\, Λυκαβηττός\, Αθήνα\, Αττική\, 10210\, Greece
CATEGORIES:Όρθρος Και Θεία Λειτουργία
ORGANIZER;CN="%CE%99%CE%B5%CF%81%CF%8C%CF%82 %CE%9D%CE%B1%CF%8C%CF%82 %CE%91%CE%B3%CE%AF%CF%89%CE%BD %CE%99%CF%83%CE%B9%CE%B4%CF%8E%CF%81%CF%89%CE%BD %CE%9B%CF%85%CE%BA%CE%B1%CE%B2%CE%B7%CF%84%CF%84%CE%BF%CF%8D":MAILTO:aisidro@otenet.gr
END:VEVENT
BEGIN:VEVENT
DTSTART;TZID=Europe/Athens:20211203T073000
DTEND;TZID=Europe/Athens:20211203T110000
DTSTAMP:20260420T014332
CREATED:20211129T220145Z
LAST-MODIFIED:20211129T220145Z
UID:3961-1638516600-1638529200@www.agioi-isidoroi.gr
SUMMARY:Προφήτου Σοφονίου
DESCRIPTION:Όρθρος & Θεία Λειτουργία
URL:https://www.agioi-isidoroi.gr/leitourgia/profitoy-sofonioy/
LOCATION:Ιερός Ναός Αγίων Ισιδώρων Λυκαβηττού\, Λυκαβηττός\, Αθήνα\, Αττική\, 10210\, Greece
CATEGORIES:Όρθρος Και Θεία Λειτουργία
ORGANIZER;CN="%CE%99%CE%B5%CF%81%CF%8C%CF%82 %CE%9D%CE%B1%CF%8C%CF%82 %CE%91%CE%B3%CE%AF%CF%89%CE%BD %CE%99%CF%83%CE%B9%CE%B4%CF%8E%CF%81%CF%89%CE%BD %CE%9B%CF%85%CE%BA%CE%B1%CE%B2%CE%B7%CF%84%CF%84%CE%BF%CF%8D":MAILTO:aisidro@otenet.gr
END:VEVENT
BEGIN:VEVENT
DTSTART;TZID=Europe/Athens:20211203T183000
DTEND;TZID=Europe/Athens:20211203T210000
DTSTAMP:20260420T014332
CREATED:20211129T220251Z
LAST-MODIFIED:20211129T220251Z
UID:3963-1638556200-1638565200@www.agioi-isidoroi.gr
SUMMARY:Εσπερινός & Νυχτερινή Θεία Λειτουργία
DESCRIPTION:
URL:https://www.agioi-isidoroi.gr/leitourgia/esperinos-amp-nychterini-theia-leitoyrgia-16/
LOCATION:Ιερός Ναός Αγίων Ισιδώρων Λυκαβηττού\, Λυκαβηττός\, Αθήνα\, Αττική\, 10210\, Greece
CATEGORIES:Εσπερινός,Θεία Λειτουργία
ORGANIZER;CN="%CE%99%CE%B5%CF%81%CF%8C%CF%82 %CE%9D%CE%B1%CF%8C%CF%82 %CE%91%CE%B3%CE%AF%CF%89%CE%BD %CE%99%CF%83%CE%B9%CE%B4%CF%8E%CF%81%CF%89%CE%BD %CE%9B%CF%85%CE%BA%CE%B1%CE%B2%CE%B7%CF%84%CF%84%CE%BF%CF%8D":MAILTO:aisidro@otenet.gr
END:VEVENT
BEGIN:VEVENT
DTSTART;TZID=Europe/Athens:20211204T073000
DTEND;TZID=Europe/Athens:20211204T110000
DTSTAMP:20260420T014332
CREATED:20211129T220422Z
LAST-MODIFIED:20211129T220422Z
UID:3965-1638603000-1638615600@www.agioi-isidoroi.gr
SUMMARY:Αγίας Βαρβάρας & Ιωάννου Δαμασκηνού
DESCRIPTION:Όρθρος & Θεία Λειτουργία
URL:https://www.agioi-isidoroi.gr/leitourgia/agias-varvaras-amp-ioannoy-damaskinoy/
LOCATION:Ιερός Ναός Αγίων Ισιδώρων Λυκαβηττού\, Λυκαβηττός\, Αθήνα\, Αττική\, 10210\, Greece
CATEGORIES:Όρθρος Και Θεία Λειτουργία
ORGANIZER;CN="%CE%99%CE%B5%CF%81%CF%8C%CF%82 %CE%9D%CE%B1%CF%8C%CF%82 %CE%91%CE%B3%CE%AF%CF%89%CE%BD %CE%99%CF%83%CE%B9%CE%B4%CF%8E%CF%81%CF%89%CE%BD %CE%9B%CF%85%CE%BA%CE%B1%CE%B2%CE%B7%CF%84%CF%84%CE%BF%CF%8D":MAILTO:aisidro@otenet.gr
END:VEVENT
END:VCALENDAR