BEGIN:VCALENDAR
VERSION:2.0
PRODID:-//ΙΕΡΟΣ ΝΑΟΣ ΑΓΙΩΝ ΙΣΙΔΩΡΩΝ - ECPv6.15.17.1//NONSGML v1.0//EN
CALSCALE:GREGORIAN
METHOD:PUBLISH
X-WR-CALNAME:ΙΕΡΟΣ ΝΑΟΣ ΑΓΙΩΝ ΙΣΙΔΩΡΩΝ
X-ORIGINAL-URL:https://www.agioi-isidoroi.gr
X-WR-CALDESC:Events for ΙΕΡΟΣ ΝΑΟΣ ΑΓΙΩΝ ΙΣΙΔΩΡΩΝ
REFRESH-INTERVAL;VALUE=DURATION:PT1H
X-Robots-Tag:noindex
X-PUBLISHED-TTL:PT1H
BEGIN:VTIMEZONE
TZID:Europe/Athens
BEGIN:DAYLIGHT
TZOFFSETFROM:+0200
TZOFFSETTO:+0300
TZNAME:EEST
DTSTART:20210328T010000
END:DAYLIGHT
BEGIN:STANDARD
TZOFFSETFROM:+0300
TZOFFSETTO:+0200
TZNAME:EET
DTSTART:20211031T010000
END:STANDARD
BEGIN:DAYLIGHT
TZOFFSETFROM:+0200
TZOFFSETTO:+0300
TZNAME:EEST
DTSTART:20220327T010000
END:DAYLIGHT
BEGIN:STANDARD
TZOFFSETFROM:+0300
TZOFFSETTO:+0200
TZNAME:EET
DTSTART:20221030T010000
END:STANDARD
BEGIN:DAYLIGHT
TZOFFSETFROM:+0200
TZOFFSETTO:+0300
TZNAME:EEST
DTSTART:20230326T010000
END:DAYLIGHT
BEGIN:STANDARD
TZOFFSETFROM:+0300
TZOFFSETTO:+0200
TZNAME:EET
DTSTART:20231029T010000
END:STANDARD
END:VTIMEZONE
BEGIN:VEVENT
DTSTART;TZID=Europe/Athens:20220518T073000
DTEND;TZID=Europe/Athens:20220518T093000
DTSTAMP:20260420T030703
CREATED:20220502T153404Z
LAST-MODIFIED:20220502T153404Z
UID:4522-1652859000-1652866200@www.agioi-isidoroi.gr
SUMMARY:Της Μεσοπεντηκοστής
DESCRIPTION:Όρθρος & Θεία Λειτουργία
URL:https://www.agioi-isidoroi.gr/leitourgia/tis-mesopentikostis-2/
LOCATION:Ιερός Ναός Αγίων Ισιδώρων Λυκαβηττού\, Λυκαβηττός\, Αθήνα\, Αττική\, 10210\, Greece
CATEGORIES:Όρθρος Και Θεία Λειτουργία
ORGANIZER;CN="%CE%99%CE%B5%CF%81%CF%8C%CF%82 %CE%9D%CE%B1%CF%8C%CF%82 %CE%91%CE%B3%CE%AF%CF%89%CE%BD %CE%99%CF%83%CE%B9%CE%B4%CF%8E%CF%81%CF%89%CE%BD %CE%9B%CF%85%CE%BA%CE%B1%CE%B2%CE%B7%CF%84%CF%84%CE%BF%CF%8D":MAILTO:aisidro@otenet.gr
END:VEVENT
BEGIN:VEVENT
DTSTART;TZID=Europe/Athens:20220517T193000
DTEND;TZID=Europe/Athens:20220517T203000
DTSTAMP:20260420T030703
CREATED:20220502T153100Z
LAST-MODIFIED:20220502T153100Z
UID:4519-1652815800-1652819400@www.agioi-isidoroi.gr
SUMMARY:Πανηγυρικός Εσπερινός
DESCRIPTION:
URL:https://www.agioi-isidoroi.gr/leitourgia/panigyrikos-esperinos-18/
LOCATION:Ιερός Ναός Αγίων Ισιδώρων Λυκαβηττού\, Λυκαβηττός\, Αθήνα\, Αττική\, 10210\, Greece
CATEGORIES:Εσπερινός
ORGANIZER;CN="%CE%99%CE%B5%CF%81%CF%8C%CF%82 %CE%9D%CE%B1%CF%8C%CF%82 %CE%91%CE%B3%CE%AF%CF%89%CE%BD %CE%99%CF%83%CE%B9%CE%B4%CF%8E%CF%81%CF%89%CE%BD %CE%9B%CF%85%CE%BA%CE%B1%CE%B2%CE%B7%CF%84%CF%84%CE%BF%CF%8D":MAILTO:aisidro@otenet.gr
END:VEVENT
BEGIN:VEVENT
DTSTART;TZID=Europe/Athens:20220517T073000
DTEND;TZID=Europe/Athens:20220517T093000
DTSTAMP:20260420T030703
CREATED:20220502T153012Z
LAST-MODIFIED:20220502T153012Z
UID:4517-1652772600-1652779800@www.agioi-isidoroi.gr
SUMMARY:Αγίων Ανδρονίκου και Ιουνίας των Αποστόλων
DESCRIPTION:Όρθρος & Θεία Λειτουργία
URL:https://www.agioi-isidoroi.gr/leitourgia/agion-andronikoy-kai-ioynias-ton-apostolon/
LOCATION:Ιερός Ναός Αγίων Ισιδώρων Λυκαβηττού\, Λυκαβηττός\, Αθήνα\, Αττική\, 10210\, Greece
CATEGORIES:Όρθρος Και Θεία Λειτουργία
ORGANIZER;CN="%CE%99%CE%B5%CF%81%CF%8C%CF%82 %CE%9D%CE%B1%CF%8C%CF%82 %CE%91%CE%B3%CE%AF%CF%89%CE%BD %CE%99%CF%83%CE%B9%CE%B4%CF%8E%CF%81%CF%89%CE%BD %CE%9B%CF%85%CE%BA%CE%B1%CE%B2%CE%B7%CF%84%CF%84%CE%BF%CF%8D":MAILTO:aisidro@otenet.gr
END:VEVENT
BEGIN:VEVENT
DTSTART;TZID=Europe/Athens:20220516T073000
DTEND;TZID=Europe/Athens:20220516T093000
DTSTAMP:20260420T030703
CREATED:20220502T152915Z
LAST-MODIFIED:20220502T152915Z
UID:4515-1652686200-1652693400@www.agioi-isidoroi.gr
SUMMARY:Αγίου Αλεξάνδρου Αρχιεσκόπου Ιεροσολύμων
DESCRIPTION:+Οσίων πατέρων των αναιρεθέντων εν τη Μονή του αγίου Σάββα (+614) \nΌρθρος & Θεία Λειτουργία
URL:https://www.agioi-isidoroi.gr/leitourgia/agioy-alexandroy-archieskopoy-ierosolymon/
LOCATION:Ιερός Ναός Αγίων Ισιδώρων Λυκαβηττού\, Λυκαβηττός\, Αθήνα\, Αττική\, 10210\, Greece
CATEGORIES:Όρθρος Και Θεία Λειτουργία
ORGANIZER;CN="%CE%99%CE%B5%CF%81%CF%8C%CF%82 %CE%9D%CE%B1%CF%8C%CF%82 %CE%91%CE%B3%CE%AF%CF%89%CE%BD %CE%99%CF%83%CE%B9%CE%B4%CF%8E%CF%81%CF%89%CE%BD %CE%9B%CF%85%CE%BA%CE%B1%CE%B2%CE%B7%CF%84%CF%84%CE%BF%CF%8D":MAILTO:aisidro@otenet.gr
END:VEVENT
BEGIN:VEVENT
DTSTART;TZID=Europe/Athens:20220515T073000
DTEND;TZID=Europe/Athens:20220515T113000
DTSTAMP:20260420T030703
CREATED:20220502T152749Z
LAST-MODIFIED:20220502T152749Z
UID:4513-1652599800-1652614200@www.agioi-isidoroi.gr
SUMMARY:Κυριακή του Παραλύτου
DESCRIPTION:Όρθρος & Θεία Λειτουργία
URL:https://www.agioi-isidoroi.gr/leitourgia/kyriaki-toy-paralytoy/
LOCATION:Ιερός Ναός Αγίων Ισιδώρων Λυκαβηττού\, Λυκαβηττός\, Αθήνα\, Αττική\, 10210\, Greece
CATEGORIES:Όρθρος Και Θεία Λειτουργία
ORGANIZER;CN="%CE%99%CE%B5%CF%81%CF%8C%CF%82 %CE%9D%CE%B1%CF%8C%CF%82 %CE%91%CE%B3%CE%AF%CF%89%CE%BD %CE%99%CF%83%CE%B9%CE%B4%CF%8E%CF%81%CF%89%CE%BD %CE%9B%CF%85%CE%BA%CE%B1%CE%B2%CE%B7%CF%84%CF%84%CE%BF%CF%8D":MAILTO:aisidro@otenet.gr
END:VEVENT
BEGIN:VEVENT
DTSTART;TZID=Europe/Athens:20220514T193000
DTEND;TZID=Europe/Athens:20220514T203000
DTSTAMP:20260420T030703
CREATED:20220502T152636Z
LAST-MODIFIED:20220502T152636Z
UID:4511-1652556600-1652560200@www.agioi-isidoroi.gr
SUMMARY:Αναστάσιμος Εσπερινός
DESCRIPTION:
URL:https://www.agioi-isidoroi.gr/leitourgia/anastasimos-esperinos-33/
LOCATION:Ιερός Ναός Αγίων Ισιδώρων Λυκαβηττού\, Λυκαβηττός\, Αθήνα\, Αττική\, 10210\, Greece
CATEGORIES:Αναστάσιμος Εσπερινός
ORGANIZER;CN="%CE%99%CE%B5%CF%81%CF%8C%CF%82 %CE%9D%CE%B1%CF%8C%CF%82 %CE%91%CE%B3%CE%AF%CF%89%CE%BD %CE%99%CF%83%CE%B9%CE%B4%CF%8E%CF%81%CF%89%CE%BD %CE%9B%CF%85%CE%BA%CE%B1%CE%B2%CE%B7%CF%84%CF%84%CE%BF%CF%8D":MAILTO:aisidro@otenet.gr
END:VEVENT
BEGIN:VEVENT
DTSTART;TZID=Europe/Athens:20220514T073000
DTEND;TZID=Europe/Athens:20220514T093000
DTSTAMP:20260420T030703
CREATED:20220502T152527Z
LAST-MODIFIED:20220502T152527Z
UID:4509-1652513400-1652520600@www.agioi-isidoroi.gr
SUMMARY:ΑΓΙΟΥ ΙΣΙΔΩΡΟΥ ΤΟΥ ΧΙΟΠΟΛΙΤΟΥ
DESCRIPTION:Όρθρος & ΠΑΝΗΓΥΡΙΚΗ ΘΕΙΑ ΛΕΙΤΟΥΡΓΙΑ
URL:https://www.agioi-isidoroi.gr/leitourgia/agioy-isidoroy-toy-chiopolitoy/
LOCATION:Ιερός Ναός Αγίων Ισιδώρων Λυκαβηττού\, Λυκαβηττός\, Αθήνα\, Αττική\, 10210\, Greece
CATEGORIES:Όρθρος Και Θεία Λειτουργία
ORGANIZER;CN="%CE%99%CE%B5%CF%81%CF%8C%CF%82 %CE%9D%CE%B1%CF%8C%CF%82 %CE%91%CE%B3%CE%AF%CF%89%CE%BD %CE%99%CF%83%CE%B9%CE%B4%CF%8E%CF%81%CF%89%CE%BD %CE%9B%CF%85%CE%BA%CE%B1%CE%B2%CE%B7%CF%84%CF%84%CE%BF%CF%8D":MAILTO:aisidro@otenet.gr
END:VEVENT
BEGIN:VEVENT
DTSTART;TZID=Europe/Athens:20220513T220000
DTEND;TZID=Europe/Athens:20220514T000000
DTSTAMP:20260420T030703
CREATED:20220502T152358Z
LAST-MODIFIED:20220502T152358Z
UID:4507-1652479200-1652486400@www.agioi-isidoroi.gr
SUMMARY:ΙΕΡΑ ΑΓΡΥΠΝΙΑ
DESCRIPTION:
URL:https://www.agioi-isidoroi.gr/leitourgia/iera-agrypnia-11/
LOCATION:Ιερός Ναός Αγίων Ισιδώρων Λυκαβηττού\, Λυκαβηττός\, Αθήνα\, Αττική\, 10210\, Greece
CATEGORIES:Ιερά Αγρυπνία
ORGANIZER;CN="%CE%99%CE%B5%CF%81%CF%8C%CF%82 %CE%9D%CE%B1%CF%8C%CF%82 %CE%91%CE%B3%CE%AF%CF%89%CE%BD %CE%99%CF%83%CE%B9%CE%B4%CF%8E%CF%81%CF%89%CE%BD %CE%9B%CF%85%CE%BA%CE%B1%CE%B2%CE%B7%CF%84%CF%84%CE%BF%CF%8D":MAILTO:aisidro@otenet.gr
END:VEVENT
BEGIN:VEVENT
DTSTART;TZID=Europe/Athens:20220513T193000
DTEND;TZID=Europe/Athens:20220513T203000
DTSTAMP:20260420T030703
CREATED:20220502T152301Z
LAST-MODIFIED:20220502T152301Z
UID:4505-1652470200-1652473800@www.agioi-isidoroi.gr
SUMMARY:ΜΕΓΑΣ ΠΑΝΗΓΥΡΙΚΟΣ ΕΣΠΕΡΙΝΟΣ
DESCRIPTION:Ι Ε Ρ Α  Π Α Ν Η Γ Υ Ρ Ι Σ\nΤ Ο Υ  Α Γ Ι Ο Υ  Ι Σ Ι Δ Ω Ρ Ο Υ  Τ Ο Υ  Χ Ι Ο Π Ο Λ Ι Τ Ο Υ
URL:https://www.agioi-isidoroi.gr/leitourgia/megas-panigyrikos-esperinos-5/
LOCATION:Ιερός Ναός Αγίων Ισιδώρων Λυκαβηττού\, Λυκαβηττός\, Αθήνα\, Αττική\, 10210\, Greece
CATEGORIES:Εσπερινός
ORGANIZER;CN="%CE%99%CE%B5%CF%81%CF%8C%CF%82 %CE%9D%CE%B1%CF%8C%CF%82 %CE%91%CE%B3%CE%AF%CF%89%CE%BD %CE%99%CF%83%CE%B9%CE%B4%CF%8E%CF%81%CF%89%CE%BD %CE%9B%CF%85%CE%BA%CE%B1%CE%B2%CE%B7%CF%84%CF%84%CE%BF%CF%8D":MAILTO:aisidro@otenet.gr
END:VEVENT
BEGIN:VEVENT
DTSTART;TZID=Europe/Athens:20220513T073000
DTEND;TZID=Europe/Athens:20220513T093000
DTSTAMP:20260420T030703
CREATED:20220502T151833Z
LAST-MODIFIED:20220502T151833Z
UID:4503-1652427000-1652434200@www.agioi-isidoroi.gr
SUMMARY:Αγίας Γλυκερίας (+177)
DESCRIPTION:Όρθρος & Θεία Λειτουργία \n 
URL:https://www.agioi-isidoroi.gr/leitourgia/agias-glykerias-177/
LOCATION:Ιερός Ναός Αγίων Ισιδώρων Λυκαβηττού\, Λυκαβηττός\, Αθήνα\, Αττική\, 10210\, Greece
CATEGORIES:Όρθρος Και Θεία Λειτουργία
ORGANIZER;CN="%CE%99%CE%B5%CF%81%CF%8C%CF%82 %CE%9D%CE%B1%CF%8C%CF%82 %CE%91%CE%B3%CE%AF%CF%89%CE%BD %CE%99%CF%83%CE%B9%CE%B4%CF%8E%CF%81%CF%89%CE%BD %CE%9B%CF%85%CE%BA%CE%B1%CE%B2%CE%B7%CF%84%CF%84%CE%BF%CF%8D":MAILTO:aisidro@otenet.gr
END:VEVENT
BEGIN:VEVENT
DTSTART;TZID=Europe/Athens:20220512T073000
DTEND;TZID=Europe/Athens:20220512T093000
DTSTAMP:20260420T030703
CREATED:20220502T151134Z
LAST-MODIFIED:20220502T151134Z
UID:4501-1652340600-1652347800@www.agioi-isidoroi.gr
SUMMARY:Αγίου Επιφανίου επισκόπου Κύπρου
DESCRIPTION:Όρθρος & Θεία Λειτουργία
URL:https://www.agioi-isidoroi.gr/leitourgia/agioy-epifanioy-episkopoy-kyproy/
LOCATION:Ιερός Ναός Αγίων Ισιδώρων Λυκαβηττού\, Λυκαβηττός\, Αθήνα\, Αττική\, 10210\, Greece
CATEGORIES:Όρθρος Και Θεία Λειτουργία
ORGANIZER;CN="%CE%99%CE%B5%CF%81%CF%8C%CF%82 %CE%9D%CE%B1%CF%8C%CF%82 %CE%91%CE%B3%CE%AF%CF%89%CE%BD %CE%99%CF%83%CE%B9%CE%B4%CF%8E%CF%81%CF%89%CE%BD %CE%9B%CF%85%CE%BA%CE%B1%CE%B2%CE%B7%CF%84%CF%84%CE%BF%CF%8D":MAILTO:aisidro@otenet.gr
END:VEVENT
BEGIN:VEVENT
DTSTART;TZID=Europe/Athens:20220511T073000
DTEND;TZID=Europe/Athens:20220511T093000
DTSTAMP:20260420T030703
CREATED:20220502T151015Z
LAST-MODIFIED:20220502T151015Z
UID:4499-1652254200-1652261400@www.agioi-isidoroi.gr
SUMMARY:Αγίων Κυρίλλου και Μεθοδίου
DESCRIPTION:Όρθρος & Θεία Λειτουργία
URL:https://www.agioi-isidoroi.gr/leitourgia/agion-kyrilloy-kai-methodioy/
LOCATION:Ιερός Ναός Αγίων Ισιδώρων Λυκαβηττού\, Λυκαβηττός\, Αθήνα\, Αττική\, 10210\, Greece
CATEGORIES:Όρθρος Και Θεία Λειτουργία
ORGANIZER;CN="%CE%99%CE%B5%CF%81%CF%8C%CF%82 %CE%9D%CE%B1%CF%8C%CF%82 %CE%91%CE%B3%CE%AF%CF%89%CE%BD %CE%99%CF%83%CE%B9%CE%B4%CF%8E%CF%81%CF%89%CE%BD %CE%9B%CF%85%CE%BA%CE%B1%CE%B2%CE%B7%CF%84%CF%84%CE%BF%CF%8D":MAILTO:aisidro@otenet.gr
END:VEVENT
BEGIN:VEVENT
DTSTART;TZID=Europe/Athens:20220510T073000
DTEND;TZID=Europe/Athens:20220510T093000
DTSTAMP:20260420T030703
CREATED:20220502T150923Z
LAST-MODIFIED:20220502T150923Z
UID:4497-1652167800-1652175000@www.agioi-isidoroi.gr
SUMMARY:Αγίου Αποστόλου Σίμωνος
DESCRIPTION:Όρθρος & Θεία Λειτουργία
URL:https://www.agioi-isidoroi.gr/leitourgia/agioy-apostoloy-simonos/
LOCATION:Ιερός Ναός Αγίων Ισιδώρων Λυκαβηττού\, Λυκαβηττός\, Αθήνα\, Αττική\, 10210\, Greece
CATEGORIES:Όρθρος Και Θεία Λειτουργία
ORGANIZER;CN="%CE%99%CE%B5%CF%81%CF%8C%CF%82 %CE%9D%CE%B1%CF%8C%CF%82 %CE%91%CE%B3%CE%AF%CF%89%CE%BD %CE%99%CF%83%CE%B9%CE%B4%CF%8E%CF%81%CF%89%CE%BD %CE%9B%CF%85%CE%BA%CE%B1%CE%B2%CE%B7%CF%84%CF%84%CE%BF%CF%8D":MAILTO:aisidro@otenet.gr
END:VEVENT
BEGIN:VEVENT
DTSTART;TZID=Europe/Athens:20220509T190000
DTEND;TZID=Europe/Athens:20220509T200000
DTSTAMP:20260420T030703
CREATED:20220502T115320Z
LAST-MODIFIED:20220502T115320Z
UID:4494-1652122800-1652126400@www.agioi-isidoroi.gr
SUMMARY:Αγιασμός των οχημάτων
DESCRIPTION:(ο Άγιος Χριστόφορος είναι προστάτης των οδηγών)
URL:https://www.agioi-isidoroi.gr/leitourgia/agiasmos-ton-ochimaton/
LOCATION:Ιερός Ναός Αγίων Ισιδώρων Λυκαβηττού\, Λυκαβηττός\, Αθήνα\, Αττική\, 10210\, Greece
CATEGORIES:Αγιασμός
ORGANIZER;CN="%CE%99%CE%B5%CF%81%CF%8C%CF%82 %CE%9D%CE%B1%CF%8C%CF%82 %CE%91%CE%B3%CE%AF%CF%89%CE%BD %CE%99%CF%83%CE%B9%CE%B4%CF%8E%CF%81%CF%89%CE%BD %CE%9B%CF%85%CE%BA%CE%B1%CE%B2%CE%B7%CF%84%CF%84%CE%BF%CF%8D":MAILTO:aisidro@otenet.gr
END:VEVENT
BEGIN:VEVENT
DTSTART;TZID=Europe/Athens:20220509T073000
DTEND;TZID=Europe/Athens:20220509T093000
DTSTAMP:20260420T030703
CREATED:20220502T115138Z
LAST-MODIFIED:20220502T115138Z
UID:4492-1652081400-1652088600@www.agioi-isidoroi.gr
SUMMARY:Αγίου μάρτυροςΧριστοφόρου  Ησαΐου προφήτου\, Νικολάου του εν Βουνένοις
DESCRIPTION:Όρθρος & Πανηγυρική Θεία Λειτουργία \n+Ιερό μνημόσυνο Ειρήνης της προσκυνήτριας
URL:https://www.agioi-isidoroi.gr/leitourgia/agioy-martyroschristoforoy-isa-oy-profitoy-nikolaoy-toy-en-voynenois/
LOCATION:Ιερός Ναός Αγίων Ισιδώρων Λυκαβηττού\, Λυκαβηττός\, Αθήνα\, Αττική\, 10210\, Greece
CATEGORIES:Όρθρος Και Θεία Λειτουργία
ORGANIZER;CN="%CE%99%CE%B5%CF%81%CF%8C%CF%82 %CE%9D%CE%B1%CF%8C%CF%82 %CE%91%CE%B3%CE%AF%CF%89%CE%BD %CE%99%CF%83%CE%B9%CE%B4%CF%8E%CF%81%CF%89%CE%BD %CE%9B%CF%85%CE%BA%CE%B1%CE%B2%CE%B7%CF%84%CF%84%CE%BF%CF%8D":MAILTO:aisidro@otenet.gr
END:VEVENT
BEGIN:VEVENT
DTSTART;TZID=Europe/Athens:20220508T193000
DTEND;TZID=Europe/Athens:20220508T203000
DTSTAMP:20260420T030703
CREATED:20220502T115025Z
LAST-MODIFIED:20220502T115025Z
UID:4490-1652038200-1652041800@www.agioi-isidoroi.gr
SUMMARY:Πανηγυρικός εσπερινός
DESCRIPTION:
URL:https://www.agioi-isidoroi.gr/leitourgia/panigyrikos-esperinos-17/
LOCATION:Ιερός Ναός Αγίων Ισιδώρων Λυκαβηττού\, Λυκαβηττός\, Αθήνα\, Αττική\, 10210\, Greece
CATEGORIES:Εσπερινός
ORGANIZER;CN="%CE%99%CE%B5%CF%81%CF%8C%CF%82 %CE%9D%CE%B1%CF%8C%CF%82 %CE%91%CE%B3%CE%AF%CF%89%CE%BD %CE%99%CF%83%CE%B9%CE%B4%CF%8E%CF%81%CF%89%CE%BD %CE%9B%CF%85%CE%BA%CE%B1%CE%B2%CE%B7%CF%84%CF%84%CE%BF%CF%8D":MAILTO:aisidro@otenet.gr
END:VEVENT
BEGIN:VEVENT
DTSTART;TZID=Europe/Athens:20220508T073000
DTEND;TZID=Europe/Athens:20220508T113000
DTSTAMP:20260420T030703
CREATED:20220502T114934Z
LAST-MODIFIED:20220502T114934Z
UID:4488-1651995000-1652009400@www.agioi-isidoroi.gr
SUMMARY:Των Μυροφόρων\, Αγίου Ιωάννου του Θεολόγου
DESCRIPTION:Όρθρος & Θεία Λειτουργία \n+εις μνήμην του γέροντος Φιλοθέου του Ζερβάκου
URL:https://www.agioi-isidoroi.gr/leitourgia/ton-myroforon-agioy-ioannoy-toy-theologoy/
LOCATION:Ιερός Ναός Αγίων Ισιδώρων Λυκαβηττού\, Λυκαβηττός\, Αθήνα\, Αττική\, 10210\, Greece
CATEGORIES:Όρθρος Και Θεία Λειτουργία
ORGANIZER;CN="%CE%99%CE%B5%CF%81%CF%8C%CF%82 %CE%9D%CE%B1%CF%8C%CF%82 %CE%91%CE%B3%CE%AF%CF%89%CE%BD %CE%99%CF%83%CE%B9%CE%B4%CF%8E%CF%81%CF%89%CE%BD %CE%9B%CF%85%CE%BA%CE%B1%CE%B2%CE%B7%CF%84%CF%84%CE%BF%CF%8D":MAILTO:aisidro@otenet.gr
END:VEVENT
BEGIN:VEVENT
DTSTART;TZID=Europe/Athens:20220507T190000
DTEND;TZID=Europe/Athens:20220507T200000
DTSTAMP:20260420T030703
CREATED:20220502T114826Z
LAST-MODIFIED:20220502T114826Z
UID:4486-1651950000-1651953600@www.agioi-isidoroi.gr
SUMMARY:Αναστάσιμος Εσπερινός
DESCRIPTION:
URL:https://www.agioi-isidoroi.gr/leitourgia/anastasimos-esperinos-32/
LOCATION:Ιερός Ναός Αγίων Ισιδώρων Λυκαβηττού\, Λυκαβηττός\, Αθήνα\, Αττική\, 10210\, Greece
CATEGORIES:Αναστάσιμος Εσπερινός
ORGANIZER;CN="%CE%99%CE%B5%CF%81%CF%8C%CF%82 %CE%9D%CE%B1%CF%8C%CF%82 %CE%91%CE%B3%CE%AF%CF%89%CE%BD %CE%99%CF%83%CE%B9%CE%B4%CF%8E%CF%81%CF%89%CE%BD %CE%9B%CF%85%CE%BA%CE%B1%CE%B2%CE%B7%CF%84%CF%84%CE%BF%CF%8D":MAILTO:aisidro@otenet.gr
END:VEVENT
BEGIN:VEVENT
DTSTART;TZID=Europe/Athens:20220507T073000
DTEND;TZID=Europe/Athens:20220507T093000
DTSTAMP:20260420T030703
CREATED:20220502T114743Z
LAST-MODIFIED:20220502T114743Z
UID:4484-1651908600-1651915800@www.agioi-isidoroi.gr
SUMMARY:Του εν ουρανώ φανέντος Τιμίου Σταυρού
DESCRIPTION:Όρθρος & Πανηγυρική Θεία Λειτουργία
URL:https://www.agioi-isidoroi.gr/leitourgia/toy-en-oyrano-fanentos-timioy-stayroy/
LOCATION:Ιερός Ναός Αγίων Ισιδώρων Λυκαβηττού\, Λυκαβηττός\, Αθήνα\, Αττική\, 10210\, Greece
CATEGORIES:Όρθρος Και Θεία Λειτουργία
ORGANIZER;CN="%CE%99%CE%B5%CF%81%CF%8C%CF%82 %CE%9D%CE%B1%CF%8C%CF%82 %CE%91%CE%B3%CE%AF%CF%89%CE%BD %CE%99%CF%83%CE%B9%CE%B4%CF%8E%CF%81%CF%89%CE%BD %CE%9B%CF%85%CE%BA%CE%B1%CE%B2%CE%B7%CF%84%CF%84%CE%BF%CF%8D":MAILTO:aisidro@otenet.gr
END:VEVENT
BEGIN:VEVENT
DTSTART;TZID=Europe/Athens:20220506T073000
DTEND;TZID=Europe/Athens:20220506T093000
DTSTAMP:20260420T030703
CREATED:20220502T114642Z
LAST-MODIFIED:20220502T114642Z
UID:4482-1651822200-1651829400@www.agioi-isidoroi.gr
SUMMARY:Οσίας Σοφίας της εν Κλεισούρα
DESCRIPTION:Όρθρος & Θεία Λειτουργία
URL:https://www.agioi-isidoroi.gr/leitourgia/osias-sofias-tis-en-kleisoyra/
LOCATION:Ιερός Ναός Αγίων Ισιδώρων Λυκαβηττού\, Λυκαβηττός\, Αθήνα\, Αττική\, 10210\, Greece
CATEGORIES:Όρθρος Και Θεία Λειτουργία
ORGANIZER;CN="%CE%99%CE%B5%CF%81%CF%8C%CF%82 %CE%9D%CE%B1%CF%8C%CF%82 %CE%91%CE%B3%CE%AF%CF%89%CE%BD %CE%99%CF%83%CE%B9%CE%B4%CF%8E%CF%81%CF%89%CE%BD %CE%9B%CF%85%CE%BA%CE%B1%CE%B2%CE%B7%CF%84%CF%84%CE%BF%CF%8D":MAILTO:aisidro@otenet.gr
END:VEVENT
BEGIN:VEVENT
DTSTART;TZID=Europe/Athens:20220505T073000
DTEND;TZID=Europe/Athens:20220505T093000
DTSTAMP:20260420T030703
CREATED:20220502T114522Z
LAST-MODIFIED:20220502T114522Z
UID:4479-1651735800-1651743000@www.agioi-isidoroi.gr
SUMMARY:Αγίας Ειρήνης & Αγίου Εφραίμ
DESCRIPTION:Όρθρος & Πανηγυρική Θεία Λειτουργία \n+ Θα τεθεί για προσκύνηση ιερό λείψανο της Αγίας Ειρήνης.
URL:https://www.agioi-isidoroi.gr/leitourgia/agias-eirinis-amp-agioy-efraim/
LOCATION:Ιερός Ναός Αγίων Ισιδώρων Λυκαβηττού\, Λυκαβηττός\, Αθήνα\, Αττική\, 10210\, Greece
CATEGORIES:Όρθρος Και Θεία Λειτουργία
ORGANIZER;CN="%CE%99%CE%B5%CF%81%CF%8C%CF%82 %CE%9D%CE%B1%CF%8C%CF%82 %CE%91%CE%B3%CE%AF%CF%89%CE%BD %CE%99%CF%83%CE%B9%CE%B4%CF%8E%CF%81%CF%89%CE%BD %CE%9B%CF%85%CE%BA%CE%B1%CE%B2%CE%B7%CF%84%CF%84%CE%BF%CF%8D":MAILTO:aisidro@otenet.gr
END:VEVENT
BEGIN:VEVENT
DTSTART;TZID=Europe/Athens:20220504T193000
DTEND;TZID=Europe/Athens:20220504T203000
DTSTAMP:20260420T030703
CREATED:20220502T114403Z
LAST-MODIFIED:20220502T114403Z
UID:4477-1651692600-1651696200@www.agioi-isidoroi.gr
SUMMARY:Ι Ε Ρ Α Π Α Ν Η Γ Υ Ρ Ι Σ ΤΗΣ ΑΓΙΑΣ ΕΙΡΗΝΗΣ & ΤΟΥ ΑΓΙΟΥ ΕΦΡΑΙΜ Ν. ΜΑΚΡΗΣ
DESCRIPTION:Πανηγυρικός εσπερινός
URL:https://www.agioi-isidoroi.gr/leitourgia/i-e-r-a-p-a-n-i-g-y-r-i-s-tis-agias-eirinis-amp-toy-agioy-efraim-n-makris/
LOCATION:Ιερός Ναός Αγίων Ισιδώρων Λυκαβηττού\, Λυκαβηττός\, Αθήνα\, Αττική\, 10210\, Greece
CATEGORIES:Εσπερινός
ORGANIZER;CN="%CE%99%CE%B5%CF%81%CF%8C%CF%82 %CE%9D%CE%B1%CF%8C%CF%82 %CE%91%CE%B3%CE%AF%CF%89%CE%BD %CE%99%CF%83%CE%B9%CE%B4%CF%8E%CF%81%CF%89%CE%BD %CE%9B%CF%85%CE%BA%CE%B1%CE%B2%CE%B7%CF%84%CF%84%CE%BF%CF%8D":MAILTO:aisidro@otenet.gr
END:VEVENT
BEGIN:VEVENT
DTSTART;TZID=Europe/Athens:20220504T073000
DTEND;TZID=Europe/Athens:20220504T093000
DTSTAMP:20260420T030703
CREATED:20220430T171706Z
LAST-MODIFIED:20220430T171706Z
UID:4475-1651649400-1651656600@www.agioi-isidoroi.gr
SUMMARY:Αγίας μάρτυρος Πελαγίας
DESCRIPTION:Όρθρος & Θεία Λειτουργία
URL:https://www.agioi-isidoroi.gr/leitourgia/agias-martyros-pelagias/
LOCATION:Ιερός Ναός Αγίων Ισιδώρων Λυκαβηττού\, Λυκαβηττός\, Αθήνα\, Αττική\, 10210\, Greece
CATEGORIES:Όρθρος Και Θεία Λειτουργία
ORGANIZER;CN="%CE%99%CE%B5%CF%81%CF%8C%CF%82 %CE%9D%CE%B1%CF%8C%CF%82 %CE%91%CE%B3%CE%AF%CF%89%CE%BD %CE%99%CF%83%CE%B9%CE%B4%CF%8E%CF%81%CF%89%CE%BD %CE%9B%CF%85%CE%BA%CE%B1%CE%B2%CE%B7%CF%84%CF%84%CE%BF%CF%8D":MAILTO:aisidro@otenet.gr
END:VEVENT
BEGIN:VEVENT
DTSTART;TZID=Europe/Athens:20220503T073000
DTEND;TZID=Europe/Athens:20220503T093000
DTSTAMP:20260420T030703
CREATED:20220430T171606Z
LAST-MODIFIED:20220430T171606Z
UID:4473-1651563000-1651570200@www.agioi-isidoroi.gr
SUMMARY:Αγίων Τιμοθέου και Μαύρας
DESCRIPTION:Όρθρος & Θεία Λειτουργία
URL:https://www.agioi-isidoroi.gr/leitourgia/agion-timotheoy-kai-mayras/
LOCATION:Ιερός Ναός Αγίων Ισιδώρων Λυκαβηττού\, Λυκαβηττός\, Αθήνα\, Αττική\, 10210\, Greece
CATEGORIES:Όρθρος Και Θεία Λειτουργία
ORGANIZER;CN="%CE%99%CE%B5%CF%81%CF%8C%CF%82 %CE%9D%CE%B1%CF%8C%CF%82 %CE%91%CE%B3%CE%AF%CF%89%CE%BD %CE%99%CF%83%CE%B9%CE%B4%CF%8E%CF%81%CF%89%CE%BD %CE%9B%CF%85%CE%BA%CE%B1%CE%B2%CE%B7%CF%84%CF%84%CE%BF%CF%8D":MAILTO:aisidro@otenet.gr
END:VEVENT
BEGIN:VEVENT
DTSTART;TZID=Europe/Athens:20220502T073000
DTEND;TZID=Europe/Athens:20220502T093000
DTSTAMP:20260420T030703
CREATED:20220430T171522Z
LAST-MODIFIED:20220430T171522Z
UID:4471-1651476600-1651483800@www.agioi-isidoroi.gr
SUMMARY:Ανακομιδή λειψάνων Αγίου Αθανασίου
DESCRIPTION:Όρθρος & Θεία Λειτουργία
URL:https://www.agioi-isidoroi.gr/leitourgia/anakomidi-leipsanon-agioy-athanasioy/
LOCATION:Ιερός Ναός Αγίων Ισιδώρων Λυκαβηττού\, Λυκαβηττός\, Αθήνα\, Αττική\, 10210\, Greece
CATEGORIES:Όρθρος Και Θεία Λειτουργία
ORGANIZER;CN="%CE%99%CE%B5%CF%81%CF%8C%CF%82 %CE%9D%CE%B1%CF%8C%CF%82 %CE%91%CE%B3%CE%AF%CF%89%CE%BD %CE%99%CF%83%CE%B9%CE%B4%CF%8E%CF%81%CF%89%CE%BD %CE%9B%CF%85%CE%BA%CE%B1%CE%B2%CE%B7%CF%84%CF%84%CE%BF%CF%8D":MAILTO:aisidro@otenet.gr
END:VEVENT
BEGIN:VEVENT
DTSTART;TZID=Europe/Athens:20220501T073000
DTEND;TZID=Europe/Athens:20220501T113000
DTSTAMP:20260420T030703
CREATED:20220403T133513Z
LAST-MODIFIED:20220403T133513Z
UID:4457-1651390200-1651404600@www.agioi-isidoroi.gr
SUMMARY:ΤΟΥ ΘΩΜΑ\, Πρωτομαγιά
DESCRIPTION:Όρθρος & Θεία Λειτουργία
URL:https://www.agioi-isidoroi.gr/leitourgia/toy-thoma-protomagia/
LOCATION:Ιερός Ναός Αγίων Ισιδώρων Λυκαβηττού\, Λυκαβηττός\, Αθήνα\, Αττική\, 10210\, Greece
CATEGORIES:Όρθρος Και Θεία Λειτουργία
ORGANIZER;CN="%CE%99%CE%B5%CF%81%CF%8C%CF%82 %CE%9D%CE%B1%CF%8C%CF%82 %CE%91%CE%B3%CE%AF%CF%89%CE%BD %CE%99%CF%83%CE%B9%CE%B4%CF%8E%CF%81%CF%89%CE%BD %CE%9B%CF%85%CE%BA%CE%B1%CE%B2%CE%B7%CF%84%CF%84%CE%BF%CF%8D":MAILTO:aisidro@otenet.gr
END:VEVENT
BEGIN:VEVENT
DTSTART;TZID=Europe/Athens:20220430T190000
DTEND;TZID=Europe/Athens:20220430T200000
DTSTAMP:20260420T030703
CREATED:20220403T133425Z
LAST-MODIFIED:20220403T133425Z
UID:4455-1651345200-1651348800@www.agioi-isidoroi.gr
SUMMARY:Αναστάσιμος Εσπερινός
DESCRIPTION:
URL:https://www.agioi-isidoroi.gr/leitourgia/anastasimos-esperinos-31/
LOCATION:Ιερός Ναός Αγίων Ισιδώρων Λυκαβηττού\, Λυκαβηττός\, Αθήνα\, Αττική\, 10210\, Greece
CATEGORIES:Αναστάσιμος Εσπερινός
ORGANIZER;CN="%CE%99%CE%B5%CF%81%CF%8C%CF%82 %CE%9D%CE%B1%CF%8C%CF%82 %CE%91%CE%B3%CE%AF%CF%89%CE%BD %CE%99%CF%83%CE%B9%CE%B4%CF%8E%CF%81%CF%89%CE%BD %CE%9B%CF%85%CE%BA%CE%B1%CE%B2%CE%B7%CF%84%CF%84%CE%BF%CF%8D":MAILTO:aisidro@otenet.gr
END:VEVENT
BEGIN:VEVENT
DTSTART;TZID=Europe/Athens:20220430T073000
DTEND;TZID=Europe/Athens:20220430T093000
DTSTAMP:20260420T030703
CREATED:20220403T133346Z
LAST-MODIFIED:20220403T133346Z
UID:4453-1651303800-1651311000@www.agioi-isidoroi.gr
SUMMARY:Νεομάρτυρος Αργυρής (+1725)
DESCRIPTION:Όρθρος & Θεία Λειτουργία
URL:https://www.agioi-isidoroi.gr/leitourgia/neomartyros-argyris-1725/
LOCATION:Ιερός Ναός Αγίων Ισιδώρων Λυκαβηττού\, Λυκαβηττός\, Αθήνα\, Αττική\, 10210\, Greece
CATEGORIES:Όρθρος Και Θεία Λειτουργία
ORGANIZER;CN="%CE%99%CE%B5%CF%81%CF%8C%CF%82 %CE%9D%CE%B1%CF%8C%CF%82 %CE%91%CE%B3%CE%AF%CF%89%CE%BD %CE%99%CF%83%CE%B9%CE%B4%CF%8E%CF%81%CF%89%CE%BD %CE%9B%CF%85%CE%BA%CE%B1%CE%B2%CE%B7%CF%84%CF%84%CE%BF%CF%8D":MAILTO:aisidro@otenet.gr
END:VEVENT
BEGIN:VEVENT
DTSTART;TZID=Europe/Athens:20220429T073000
DTEND;TZID=Europe/Athens:20220429T093000
DTSTAMP:20260420T030703
CREATED:20220403T133304Z
LAST-MODIFIED:20220403T133304Z
UID:4451-1651217400-1651224600@www.agioi-isidoroi.gr
SUMMARY:Της Ζωοδόχου Πηγής
DESCRIPTION:Όρθρος & Πανηγυρική Θεία Λειτουργία \n*Πανηγυρίζει το Ιερό Εικονοστάσιο της Ζωοδόχου Πηγής.
URL:https://www.agioi-isidoroi.gr/leitourgia/tis-zoodochoy-pigis-2/
LOCATION:Ιερός Ναός Αγίων Ισιδώρων Λυκαβηττού\, Λυκαβηττός\, Αθήνα\, Αττική\, 10210\, Greece
CATEGORIES:Όρθρος Και Θεία Λειτουργία
ORGANIZER;CN="%CE%99%CE%B5%CF%81%CF%8C%CF%82 %CE%9D%CE%B1%CF%8C%CF%82 %CE%91%CE%B3%CE%AF%CF%89%CE%BD %CE%99%CF%83%CE%B9%CE%B4%CF%8E%CF%81%CF%89%CE%BD %CE%9B%CF%85%CE%BA%CE%B1%CE%B2%CE%B7%CF%84%CF%84%CE%BF%CF%8D":MAILTO:aisidro@otenet.gr
END:VEVENT
BEGIN:VEVENT
DTSTART;TZID=Europe/Athens:20220428T190000
DTEND;TZID=Europe/Athens:20220428T200000
DTSTAMP:20260420T030703
CREATED:20220403T133200Z
LAST-MODIFIED:20220403T133200Z
UID:4449-1651172400-1651176000@www.agioi-isidoroi.gr
SUMMARY:Πανηγυρικός εσπερινός
DESCRIPTION:
URL:https://www.agioi-isidoroi.gr/leitourgia/panigyrikos-esperinos-16/
LOCATION:Ιερός Ναός Αγίων Ισιδώρων Λυκαβηττού\, Λυκαβηττός\, Αθήνα\, Αττική\, 10210\, Greece
CATEGORIES:Εσπερινός
ORGANIZER;CN="%CE%99%CE%B5%CF%81%CF%8C%CF%82 %CE%9D%CE%B1%CF%8C%CF%82 %CE%91%CE%B3%CE%AF%CF%89%CE%BD %CE%99%CF%83%CE%B9%CE%B4%CF%8E%CF%81%CF%89%CE%BD %CE%9B%CF%85%CE%BA%CE%B1%CE%B2%CE%B7%CF%84%CF%84%CE%BF%CF%8D":MAILTO:aisidro@otenet.gr
END:VEVENT
END:VCALENDAR