BEGIN:VCALENDAR
VERSION:2.0
PRODID:-//ΙΕΡΟΣ ΝΑΟΣ ΑΓΙΩΝ ΙΣΙΔΩΡΩΝ - ECPv6.15.17.1//NONSGML v1.0//EN
CALSCALE:GREGORIAN
METHOD:PUBLISH
X-WR-CALNAME:ΙΕΡΟΣ ΝΑΟΣ ΑΓΙΩΝ ΙΣΙΔΩΡΩΝ
X-ORIGINAL-URL:https://www.agioi-isidoroi.gr
X-WR-CALDESC:Events for ΙΕΡΟΣ ΝΑΟΣ ΑΓΙΩΝ ΙΣΙΔΩΡΩΝ
REFRESH-INTERVAL;VALUE=DURATION:PT1H
X-Robots-Tag:noindex
X-PUBLISHED-TTL:PT1H
BEGIN:VTIMEZONE
TZID:Europe/Athens
BEGIN:DAYLIGHT
TZOFFSETFROM:+0200
TZOFFSETTO:+0300
TZNAME:EEST
DTSTART:20200329T010000
END:DAYLIGHT
BEGIN:STANDARD
TZOFFSETFROM:+0300
TZOFFSETTO:+0200
TZNAME:EET
DTSTART:20201025T010000
END:STANDARD
BEGIN:DAYLIGHT
TZOFFSETFROM:+0200
TZOFFSETTO:+0300
TZNAME:EEST
DTSTART:20210328T010000
END:DAYLIGHT
BEGIN:STANDARD
TZOFFSETFROM:+0300
TZOFFSETTO:+0200
TZNAME:EET
DTSTART:20211031T010000
END:STANDARD
BEGIN:DAYLIGHT
TZOFFSETFROM:+0200
TZOFFSETTO:+0300
TZNAME:EEST
DTSTART:20220327T010000
END:DAYLIGHT
BEGIN:STANDARD
TZOFFSETFROM:+0300
TZOFFSETTO:+0200
TZNAME:EET
DTSTART:20221030T010000
END:STANDARD
END:VTIMEZONE
BEGIN:VEVENT
DTSTART;TZID=Europe/Athens:20210927T200000
DTEND;TZID=Europe/Athens:20210927T220000
DTSTAMP:20260420T032730
CREATED:20210902T150546Z
LAST-MODIFIED:20210902T150546Z
UID:3770-1632772800-1632780000@www.agioi-isidoroi.gr
SUMMARY:Ο ΠΑΡΑΚΛΗΤΙΚΟΣ ΚΑΝΟΝΑΣ ΤΩΝ ΑΓΙΩΝ
DESCRIPTION:
URL:https://www.agioi-isidoroi.gr/leitourgia/o-paraklitikos-kanonas-ton-agion/
LOCATION:Ιερός Ναός Αγίων Ισιδώρων Λυκαβηττού\, Λυκαβηττός\, Αθήνα\, Αττική\, 10210\, Greece
ORGANIZER;CN="%CE%99%CE%B5%CF%81%CF%8C%CF%82 %CE%9D%CE%B1%CF%8C%CF%82 %CE%91%CE%B3%CE%AF%CF%89%CE%BD %CE%99%CF%83%CE%B9%CE%B4%CF%8E%CF%81%CF%89%CE%BD %CE%9B%CF%85%CE%BA%CE%B1%CE%B2%CE%B7%CF%84%CF%84%CE%BF%CF%8D":MAILTO:aisidro@otenet.gr
END:VEVENT
BEGIN:VEVENT
DTSTART;TZID=Europe/Athens:20210927T190000
DTEND;TZID=Europe/Athens:20210927T200000
DTSTAMP:20260420T032730
CREATED:20210902T150459Z
LAST-MODIFIED:20210902T150459Z
UID:3768-1632769200-1632772800@www.agioi-isidoroi.gr
SUMMARY:ΛΙΤΑΝΕΙΑ ΙΕΡΑΣ ΕΙΚΟΝΟΣ ΤΩΝ ΑΓΙΩΝ ΙΣΙΔΩΡΩΝ
DESCRIPTION:ΛΙΤΑΝΕΙΑ                                                
URL:https://www.agioi-isidoroi.gr/leitourgia/litaneia-ieras-eikonos-ton-agion-isidoron/
LOCATION:Ιερός Ναός Αγίων Ισιδώρων Λυκαβηττού\, Λυκαβηττός\, Αθήνα\, Αττική\, 10210\, Greece
ORGANIZER;CN="%CE%99%CE%B5%CF%81%CF%8C%CF%82 %CE%9D%CE%B1%CF%8C%CF%82 %CE%91%CE%B3%CE%AF%CF%89%CE%BD %CE%99%CF%83%CE%B9%CE%B4%CF%8E%CF%81%CF%89%CE%BD %CE%9B%CF%85%CE%BA%CE%B1%CE%B2%CE%B7%CF%84%CF%84%CE%BF%CF%8D":MAILTO:aisidro@otenet.gr
END:VEVENT
BEGIN:VEVENT
DTSTART;TZID=Europe/Athens:20210927T180000
DTEND;TZID=Europe/Athens:20210927T190000
DTSTAMP:20260420T032730
CREATED:20210902T150358Z
LAST-MODIFIED:20210902T150358Z
UID:3766-1632765600-1632769200@www.agioi-isidoroi.gr
SUMMARY:ΜΕΘΕΟΡΤΟΣ ΕΣΠΕΡΙΝΟΣ
DESCRIPTION:
URL:https://www.agioi-isidoroi.gr/leitourgia/metheortos-esperinos/
LOCATION:Ιερός Ναός Αγίων Ισιδώρων Λυκαβηττού\, Λυκαβηττός\, Αθήνα\, Αττική\, 10210\, Greece
CATEGORIES:Εσπερινός
ORGANIZER;CN="%CE%99%CE%B5%CF%81%CF%8C%CF%82 %CE%9D%CE%B1%CF%8C%CF%82 %CE%91%CE%B3%CE%AF%CF%89%CE%BD %CE%99%CF%83%CE%B9%CE%B4%CF%8E%CF%81%CF%89%CE%BD %CE%9B%CF%85%CE%BA%CE%B1%CE%B2%CE%B7%CF%84%CF%84%CE%BF%CF%8D":MAILTO:aisidro@otenet.gr
END:VEVENT
BEGIN:VEVENT
DTSTART;TZID=Europe/Athens:20210927T073000
DTEND;TZID=Europe/Athens:20210927T103000
DTSTAMP:20260420T032730
CREATED:20210902T150319Z
LAST-MODIFIED:20210902T150319Z
UID:3764-1632727800-1632738600@www.agioi-isidoroi.gr
SUMMARY:ΙΕΡΑ ΠΑΝΗΓΥΡΙΣ ΤΗΣ ΣΥΝΑΞΕΩΣ  ΤΩΝ ΑΓΙΩΝ ΙΣΙΔΩΡΩΝ ΠΗΛΟΥΣΙΩΤΟΥ & ΧΙΟΠΟΛΙΤΟΥ
DESCRIPTION:ΟΡΘΡΟΣ & ΠΑΝΗΓΥΡΙΚΗ ΘΕΙΑ ΛΕΙΤΟΥΡΓΙΑ \n«Ισιδώρων δυάδα την αγιόλεκτον εγκωμιάσωμεν πόθῳ Λυκαβηττού εν δρυμοίς και αυτών σεπτήν εικόνα προσκυνήσωμεν κράζοντες· Χίου αριστεύ και του όρους οικιστά φωσφόρε του Πηλουσίου\,  άμφω πιστούς οὐρανόθεν ἐπευλογεῖτε καὶ στηρίζετε».
URL:https://www.agioi-isidoroi.gr/leitourgia/iera-panigyris-tis-synaxeos-ton-agion-isidoron-piloysiotoy-amp-chiopolitoy/
LOCATION:Ιερός Ναός Αγίων Ισιδώρων Λυκαβηττού\, Λυκαβηττός\, Αθήνα\, Αττική\, 10210\, Greece
CATEGORIES:Όρθρος Και Θεία Λειτουργία
ORGANIZER;CN="%CE%99%CE%B5%CF%81%CF%8C%CF%82 %CE%9D%CE%B1%CF%8C%CF%82 %CE%91%CE%B3%CE%AF%CF%89%CE%BD %CE%99%CF%83%CE%B9%CE%B4%CF%8E%CF%81%CF%89%CE%BD %CE%9B%CF%85%CE%BA%CE%B1%CE%B2%CE%B7%CF%84%CF%84%CE%BF%CF%8D":MAILTO:aisidro@otenet.gr
END:VEVENT
BEGIN:VEVENT
DTSTART;TZID=Europe/Athens:20210926T213000
DTEND;TZID=Europe/Athens:20210927T003000
DTSTAMP:20260420T032730
CREATED:20210902T150136Z
LAST-MODIFIED:20210902T150136Z
UID:3762-1632691800-1632702600@www.agioi-isidoroi.gr
SUMMARY:ΙΕΡΑ ΑΓΡΥΠΝΙΑ
DESCRIPTION:
URL:https://www.agioi-isidoroi.gr/leitourgia/iera-agrypnia-9/
LOCATION:Ιερός Ναός Αγίων Ισιδώρων Λυκαβηττού\, Λυκαβηττός\, Αθήνα\, Αττική\, 10210\, Greece
CATEGORIES:Ιερά Αγρυπνία
ORGANIZER;CN="%CE%99%CE%B5%CF%81%CF%8C%CF%82 %CE%9D%CE%B1%CF%8C%CF%82 %CE%91%CE%B3%CE%AF%CF%89%CE%BD %CE%99%CF%83%CE%B9%CE%B4%CF%8E%CF%81%CF%89%CE%BD %CE%9B%CF%85%CE%BA%CE%B1%CE%B2%CE%B7%CF%84%CF%84%CE%BF%CF%8D":MAILTO:aisidro@otenet.gr
END:VEVENT
BEGIN:VEVENT
DTSTART;TZID=Europe/Athens:20210926T190000
DTEND;TZID=Europe/Athens:20210926T213000
DTSTAMP:20260420T032730
CREATED:20210902T150043Z
LAST-MODIFIED:20210902T150043Z
UID:3760-1632682800-1632691800@www.agioi-isidoroi.gr
SUMMARY:ΜΕΓΑΣ ΠΑΝΗΓΥΡΙΚΟΣ ΕΣΠΕΡΙΝΟΣ
DESCRIPTION:
URL:https://www.agioi-isidoroi.gr/leitourgia/megas-panigyrikos-esperinos-2/
LOCATION:Ιερός Ναός Αγίων Ισιδώρων Λυκαβηττού\, Λυκαβηττός\, Αθήνα\, Αττική\, 10210\, Greece
CATEGORIES:Εσπερινός
ORGANIZER;CN="%CE%99%CE%B5%CF%81%CF%8C%CF%82 %CE%9D%CE%B1%CF%8C%CF%82 %CE%91%CE%B3%CE%AF%CF%89%CE%BD %CE%99%CF%83%CE%B9%CE%B4%CF%8E%CF%81%CF%89%CE%BD %CE%9B%CF%85%CE%BA%CE%B1%CE%B2%CE%B7%CF%84%CF%84%CE%BF%CF%8D":MAILTO:aisidro@otenet.gr
END:VEVENT
BEGIN:VEVENT
DTSTART;TZID=Europe/Athens:20210926T073000
DTEND;TZID=Europe/Athens:20210926T103000
DTSTAMP:20260420T032730
CREATED:20210902T145941Z
LAST-MODIFIED:20210902T145941Z
UID:3758-1632641400-1632652200@www.agioi-isidoroi.gr
SUMMARY:Η μετάσταση Αγίου Ιωάννου του Θεολόγου
DESCRIPTION:Όρθρος & Θεία Λειτουργία
URL:https://www.agioi-isidoroi.gr/leitourgia/i-metastasi-agioy-ioannoy-toy-theologoy/
LOCATION:Ιερός Ναός Αγίων Ισιδώρων Λυκαβηττού\, Λυκαβηττός\, Αθήνα\, Αττική\, 10210\, Greece
CATEGORIES:Όρθρος Και Θεία Λειτουργία
ORGANIZER;CN="%CE%99%CE%B5%CF%81%CF%8C%CF%82 %CE%9D%CE%B1%CF%8C%CF%82 %CE%91%CE%B3%CE%AF%CF%89%CE%BD %CE%99%CF%83%CE%B9%CE%B4%CF%8E%CF%81%CF%89%CE%BD %CE%9B%CF%85%CE%BA%CE%B1%CE%B2%CE%B7%CF%84%CF%84%CE%BF%CF%8D":MAILTO:aisidro@otenet.gr
END:VEVENT
BEGIN:VEVENT
DTSTART;TZID=Europe/Athens:20210925T073000
DTEND;TZID=Europe/Athens:20210925T103000
DTSTAMP:20260420T032730
CREATED:20210902T145855Z
LAST-MODIFIED:20210902T145855Z
UID:3756-1632555000-1632565800@www.agioi-isidoroi.gr
SUMMARY:Αγίας Ευφροσύνης
DESCRIPTION:Όρθρος & Θεία Λειτουργία
URL:https://www.agioi-isidoroi.gr/leitourgia/agias-eyfrosynis/
LOCATION:Ιερός Ναός Αγίων Ισιδώρων Λυκαβηττού\, Λυκαβηττός\, Αθήνα\, Αττική\, 10210\, Greece
CATEGORIES:Όρθρος Και Θεία Λειτουργία
ORGANIZER;CN="%CE%99%CE%B5%CF%81%CF%8C%CF%82 %CE%9D%CE%B1%CF%8C%CF%82 %CE%91%CE%B3%CE%AF%CF%89%CE%BD %CE%99%CF%83%CE%B9%CE%B4%CF%8E%CF%81%CF%89%CE%BD %CE%9B%CF%85%CE%BA%CE%B1%CE%B2%CE%B7%CF%84%CF%84%CE%BF%CF%8D":MAILTO:aisidro@otenet.gr
END:VEVENT
BEGIN:VEVENT
DTSTART;TZID=Europe/Athens:20210924T073000
DTEND;TZID=Europe/Athens:20210924T103000
DTSTAMP:20260420T032730
CREATED:20210902T145809Z
LAST-MODIFIED:20210902T145809Z
UID:3754-1632468600-1632479400@www.agioi-isidoroi.gr
SUMMARY:Παναγίας Μυρτιδιωτίσσης\, Ισαπ. Θέκλης
DESCRIPTION:Όρθρος & Θεία Λειτουργία  \n\nΕορτάζει το εικονοστάσιο της Παναγίας της Μυρτιδιώτισσας\n\n 
URL:https://www.agioi-isidoroi.gr/leitourgia/panagias-myrtidiotissis-isap-theklis/
LOCATION:Ιερός Ναός Αγίων Ισιδώρων Λυκαβηττού\, Λυκαβηττός\, Αθήνα\, Αττική\, 10210\, Greece
CATEGORIES:Όρθρος Και Θεία Λειτουργία
ORGANIZER;CN="%CE%99%CE%B5%CF%81%CF%8C%CF%82 %CE%9D%CE%B1%CF%8C%CF%82 %CE%91%CE%B3%CE%AF%CF%89%CE%BD %CE%99%CF%83%CE%B9%CE%B4%CF%8E%CF%81%CF%89%CE%BD %CE%9B%CF%85%CE%BA%CE%B1%CE%B2%CE%B7%CF%84%CF%84%CE%BF%CF%8D":MAILTO:aisidro@otenet.gr
END:VEVENT
BEGIN:VEVENT
DTSTART;TZID=Europe/Athens:20210923T183000
DTEND;TZID=Europe/Athens:20210923T213000
DTSTAMP:20260420T032730
CREATED:20210902T145638Z
LAST-MODIFIED:20210902T145638Z
UID:3751-1632421800-1632432600@www.agioi-isidoroi.gr
SUMMARY:Εσπερινός & Νυχτερινή Θεία Λειτουργία
DESCRIPTION:
URL:https://www.agioi-isidoroi.gr/leitourgia/esperinos-amp-nychterini-theia-leitoyrgia-7/
LOCATION:Ιερός Ναός Αγίων Ισιδώρων Λυκαβηττού\, Λυκαβηττός\, Αθήνα\, Αττική\, 10210\, Greece
CATEGORIES:Εσπερινός,Θεία Λειτουργία
ORGANIZER;CN="%CE%99%CE%B5%CF%81%CF%8C%CF%82 %CE%9D%CE%B1%CF%8C%CF%82 %CE%91%CE%B3%CE%AF%CF%89%CE%BD %CE%99%CF%83%CE%B9%CE%B4%CF%8E%CF%81%CF%89%CE%BD %CE%9B%CF%85%CE%BA%CE%B1%CE%B2%CE%B7%CF%84%CF%84%CE%BF%CF%8D":MAILTO:aisidro@otenet.gr
END:VEVENT
BEGIN:VEVENT
DTSTART;TZID=Europe/Athens:20210923T073000
DTEND;TZID=Europe/Athens:20210923T103000
DTSTAMP:20260420T032730
CREATED:20210902T145550Z
LAST-MODIFIED:20210902T145550Z
UID:3749-1632382200-1632393000@www.agioi-isidoroi.gr
SUMMARY:Σύλληψη του Προδρόμου
DESCRIPTION:Όρθρος & Θεία Λειτουργία
URL:https://www.agioi-isidoroi.gr/leitourgia/syllipsi-toy-prodromoy/
LOCATION:Ιερός Ναός Αγίων Ισιδώρων Λυκαβηττού\, Λυκαβηττός\, Αθήνα\, Αττική\, 10210\, Greece
CATEGORIES:Όρθρος Και Θεία Λειτουργία
ORGANIZER;CN="%CE%99%CE%B5%CF%81%CF%8C%CF%82 %CE%9D%CE%B1%CF%8C%CF%82 %CE%91%CE%B3%CE%AF%CF%89%CE%BD %CE%99%CF%83%CE%B9%CE%B4%CF%8E%CF%81%CF%89%CE%BD %CE%9B%CF%85%CE%BA%CE%B1%CE%B2%CE%B7%CF%84%CF%84%CE%BF%CF%8D":MAILTO:aisidro@otenet.gr
END:VEVENT
BEGIN:VEVENT
DTSTART;TZID=Europe/Athens:20210922T073000
DTEND;TZID=Europe/Athens:20210922T103000
DTSTAMP:20260420T032730
CREATED:20210902T145503Z
LAST-MODIFIED:20210902T145503Z
UID:3747-1632295800-1632306600@www.agioi-isidoroi.gr
SUMMARY:Αγίου ιερομάρτ. Φωκά
DESCRIPTION:Όρθρος & Θεία Λειτουργία
URL:https://www.agioi-isidoroi.gr/leitourgia/agioy-ieromart-foka/
LOCATION:Ιερός Ναός Αγίων Ισιδώρων Λυκαβηττού\, Λυκαβηττός\, Αθήνα\, Αττική\, 10210\, Greece
CATEGORIES:Όρθρος Και Θεία Λειτουργία
ORGANIZER;CN="%CE%99%CE%B5%CF%81%CF%8C%CF%82 %CE%9D%CE%B1%CF%8C%CF%82 %CE%91%CE%B3%CE%AF%CF%89%CE%BD %CE%99%CF%83%CE%B9%CE%B4%CF%8E%CF%81%CF%89%CE%BD %CE%9B%CF%85%CE%BA%CE%B1%CE%B2%CE%B7%CF%84%CF%84%CE%BF%CF%8D":MAILTO:aisidro@otenet.gr
END:VEVENT
BEGIN:VEVENT
DTSTART;TZID=Europe/Athens:20210921T073000
DTEND;TZID=Europe/Athens:20210921T103000
DTSTAMP:20260420T032730
CREATED:20210902T145416Z
LAST-MODIFIED:20210902T145416Z
UID:3745-1632209400-1632220200@www.agioi-isidoroi.gr
SUMMARY:Απόδοσις της Υψώσεως του Τιμίου Σταυρού
DESCRIPTION:Όρθρος & Θεία Λειτουργία
URL:https://www.agioi-isidoroi.gr/leitourgia/apodosis-tis-ypsoseos-toy-timioy-stayroy/
LOCATION:Ιερός Ναός Αγίων Ισιδώρων Λυκαβηττού\, Λυκαβηττός\, Αθήνα\, Αττική\, 10210\, Greece
CATEGORIES:Όρθρος Και Θεία Λειτουργία
ORGANIZER;CN="%CE%99%CE%B5%CF%81%CF%8C%CF%82 %CE%9D%CE%B1%CF%8C%CF%82 %CE%91%CE%B3%CE%AF%CF%89%CE%BD %CE%99%CF%83%CE%B9%CE%B4%CF%8E%CF%81%CF%89%CE%BD %CE%9B%CF%85%CE%BA%CE%B1%CE%B2%CE%B7%CF%84%CF%84%CE%BF%CF%8D":MAILTO:aisidro@otenet.gr
END:VEVENT
BEGIN:VEVENT
DTSTART;TZID=Europe/Athens:20210920T183000
DTEND;TZID=Europe/Athens:20210920T213000
DTSTAMP:20260420T032730
CREATED:20210902T145325Z
LAST-MODIFIED:20210902T145325Z
UID:3743-1632162600-1632173400@www.agioi-isidoroi.gr
SUMMARY:Εσπερινός της Αποδόσεως  Ύψωσεως Τιμίου Σταυρού
DESCRIPTION:
URL:https://www.agioi-isidoroi.gr/leitourgia/esperinos-tis-apodoseos-ypsoseos-timioy-stayroy/
LOCATION:Ιερός Ναός Αγίων Ισιδώρων Λυκαβηττού\, Λυκαβηττός\, Αθήνα\, Αττική\, 10210\, Greece
CATEGORIES:Εσπερινός
ORGANIZER;CN="%CE%99%CE%B5%CF%81%CF%8C%CF%82 %CE%9D%CE%B1%CF%8C%CF%82 %CE%91%CE%B3%CE%AF%CF%89%CE%BD %CE%99%CF%83%CE%B9%CE%B4%CF%8E%CF%81%CF%89%CE%BD %CE%9B%CF%85%CE%BA%CE%B1%CE%B2%CE%B7%CF%84%CF%84%CE%BF%CF%8D":MAILTO:aisidro@otenet.gr
END:VEVENT
BEGIN:VEVENT
DTSTART;TZID=Europe/Athens:20210920T073000
DTEND;TZID=Europe/Athens:20210920T103000
DTSTAMP:20260420T032730
CREATED:20210902T145250Z
LAST-MODIFIED:20210902T145250Z
UID:3741-1632123000-1632133800@www.agioi-isidoroi.gr
SUMMARY:Ευσταθίου μεγαλομάρτ.
DESCRIPTION:Όρθρος & Θεία Λειτουργία
URL:https://www.agioi-isidoroi.gr/leitourgia/eystathioy-megalomart/
LOCATION:Ιερός Ναός Αγίων Ισιδώρων Λυκαβηττού\, Λυκαβηττός\, Αθήνα\, Αττική\, 10210\, Greece
CATEGORIES:Όρθρος Και Θεία Λειτουργία
ORGANIZER;CN="%CE%99%CE%B5%CF%81%CF%8C%CF%82 %CE%9D%CE%B1%CF%8C%CF%82 %CE%91%CE%B3%CE%AF%CF%89%CE%BD %CE%99%CF%83%CE%B9%CE%B4%CF%8E%CF%81%CF%89%CE%BD %CE%9B%CF%85%CE%BA%CE%B1%CE%B2%CE%B7%CF%84%CF%84%CE%BF%CF%8D":MAILTO:aisidro@otenet.gr
END:VEVENT
BEGIN:VEVENT
DTSTART;TZID=Europe/Athens:20210919T073000
DTEND;TZID=Europe/Athens:20210919T103000
DTSTAMP:20260420T032730
CREATED:20210902T145202Z
LAST-MODIFIED:20210902T145202Z
UID:3739-1632036600-1632047400@www.agioi-isidoroi.gr
SUMMARY:ΜΕΤΑ ΤΗΝ ΥΨΩΣΗ
DESCRIPTION:Όρθρος & Θεία Λειτουργία
URL:https://www.agioi-isidoroi.gr/leitourgia/meta-tin-ypsosi/
LOCATION:Ιερός Ναός Αγίων Ισιδώρων Λυκαβηττού\, Λυκαβηττός\, Αθήνα\, Αττική\, 10210\, Greece
CATEGORIES:Όρθρος Και Θεία Λειτουργία
ORGANIZER;CN="%CE%99%CE%B5%CF%81%CF%8C%CF%82 %CE%9D%CE%B1%CF%8C%CF%82 %CE%91%CE%B3%CE%AF%CF%89%CE%BD %CE%99%CF%83%CE%B9%CE%B4%CF%8E%CF%81%CF%89%CE%BD %CE%9B%CF%85%CE%BA%CE%B1%CE%B2%CE%B7%CF%84%CF%84%CE%BF%CF%8D":MAILTO:aisidro@otenet.gr
END:VEVENT
BEGIN:VEVENT
DTSTART;TZID=Europe/Athens:20210918T183000
DTEND;TZID=Europe/Athens:20210918T213000
DTSTAMP:20260420T032730
CREATED:20210902T145118Z
LAST-MODIFIED:20210902T145118Z
UID:3737-1631989800-1632000600@www.agioi-isidoroi.gr
SUMMARY:Αναστάσιμος Εσπερινός
DESCRIPTION:
URL:https://www.agioi-isidoroi.gr/leitourgia/anastasimos-esperinos-16/
LOCATION:Ιερός Ναός Αγίων Ισιδώρων Λυκαβηττού\, Λυκαβηττός\, Αθήνα\, Αττική\, 10210\, Greece
CATEGORIES:Αναστάσιμος Εσπερινός
ORGANIZER;CN="%CE%99%CE%B5%CF%81%CF%8C%CF%82 %CE%9D%CE%B1%CF%8C%CF%82 %CE%91%CE%B3%CE%AF%CF%89%CE%BD %CE%99%CF%83%CE%B9%CE%B4%CF%8E%CF%81%CF%89%CE%BD %CE%9B%CF%85%CE%BA%CE%B1%CE%B2%CE%B7%CF%84%CF%84%CE%BF%CF%8D":MAILTO:aisidro@otenet.gr
END:VEVENT
BEGIN:VEVENT
DTSTART;TZID=Europe/Athens:20210918T073000
DTEND;TZID=Europe/Athens:20210918T103000
DTSTAMP:20260420T032730
CREATED:20210902T145037Z
LAST-MODIFIED:20210902T145037Z
UID:3735-1631950200-1631961000@www.agioi-isidoroi.gr
SUMMARY:Ευμενίου επισκ. Γορτύνης
DESCRIPTION:Όρθρος & Θεία Λειτουργία
URL:https://www.agioi-isidoroi.gr/leitourgia/eymenioy-episk-gortynis/
LOCATION:Ιερός Ναός Αγίων Ισιδώρων Λυκαβηττού\, Λυκαβηττός\, Αθήνα\, Αττική\, 10210\, Greece
CATEGORIES:Όρθρος Και Θεία Λειτουργία
ORGANIZER;CN="%CE%99%CE%B5%CF%81%CF%8C%CF%82 %CE%9D%CE%B1%CF%8C%CF%82 %CE%91%CE%B3%CE%AF%CF%89%CE%BD %CE%99%CF%83%CE%B9%CE%B4%CF%8E%CF%81%CF%89%CE%BD %CE%9B%CF%85%CE%BA%CE%B1%CE%B2%CE%B7%CF%84%CF%84%CE%BF%CF%8D":MAILTO:aisidro@otenet.gr
END:VEVENT
BEGIN:VEVENT
DTSTART;TZID=Europe/Athens:20210917T073000
DTEND;TZID=Europe/Athens:20210917T103000
DTSTAMP:20260420T032730
CREATED:20210902T144956Z
LAST-MODIFIED:20210902T144956Z
UID:3733-1631863800-1631874600@www.agioi-isidoroi.gr
SUMMARY:Αγίας Σοφίας\, Πίστεως\, Ελπίδος & Αγάπης
DESCRIPTION:Όρθρος & Θεία Λειτουργία
URL:https://www.agioi-isidoroi.gr/leitourgia/agias-sofias-pisteos-elpidos-amp-agapis/
LOCATION:Ιερός Ναός Αγίων Ισιδώρων Λυκαβηττού\, Λυκαβηττός\, Αθήνα\, Αττική\, 10210\, Greece
CATEGORIES:Όρθρος Και Θεία Λειτουργία
ORGANIZER;CN="%CE%99%CE%B5%CF%81%CF%8C%CF%82 %CE%9D%CE%B1%CF%8C%CF%82 %CE%91%CE%B3%CE%AF%CF%89%CE%BD %CE%99%CF%83%CE%B9%CE%B4%CF%8E%CF%81%CF%89%CE%BD %CE%9B%CF%85%CE%BA%CE%B1%CE%B2%CE%B7%CF%84%CF%84%CE%BF%CF%8D":MAILTO:aisidro@otenet.gr
END:VEVENT
BEGIN:VEVENT
DTSTART;TZID=Europe/Athens:20210916T073000
DTEND;TZID=Europe/Athens:20210916T103000
DTSTAMP:20260420T032730
CREATED:20210902T144914Z
LAST-MODIFIED:20210902T144914Z
UID:3731-1631777400-1631788200@www.agioi-isidoroi.gr
SUMMARY:Αγίας Ευφημίας
DESCRIPTION:Όρθρος & Θεία Λειτουργία
URL:https://www.agioi-isidoroi.gr/leitourgia/agias-eyfimias/
LOCATION:Ιερός Ναός Αγίων Ισιδώρων Λυκαβηττού\, Λυκαβηττός\, Αθήνα\, Αττική\, 10210\, Greece
CATEGORIES:Όρθρος Και Θεία Λειτουργία
ORGANIZER;CN="%CE%99%CE%B5%CF%81%CF%8C%CF%82 %CE%9D%CE%B1%CF%8C%CF%82 %CE%91%CE%B3%CE%AF%CF%89%CE%BD %CE%99%CF%83%CE%B9%CE%B4%CF%8E%CF%81%CF%89%CE%BD %CE%9B%CF%85%CE%BA%CE%B1%CE%B2%CE%B7%CF%84%CF%84%CE%BF%CF%8D":MAILTO:aisidro@otenet.gr
END:VEVENT
BEGIN:VEVENT
DTSTART;TZID=Europe/Athens:20210915T073000
DTEND;TZID=Europe/Athens:20210915T103000
DTSTAMP:20260420T032730
CREATED:20210902T144832Z
LAST-MODIFIED:20210902T144832Z
UID:3729-1631691000-1631701800@www.agioi-isidoroi.gr
SUMMARY:Αγίου Νικήτα
DESCRIPTION:Όρθρος & Θεία Λειτουργία
URL:https://www.agioi-isidoroi.gr/leitourgia/agioy-nikita/
LOCATION:Ιερός Ναός Αγίων Ισιδώρων Λυκαβηττού\, Λυκαβηττός\, Αθήνα\, Αττική\, 10210\, Greece
CATEGORIES:Όρθρος Και Θεία Λειτουργία
ORGANIZER;CN="%CE%99%CE%B5%CF%81%CF%8C%CF%82 %CE%9D%CE%B1%CF%8C%CF%82 %CE%91%CE%B3%CE%AF%CF%89%CE%BD %CE%99%CF%83%CE%B9%CE%B4%CF%8E%CF%81%CF%89%CE%BD %CE%9B%CF%85%CE%BA%CE%B1%CE%B2%CE%B7%CF%84%CF%84%CE%BF%CF%8D":MAILTO:aisidro@otenet.gr
END:VEVENT
BEGIN:VEVENT
DTSTART;TZID=Europe/Athens:20210914T203000
DTEND;TZID=Europe/Athens:20210914T233000
DTSTAMP:20260420T032730
CREATED:20210902T144745Z
LAST-MODIFIED:20210902T144745Z
UID:3727-1631651400-1631662200@www.agioi-isidoroi.gr
SUMMARY:ΝΥΧΤΕΡΙΝΗ ΘΕΙΑ ΛΕΙΤΟΥΡΓΙΑ
DESCRIPTION:«Σταυρός ο φύλαξ πάσης της Οικουμένης\, σταυρός η Ωραιότης της Εκκλησίας\, σταυρός βασιλέων το κραταίωμα\, σταυρός πιστών το στήριγμα\, σταυρός αγγέλων η δόξα\, και των δαιμόνων το τραύμα»  \n\nΘα τεθεί εις προσκύνηση τεμάχιο του Τιμίου Ξύλου.\n\nΣτους προσκυνητές θα δοθούν ως ευλογία σταυρουλάκια και εικονίτσες του Σταυρού.
URL:https://www.agioi-isidoroi.gr/leitourgia/nychterini-theia-leitoyrgia-2/
LOCATION:Ιερός Ναός Αγίων Ισιδώρων Λυκαβηττού\, Λυκαβηττός\, Αθήνα\, Αττική\, 10210\, Greece
CATEGORIES:Θεία Λειτουργία
ORGANIZER;CN="%CE%99%CE%B5%CF%81%CF%8C%CF%82 %CE%9D%CE%B1%CF%8C%CF%82 %CE%91%CE%B3%CE%AF%CF%89%CE%BD %CE%99%CF%83%CE%B9%CE%B4%CF%8E%CF%81%CF%89%CE%BD %CE%9B%CF%85%CE%BA%CE%B1%CE%B2%CE%B7%CF%84%CF%84%CE%BF%CF%8D":MAILTO:aisidro@otenet.gr
END:VEVENT
BEGIN:VEVENT
DTSTART;TZID=Europe/Athens:20210914T183000
DTEND;TZID=Europe/Athens:20210914T203000
DTSTAMP:20260420T032730
CREATED:20210902T144609Z
LAST-MODIFIED:20210902T144609Z
UID:3725-1631644200-1631651400@www.agioi-isidoroi.gr
SUMMARY:Μεθεόρτιος Εσπερινός & Εγκώμια του Σταυρού
DESCRIPTION:
URL:https://www.agioi-isidoroi.gr/leitourgia/metheortios-esperinos-amp-egkomia-toy-stayroy/
LOCATION:Ιερός Ναός Αγίων Ισιδώρων Λυκαβηττού\, Λυκαβηττός\, Αθήνα\, Αττική\, 10210\, Greece
ORGANIZER;CN="%CE%99%CE%B5%CF%81%CF%8C%CF%82 %CE%9D%CE%B1%CF%8C%CF%82 %CE%91%CE%B3%CE%AF%CF%89%CE%BD %CE%99%CF%83%CE%B9%CE%B4%CF%8E%CF%81%CF%89%CE%BD %CE%9B%CF%85%CE%BA%CE%B1%CE%B2%CE%B7%CF%84%CF%84%CE%BF%CF%8D":MAILTO:aisidro@otenet.gr
END:VEVENT
BEGIN:VEVENT
DTSTART;TZID=Europe/Athens:20210914T173000
DTEND;TZID=Europe/Athens:20210914T183000
DTSTAMP:20260420T032730
CREATED:20210902T144530Z
LAST-MODIFIED:20210902T144530Z
UID:3723-1631640600-1631644200@www.agioi-isidoroi.gr
SUMMARY:Ιερό Ευχέλαιο με το Τίμιο Ξύλο
DESCRIPTION:
URL:https://www.agioi-isidoroi.gr/leitourgia/iero-eychelaio-me-to-timio-xylo/
LOCATION:Ιερός Ναός Αγίων Ισιδώρων Λυκαβηττού\, Λυκαβηττός\, Αθήνα\, Αττική\, 10210\, Greece
ORGANIZER;CN="%CE%99%CE%B5%CF%81%CF%8C%CF%82 %CE%9D%CE%B1%CF%8C%CF%82 %CE%91%CE%B3%CE%AF%CF%89%CE%BD %CE%99%CF%83%CE%B9%CE%B4%CF%8E%CF%81%CF%89%CE%BD %CE%9B%CF%85%CE%BA%CE%B1%CE%B2%CE%B7%CF%84%CF%84%CE%BF%CF%8D":MAILTO:aisidro@otenet.gr
END:VEVENT
BEGIN:VEVENT
DTSTART;TZID=Europe/Athens:20210914T073000
DTEND;TZID=Europe/Athens:20210914T103000
DTSTAMP:20260420T032730
CREATED:20210902T144437Z
LAST-MODIFIED:20210902T144437Z
UID:3721-1631604600-1631615400@www.agioi-isidoroi.gr
SUMMARY:ΜΕΓΑΛΕΙΩΔΗΣ & ΜΕΓΑΛΟΠΡΕΠΗΣ ΙΕΡΑ ΠΑΝΗΓΥΡΙΣ ΤΗΣ ΥΨΩΣΕΩΣ ΤΟΥ ΤΙΜΙΟΥ & ΖΩΟΠΟΙΟΥ ΣΤΑΥΡΟΥ
DESCRIPTION:Όρθρος & ΠΑΝΗΓΥΡΙΚΗ ΘΕΙΑ ΛΕΙΤΟΥΡΓΙΑ \n* Εορτάζει το ιερό παρεκκλήσιο του Τιμίου Σταυρού \n* θα τεθεί προς ευλογία ο ΤΙΜΙΟΣ ΣΤΑΥΡΟΣ \n  \n«Σώσον Κύριε τον λαόν σου και ευλόγησον την κληρονομίαν σου\, νίκας τοις Βασιλεύσι κατά βαρβάρων δωρούμενος και το σον φυλάττων διά του Σταυρού σου πολίτευμα».
URL:https://www.agioi-isidoroi.gr/leitourgia/megaleiodis-amp-megaloprepis-iera-panigyris-tis-ypsoseos-toy-timioy-amp-zoopoioy-stayroy/
LOCATION:Ιερός Ναός Αγίων Ισιδώρων Λυκαβηττού\, Λυκαβηττός\, Αθήνα\, Αττική\, 10210\, Greece
CATEGORIES:Όρθρος Και Θεία Λειτουργία
ORGANIZER;CN="%CE%99%CE%B5%CF%81%CF%8C%CF%82 %CE%9D%CE%B1%CF%8C%CF%82 %CE%91%CE%B3%CE%AF%CF%89%CE%BD %CE%99%CF%83%CE%B9%CE%B4%CF%8E%CF%81%CF%89%CE%BD %CE%9B%CF%85%CE%BA%CE%B1%CE%B2%CE%B7%CF%84%CF%84%CE%BF%CF%8D":MAILTO:aisidro@otenet.gr
END:VEVENT
BEGIN:VEVENT
DTSTART;TZID=Europe/Athens:20210913T220000
DTEND;TZID=Europe/Athens:20210914T010000
DTSTAMP:20260420T032730
CREATED:20210902T144221Z
LAST-MODIFIED:20210902T144221Z
UID:3719-1631570400-1631581200@www.agioi-isidoroi.gr
SUMMARY:ΙΕΡΑ ΑΓΡΥΠΝΙΑ
DESCRIPTION:
URL:https://www.agioi-isidoroi.gr/leitourgia/iera-agrypnia-8/
LOCATION:Ιερός Ναός Αγίων Ισιδώρων Λυκαβηττού\, Λυκαβηττός\, Αθήνα\, Αττική\, 10210\, Greece
CATEGORIES:Ιερά Αγρυπνία
ORGANIZER;CN="%CE%99%CE%B5%CF%81%CF%8C%CF%82 %CE%9D%CE%B1%CF%8C%CF%82 %CE%91%CE%B3%CE%AF%CF%89%CE%BD %CE%99%CF%83%CE%B9%CE%B4%CF%8E%CF%81%CF%89%CE%BD %CE%9B%CF%85%CE%BA%CE%B1%CE%B2%CE%B7%CF%84%CF%84%CE%BF%CF%8D":MAILTO:aisidro@otenet.gr
END:VEVENT
BEGIN:VEVENT
DTSTART;TZID=Europe/Athens:20210913T193000
DTEND;TZID=Europe/Athens:20210913T220000
DTSTAMP:20260420T032730
CREATED:20210902T144130Z
LAST-MODIFIED:20210902T144130Z
UID:3717-1631561400-1631570400@www.agioi-isidoroi.gr
SUMMARY:ΜΕΓΑΣ ΠΑΝΗΓΥΡΙΚΟΣ ΕΣΠΕΡΙΝΟΣ
DESCRIPTION:ΜΕΓΑΣ ΠΑΝΗΓΥΡΙΚΟΣ ΕΣΠΕΡΙΝΟΣ
URL:https://www.agioi-isidoroi.gr/leitourgia/megas-panigyrikos-esperinos/
LOCATION:Ιερός Ναός Αγίων Ισιδώρων Λυκαβηττού\, Λυκαβηττός\, Αθήνα\, Αττική\, 10210\, Greece
CATEGORIES:Εσπερινός
ORGANIZER;CN="%CE%99%CE%B5%CF%81%CF%8C%CF%82 %CE%9D%CE%B1%CF%8C%CF%82 %CE%91%CE%B3%CE%AF%CF%89%CE%BD %CE%99%CF%83%CE%B9%CE%B4%CF%8E%CF%81%CF%89%CE%BD %CE%9B%CF%85%CE%BA%CE%B1%CE%B2%CE%B7%CF%84%CF%84%CE%BF%CF%8D":MAILTO:aisidro@otenet.gr
END:VEVENT
BEGIN:VEVENT
DTSTART;TZID=Europe/Athens:20210913T180000
DTEND;TZID=Europe/Athens:20210913T193000
DTSTAMP:20260420T032730
CREATED:20210902T144038Z
LAST-MODIFIED:20210902T144038Z
UID:3715-1631556000-1631561400@www.agioi-isidoroi.gr
SUMMARY:Παράκληση του Αγίου Αριστείδου & Λιτανεία της Ιεράς Εικόνος
DESCRIPTION:Παράκληση  & Λιτανεία
URL:https://www.agioi-isidoroi.gr/leitourgia/paraklisi-toy-agioy-aristeidoy-amp-litaneia-tis-ieras-eikonos/
LOCATION:Ιερός Ναός Αγίων Ισιδώρων Λυκαβηττού\, Λυκαβηττός\, Αθήνα\, Αττική\, 10210\, Greece
ORGANIZER;CN="%CE%99%CE%B5%CF%81%CF%8C%CF%82 %CE%9D%CE%B1%CF%8C%CF%82 %CE%91%CE%B3%CE%AF%CF%89%CE%BD %CE%99%CF%83%CE%B9%CE%B4%CF%8E%CF%81%CF%89%CE%BD %CE%9B%CF%85%CE%BA%CE%B1%CE%B2%CE%B7%CF%84%CF%84%CE%BF%CF%8D":MAILTO:aisidro@otenet.gr
END:VEVENT
BEGIN:VEVENT
DTSTART;TZID=Europe/Athens:20210913T073000
DTEND;TZID=Europe/Athens:20210913T103000
DTSTAMP:20260420T032730
CREATED:20210902T143914Z
LAST-MODIFIED:20210902T143914Z
UID:3713-1631518200-1631529000@www.agioi-isidoroi.gr
SUMMARY:ΙΕΡΑ ΠΑΝΗΓΥΡΙΣ ΤΟΥ ΑΓΙΟΥ ΑΡΙΣΤΕΙΔΟΥ ΤΟΥ ΑΘΗΝΑΙΟΥ
DESCRIPTION:Όρθρος & Πανηγυρική Θεία Λειτουργία  \nΕορτάζει το ιερό σπήλαιο στο οποίο κατά την παράδοση ερχόταν ο Άγιος για προσευχή και περισυλλογή \n «Τω Χριστώ προσηνέχθης θυσία άμωμος\, και ολοκάρπωμα θείον αιωρηθείς απηνώς\, εν αγχόνῃ Αριστείδη γενναιότατε\, γόνε κλεινέ των Αθηνών και φιλόσοφε σεπτέ\, διό σε νυν ευφημούντες\, φωναίς ευήχοις βοώμεν· Χριστόν δυσώπει υπέρ πάντων ημών»​
URL:https://www.agioi-isidoroi.gr/leitourgia/iera-panigyris-toy-agioy-aristeidoy-toy-athinaioy/
LOCATION:Ιερός Ναός Αγίων Ισιδώρων Λυκαβηττού\, Λυκαβηττός\, Αθήνα\, Αττική\, 10210\, Greece
CATEGORIES:Όρθρος Και Θεία Λειτουργία
ORGANIZER;CN="%CE%99%CE%B5%CF%81%CF%8C%CF%82 %CE%9D%CE%B1%CF%8C%CF%82 %CE%91%CE%B3%CE%AF%CF%89%CE%BD %CE%99%CF%83%CE%B9%CE%B4%CF%8E%CF%81%CF%89%CE%BD %CE%9B%CF%85%CE%BA%CE%B1%CE%B2%CE%B7%CF%84%CF%84%CE%BF%CF%8D":MAILTO:aisidro@otenet.gr
END:VEVENT
BEGIN:VEVENT
DTSTART;TZID=Europe/Athens:20210912T220000
DTEND;TZID=Europe/Athens:20210913T010000
DTSTAMP:20260420T032730
CREATED:20210902T143700Z
LAST-MODIFIED:20210902T143700Z
UID:3711-1631484000-1631494800@www.agioi-isidoroi.gr
SUMMARY:ΙΕΡΑ ΑΓΡΥΠΝΙΑ
DESCRIPTION:
URL:https://www.agioi-isidoroi.gr/leitourgia/iera-agrypnia-7/
LOCATION:Ιερός Ναός Αγίων Ισιδώρων Λυκαβηττού\, Λυκαβηττός\, Αθήνα\, Αττική\, 10210\, Greece
CATEGORIES:Ιερά Αγρυπνία
ORGANIZER;CN="%CE%99%CE%B5%CF%81%CF%8C%CF%82 %CE%9D%CE%B1%CF%8C%CF%82 %CE%91%CE%B3%CE%AF%CF%89%CE%BD %CE%99%CF%83%CE%B9%CE%B4%CF%8E%CF%81%CF%89%CE%BD %CE%9B%CF%85%CE%BA%CE%B1%CE%B2%CE%B7%CF%84%CF%84%CE%BF%CF%8D":MAILTO:aisidro@otenet.gr
END:VEVENT
END:VCALENDAR