BEGIN:VCALENDAR
VERSION:2.0
PRODID:-//ΙΕΡΟΣ ΝΑΟΣ ΑΓΙΩΝ ΙΣΙΔΩΡΩΝ - ECPv6.15.17.1//NONSGML v1.0//EN
CALSCALE:GREGORIAN
METHOD:PUBLISH
X-WR-CALNAME:ΙΕΡΟΣ ΝΑΟΣ ΑΓΙΩΝ ΙΣΙΔΩΡΩΝ
X-ORIGINAL-URL:https://www.agioi-isidoroi.gr
X-WR-CALDESC:Events for ΙΕΡΟΣ ΝΑΟΣ ΑΓΙΩΝ ΙΣΙΔΩΡΩΝ
REFRESH-INTERVAL;VALUE=DURATION:PT1H
X-Robots-Tag:noindex
X-PUBLISHED-TTL:PT1H
BEGIN:VTIMEZONE
TZID:Europe/Athens
BEGIN:DAYLIGHT
TZOFFSETFROM:+0200
TZOFFSETTO:+0300
TZNAME:EEST
DTSTART:20210328T010000
END:DAYLIGHT
BEGIN:STANDARD
TZOFFSETFROM:+0300
TZOFFSETTO:+0200
TZNAME:EET
DTSTART:20211031T010000
END:STANDARD
BEGIN:DAYLIGHT
TZOFFSETFROM:+0200
TZOFFSETTO:+0300
TZNAME:EEST
DTSTART:20220327T010000
END:DAYLIGHT
BEGIN:STANDARD
TZOFFSETFROM:+0300
TZOFFSETTO:+0200
TZNAME:EET
DTSTART:20221030T010000
END:STANDARD
BEGIN:DAYLIGHT
TZOFFSETFROM:+0200
TZOFFSETTO:+0300
TZNAME:EEST
DTSTART:20230326T010000
END:DAYLIGHT
BEGIN:STANDARD
TZOFFSETFROM:+0300
TZOFFSETTO:+0200
TZNAME:EET
DTSTART:20231029T010000
END:STANDARD
END:VTIMEZONE
BEGIN:VEVENT
DTSTART;TZID=Europe/Athens:20220608T073000
DTEND;TZID=Europe/Athens:20220608T093000
DTSTAMP:20260420T014702
CREATED:20220529T181448Z
LAST-MODIFIED:20220529T181448Z
UID:4573-1654673400-1654680600@www.agioi-isidoroi.gr
SUMMARY:Ανακομιδή λειψάνου Αγίου Θεοδώρου Στρατηλάτου
DESCRIPTION:Όρθρος & Θεία Λειτουργία
URL:https://www.agioi-isidoroi.gr/leitourgia/anakomidi-leipsanoy-agioy-theodoroy-stratilatoy/
LOCATION:Ιερός Ναός Αγίων Ισιδώρων Λυκαβηττού\, Λυκαβηττός\, Αθήνα\, Αττική\, 10210\, Greece
CATEGORIES:Όρθρος Και Θεία Λειτουργία
ORGANIZER;CN="%CE%99%CE%B5%CF%81%CF%8C%CF%82 %CE%9D%CE%B1%CF%8C%CF%82 %CE%91%CE%B3%CE%AF%CF%89%CE%BD %CE%99%CF%83%CE%B9%CE%B4%CF%8E%CF%81%CF%89%CE%BD %CE%9B%CF%85%CE%BA%CE%B1%CE%B2%CE%B7%CF%84%CF%84%CE%BF%CF%8D":MAILTO:aisidro@otenet.gr
END:VEVENT
BEGIN:VEVENT
DTSTART;TZID=Europe/Athens:20220607T073000
DTEND;TZID=Europe/Athens:20220607T093000
DTSTAMP:20260420T014702
CREATED:20220529T181306Z
LAST-MODIFIED:20220529T181306Z
UID:4571-1654587000-1654594200@www.agioi-isidoroi.gr
SUMMARY:Αγίου Θεοδότου του εν Αγκύρα
DESCRIPTION:Όρθρος & Θεία Λειτουργία
URL:https://www.agioi-isidoroi.gr/leitourgia/agioy-theodotoy-toy-en-agkyra/
LOCATION:Ιερός Ναός Αγίων Ισιδώρων Λυκαβηττού\, Λυκαβηττός\, Αθήνα\, Αττική\, 10210\, Greece
CATEGORIES:Όρθρος Και Θεία Λειτουργία
ORGANIZER;CN="%CE%99%CE%B5%CF%81%CF%8C%CF%82 %CE%9D%CE%B1%CF%8C%CF%82 %CE%91%CE%B3%CE%AF%CF%89%CE%BD %CE%99%CF%83%CE%B9%CE%B4%CF%8E%CF%81%CF%89%CE%BD %CE%9B%CF%85%CE%BA%CE%B1%CE%B2%CE%B7%CF%84%CF%84%CE%BF%CF%8D":MAILTO:aisidro@otenet.gr
END:VEVENT
BEGIN:VEVENT
DTSTART;TZID=Europe/Athens:20220606T073000
DTEND;TZID=Europe/Athens:20220606T093000
DTSTAMP:20260420T014702
CREATED:20220529T181209Z
LAST-MODIFIED:20220529T181209Z
UID:4569-1654500600-1654507800@www.agioi-isidoroi.gr
SUMMARY:Οσίου Ιλαρίωνος ηγουμένου μονής Δαλμάτων
DESCRIPTION:Όρθρος & Θεία Λειτουργία
URL:https://www.agioi-isidoroi.gr/leitourgia/osioy-ilarionos-igoymenoy-monis-dalmaton/
LOCATION:Ιερός Ναός Αγίων Ισιδώρων Λυκαβηττού\, Λυκαβηττός\, Αθήνα\, Αττική\, 10210\, Greece
CATEGORIES:Όρθρος Και Θεία Λειτουργία
ORGANIZER;CN="%CE%99%CE%B5%CF%81%CF%8C%CF%82 %CE%9D%CE%B1%CF%8C%CF%82 %CE%91%CE%B3%CE%AF%CF%89%CE%BD %CE%99%CF%83%CE%B9%CE%B4%CF%8E%CF%81%CF%89%CE%BD %CE%9B%CF%85%CE%BA%CE%B1%CE%B2%CE%B7%CF%84%CF%84%CE%BF%CF%8D":MAILTO:aisidro@otenet.gr
END:VEVENT
BEGIN:VEVENT
DTSTART;TZID=Europe/Athens:20220605T073000
DTEND;TZID=Europe/Athens:20220605T113000
DTSTAMP:20260420T014702
CREATED:20220529T181125Z
LAST-MODIFIED:20220529T181125Z
UID:4567-1654414200-1654428600@www.agioi-isidoroi.gr
SUMMARY:Των 318 Αγίων Πατέρων της Α’ Οικουμενικής Συνόδου
DESCRIPTION:Όρθρος & Θεία Λειτουργία
URL:https://www.agioi-isidoroi.gr/leitourgia/ton-318-agion-pateron-tis-a-oikoymenikis-synodoy/
LOCATION:Ιερός Ναός Αγίων Ισιδώρων Λυκαβηττού\, Λυκαβηττός\, Αθήνα\, Αττική\, 10210\, Greece
CATEGORIES:Όρθρος Και Θεία Λειτουργία
ORGANIZER;CN="%CE%99%CE%B5%CF%81%CF%8C%CF%82 %CE%9D%CE%B1%CF%8C%CF%82 %CE%91%CE%B3%CE%AF%CF%89%CE%BD %CE%99%CF%83%CE%B9%CE%B4%CF%8E%CF%81%CF%89%CE%BD %CE%9B%CF%85%CE%BA%CE%B1%CE%B2%CE%B7%CF%84%CF%84%CE%BF%CF%8D":MAILTO:aisidro@otenet.gr
END:VEVENT
BEGIN:VEVENT
DTSTART;TZID=Europe/Athens:20220604T073000
DTEND;TZID=Europe/Athens:20220604T093000
DTSTAMP:20260420T014702
CREATED:20220529T180930Z
LAST-MODIFIED:20220529T180930Z
UID:4565-1654327800-1654335000@www.agioi-isidoroi.gr
SUMMARY:Μάρθας & Μαρίας αδελφών του Λαζάρου
DESCRIPTION:Όρθρος & Θεία Λειτουργία
URL:https://www.agioi-isidoroi.gr/leitourgia/marthas-amp-marias-adelfon-toy-lazaroy-2/
LOCATION:Ιερός Ναός Αγίων Ισιδώρων Λυκαβηττού\, Λυκαβηττός\, Αθήνα\, Αττική\, 10210\, Greece
CATEGORIES:Όρθρος Και Θεία Λειτουργία
ORGANIZER;CN="%CE%99%CE%B5%CF%81%CF%8C%CF%82 %CE%9D%CE%B1%CF%8C%CF%82 %CE%91%CE%B3%CE%AF%CF%89%CE%BD %CE%99%CF%83%CE%B9%CE%B4%CF%8E%CF%81%CF%89%CE%BD %CE%9B%CF%85%CE%BA%CE%B1%CE%B2%CE%B7%CF%84%CF%84%CE%BF%CF%8D":MAILTO:aisidro@otenet.gr
END:VEVENT
BEGIN:VEVENT
DTSTART;TZID=Europe/Athens:20220603T073000
DTEND;TZID=Europe/Athens:20220603T093000
DTSTAMP:20260420T014702
CREATED:20220529T180832Z
LAST-MODIFIED:20220529T180832Z
UID:4563-1654241400-1654248600@www.agioi-isidoroi.gr
SUMMARY:Αγίων μαρτ. Λουκιλιανού & Παύλης
DESCRIPTION:Όρθρος & Θεία Λειτουργία
URL:https://www.agioi-isidoroi.gr/leitourgia/agion-mart-loykilianoy-amp-paylis/
LOCATION:Ιερός Ναός Αγίων Ισιδώρων Λυκαβηττού\, Λυκαβηττός\, Αθήνα\, Αττική\, 10210\, Greece
CATEGORIES:Όρθρος Και Θεία Λειτουργία
ORGANIZER;CN="%CE%99%CE%B5%CF%81%CF%8C%CF%82 %CE%9D%CE%B1%CF%8C%CF%82 %CE%91%CE%B3%CE%AF%CF%89%CE%BD %CE%99%CF%83%CE%B9%CE%B4%CF%8E%CF%81%CF%89%CE%BD %CE%9B%CF%85%CE%BA%CE%B1%CE%B2%CE%B7%CF%84%CF%84%CE%BF%CF%8D":MAILTO:aisidro@otenet.gr
END:VEVENT
BEGIN:VEVENT
DTSTART;TZID=Europe/Athens:20220602T073000
DTEND;TZID=Europe/Athens:20220602T093000
DTSTAMP:20260420T014702
CREATED:20220502T155323Z
LAST-MODIFIED:20220601T150804Z
UID:4558-1654155000-1654162200@www.agioi-isidoroi.gr
SUMMARY:Η ΑΝΑΛΗΨΗ ΤΟΥ ΚΥΡΙΟΥ
DESCRIPTION:Όρθρος & Πανηγυρική Θεία Λειτουργία
URL:https://www.agioi-isidoroi.gr/leitourgia/i-analipsi-toy-kyrioy/
LOCATION:Ιερός Ναός Αγίων Ισιδώρων Λυκαβηττού\, Λυκαβηττός\, Αθήνα\, Αττική\, 10210\, Greece
CATEGORIES:Όρθρος Και Θεία Λειτουργία
ORGANIZER;CN="%CE%99%CE%B5%CF%81%CF%8C%CF%82 %CE%9D%CE%B1%CF%8C%CF%82 %CE%91%CE%B3%CE%AF%CF%89%CE%BD %CE%99%CF%83%CE%B9%CE%B4%CF%8E%CF%81%CF%89%CE%BD %CE%9B%CF%85%CE%BA%CE%B1%CE%B2%CE%B7%CF%84%CF%84%CE%BF%CF%8D":MAILTO:aisidro@otenet.gr
END:VEVENT
BEGIN:VEVENT
DTSTART;TZID=Europe/Athens:20220601T193000
DTEND;TZID=Europe/Athens:20220601T203000
DTSTAMP:20260420T014702
CREATED:20220502T155157Z
LAST-MODIFIED:20220502T155157Z
UID:4556-1654111800-1654115400@www.agioi-isidoroi.gr
SUMMARY:Πανηγυρικός Εσπερινός της Αναλήψεως
DESCRIPTION:
URL:https://www.agioi-isidoroi.gr/leitourgia/panigyrikos-esperinos-tis-analipseos/
LOCATION:Ιερός Ναός Αγίων Ισιδώρων Λυκαβηττού\, Λυκαβηττός\, Αθήνα\, Αττική\, 10210\, Greece
CATEGORIES:Εσπερινός
ORGANIZER;CN="%CE%99%CE%B5%CF%81%CF%8C%CF%82 %CE%9D%CE%B1%CF%8C%CF%82 %CE%91%CE%B3%CE%AF%CF%89%CE%BD %CE%99%CF%83%CE%B9%CE%B4%CF%8E%CF%81%CF%89%CE%BD %CE%9B%CF%85%CE%BA%CE%B1%CE%B2%CE%B7%CF%84%CF%84%CE%BF%CF%8D":MAILTO:aisidro@otenet.gr
END:VEVENT
BEGIN:VEVENT
DTSTART;TZID=Europe/Athens:20220601T073000
DTEND;TZID=Europe/Athens:20220601T093000
DTSTAMP:20260420T014702
CREATED:20220502T155052Z
LAST-MODIFIED:20220502T155052Z
UID:4554-1654068600-1654075800@www.agioi-isidoroi.gr
SUMMARY:Εν η αποδίδεται η εορτή του ΠΑΣΧΑ
DESCRIPTION:Όρθρος & Αναστάσιμη Θεία Λειτουργία
URL:https://www.agioi-isidoroi.gr/leitourgia/en-i-apodidetai-i-eorti-toy-pascha/
LOCATION:Ιερός Ναός Αγίων Ισιδώρων Λυκαβηττού\, Λυκαβηττός\, Αθήνα\, Αττική\, 10210\, Greece
CATEGORIES:Όρθρος Και Θεία Λειτουργία
ORGANIZER;CN="%CE%99%CE%B5%CF%81%CF%8C%CF%82 %CE%9D%CE%B1%CF%8C%CF%82 %CE%91%CE%B3%CE%AF%CF%89%CE%BD %CE%99%CF%83%CE%B9%CE%B4%CF%8E%CF%81%CF%89%CE%BD %CE%9B%CF%85%CE%BA%CE%B1%CE%B2%CE%B7%CF%84%CF%84%CE%BF%CF%8D":MAILTO:aisidro@otenet.gr
END:VEVENT
BEGIN:VEVENT
DTSTART;TZID=Europe/Athens:20220531T203000
DTEND;TZID=Europe/Athens:20220531T213000
DTSTAMP:20260420T014702
CREATED:20220502T154938Z
LAST-MODIFIED:20220502T154938Z
UID:4552-1654029000-1654032600@www.agioi-isidoroi.gr
SUMMARY:ΑΝΑΣΤΑΣΙΜΗ ΘΕΙΑ ΛΕΙΤΟΥΡΓΙΑ
DESCRIPTION:
URL:https://www.agioi-isidoroi.gr/leitourgia/anastasimi-theia-leitoyrgia/
LOCATION:Ιερός Ναός Αγίων Ισιδώρων Λυκαβηττού\, Λυκαβηττός\, Αθήνα\, Αττική\, 10210\, Greece
CATEGORIES:Θεία Λειτουργία
ORGANIZER;CN="%CE%99%CE%B5%CF%81%CF%8C%CF%82 %CE%9D%CE%B1%CF%8C%CF%82 %CE%91%CE%B3%CE%AF%CF%89%CE%BD %CE%99%CF%83%CE%B9%CE%B4%CF%8E%CF%81%CF%89%CE%BD %CE%9B%CF%85%CE%BA%CE%B1%CE%B2%CE%B7%CF%84%CF%84%CE%BF%CF%8D":MAILTO:aisidro@otenet.gr
END:VEVENT
BEGIN:VEVENT
DTSTART;TZID=Europe/Athens:20220531T073000
DTEND;TZID=Europe/Athens:20220531T093000
DTSTAMP:20260420T014702
CREATED:20220502T154810Z
LAST-MODIFIED:20220502T154849Z
UID:4550-1653982200-1653989400@www.agioi-isidoroi.gr
SUMMARY:Αγίου μάρτυρος Ερμείου
DESCRIPTION:Όρθρος & Θεία Λειτουργία
URL:https://www.agioi-isidoroi.gr/leitourgia/agioy-martyros-ermeioy/
LOCATION:Ιερός Ναός Αγίων Ισιδώρων Λυκαβηττού\, Λυκαβηττός\, Αθήνα\, Αττική\, 10210\, Greece
CATEGORIES:Όρθρος Και Θεία Λειτουργία
ORGANIZER;CN="%CE%99%CE%B5%CF%81%CF%8C%CF%82 %CE%9D%CE%B1%CF%8C%CF%82 %CE%91%CE%B3%CE%AF%CF%89%CE%BD %CE%99%CF%83%CE%B9%CE%B4%CF%8E%CF%81%CF%89%CE%BD %CE%9B%CF%85%CE%BA%CE%B1%CE%B2%CE%B7%CF%84%CF%84%CE%BF%CF%8D":MAILTO:aisidro@otenet.gr
END:VEVENT
BEGIN:VEVENT
DTSTART;TZID=Europe/Athens:20220530T073000
DTEND;TZID=Europe/Athens:20220530T093000
DTSTAMP:20260420T014702
CREATED:20220502T154653Z
LAST-MODIFIED:20220502T154653Z
UID:4548-1653895800-1653903000@www.agioi-isidoroi.gr
SUMMARY:Των νεομαρτύρων Ρωμανού & Τελετίου
DESCRIPTION:Όρθρος & Θεία Λειτουργία
URL:https://www.agioi-isidoroi.gr/leitourgia/ton-neomartyron-romanoy-amp-teletioy/
LOCATION:Ιερός Ναός Αγίων Ισιδώρων Λυκαβηττού\, Λυκαβηττός\, Αθήνα\, Αττική\, 10210\, Greece
CATEGORIES:Όρθρος Και Θεία Λειτουργία
ORGANIZER;CN="%CE%99%CE%B5%CF%81%CF%8C%CF%82 %CE%9D%CE%B1%CF%8C%CF%82 %CE%91%CE%B3%CE%AF%CF%89%CE%BD %CE%99%CF%83%CE%B9%CE%B4%CF%8E%CF%81%CF%89%CE%BD %CE%9B%CF%85%CE%BA%CE%B1%CE%B2%CE%B7%CF%84%CF%84%CE%BF%CF%8D":MAILTO:aisidro@otenet.gr
END:VEVENT
BEGIN:VEVENT
DTSTART;TZID=Europe/Athens:20220529T073000
DTEND;TZID=Europe/Athens:20220529T113000
DTSTAMP:20260420T014702
CREATED:20220502T154548Z
LAST-MODIFIED:20220502T154548Z
UID:4546-1653809400-1653823800@www.agioi-isidoroi.gr
SUMMARY:Του Τυφλού
DESCRIPTION:Όρθρος & Θεία Λειτουργία
URL:https://www.agioi-isidoroi.gr/leitourgia/toy-tyfloy/
LOCATION:Ιερός Ναός Αγίων Ισιδώρων Λυκαβηττού\, Λυκαβηττός\, Αθήνα\, Αττική\, 10210\, Greece
CATEGORIES:Όρθρος Και Θεία Λειτουργία
ORGANIZER;CN="%CE%99%CE%B5%CF%81%CF%8C%CF%82 %CE%9D%CE%B1%CF%8C%CF%82 %CE%91%CE%B3%CE%AF%CF%89%CE%BD %CE%99%CF%83%CE%B9%CE%B4%CF%8E%CF%81%CF%89%CE%BD %CE%9B%CF%85%CE%BA%CE%B1%CE%B2%CE%B7%CF%84%CF%84%CE%BF%CF%8D":MAILTO:aisidro@otenet.gr
END:VEVENT
BEGIN:VEVENT
DTSTART;TZID=Europe/Athens:20220528T193000
DTEND;TZID=Europe/Athens:20220528T203000
DTSTAMP:20260420T014702
CREATED:20220502T154447Z
LAST-MODIFIED:20220502T154447Z
UID:4544-1653766200-1653769800@www.agioi-isidoroi.gr
SUMMARY:Αναστάσιμος Εσπερινός
DESCRIPTION:
URL:https://www.agioi-isidoroi.gr/leitourgia/anastasimos-esperinos-34/
LOCATION:Ιερός Ναός Αγίων Ισιδώρων Λυκαβηττού\, Λυκαβηττός\, Αθήνα\, Αττική\, 10210\, Greece
CATEGORIES:Αναστάσιμος Εσπερινός
ORGANIZER;CN="%CE%99%CE%B5%CF%81%CF%8C%CF%82 %CE%9D%CE%B1%CF%8C%CF%82 %CE%91%CE%B3%CE%AF%CF%89%CE%BD %CE%99%CF%83%CE%B9%CE%B4%CF%8E%CF%81%CF%89%CE%BD %CE%9B%CF%85%CE%BA%CE%B1%CE%B2%CE%B7%CF%84%CF%84%CE%BF%CF%8D":MAILTO:aisidro@otenet.gr
END:VEVENT
BEGIN:VEVENT
DTSTART;TZID=Europe/Athens:20220528T073000
DTEND;TZID=Europe/Athens:20220528T093000
DTSTAMP:20260420T014702
CREATED:20220502T154407Z
LAST-MODIFIED:20220502T154407Z
UID:4542-1653723000-1653730200@www.agioi-isidoroi.gr
SUMMARY:απόδοσις της εορτής της Σαμαρείτιδος
DESCRIPTION:Όρθρος & Θεία Λειτουργία
URL:https://www.agioi-isidoroi.gr/leitourgia/apodosis-tis-eortis-tis-samareitidos/
LOCATION:Ιερός Ναός Αγίων Ισιδώρων Λυκαβηττού\, Λυκαβηττός\, Αθήνα\, Αττική\, 10210\, Greece
CATEGORIES:Όρθρος Και Θεία Λειτουργία
ORGANIZER;CN="%CE%99%CE%B5%CF%81%CF%8C%CF%82 %CE%9D%CE%B1%CF%8C%CF%82 %CE%91%CE%B3%CE%AF%CF%89%CE%BD %CE%99%CF%83%CE%B9%CE%B4%CF%8E%CF%81%CF%89%CE%BD %CE%9B%CF%85%CE%BA%CE%B1%CE%B2%CE%B7%CF%84%CF%84%CE%BF%CF%8D":MAILTO:aisidro@otenet.gr
END:VEVENT
BEGIN:VEVENT
DTSTART;TZID=Europe/Athens:20220527T073000
DTEND;TZID=Europe/Athens:20220527T093000
DTSTAMP:20260420T014702
CREATED:20220502T154315Z
LAST-MODIFIED:20220502T154315Z
UID:4540-1653636600-1653643800@www.agioi-isidoroi.gr
SUMMARY:Οσίου Ιωάννου του Ρώσου (+1730)
DESCRIPTION:Όρθρος & Θεία Λειτουργία
URL:https://www.agioi-isidoroi.gr/leitourgia/osioy-ioannoy-toy-rosoy-1730/
LOCATION:Ιερός Ναός Αγίων Ισιδώρων Λυκαβηττού\, Λυκαβηττός\, Αθήνα\, Αττική\, 10210\, Greece
CATEGORIES:Όρθρος Και Θεία Λειτουργία
ORGANIZER;CN="%CE%99%CE%B5%CF%81%CF%8C%CF%82 %CE%9D%CE%B1%CF%8C%CF%82 %CE%91%CE%B3%CE%AF%CF%89%CE%BD %CE%99%CF%83%CE%B9%CE%B4%CF%8E%CF%81%CF%89%CE%BD %CE%9B%CF%85%CE%BA%CE%B1%CE%B2%CE%B7%CF%84%CF%84%CE%BF%CF%8D":MAILTO:aisidro@otenet.gr
END:VEVENT
BEGIN:VEVENT
DTSTART;TZID=Europe/Athens:20220526T073000
DTEND;TZID=Europe/Athens:20220526T093000
DTSTAMP:20260420T014702
CREATED:20220502T154231Z
LAST-MODIFIED:20220502T154231Z
UID:4538-1653550200-1653557400@www.agioi-isidoroi.gr
SUMMARY:Αποστόλου Κάρπου εκ των 70
DESCRIPTION:Όρθρος & Θεία Λειτουργία
URL:https://www.agioi-isidoroi.gr/leitourgia/apostoloy-karpoy-ek-ton-70/
LOCATION:Ιερός Ναός Αγίων Ισιδώρων Λυκαβηττού\, Λυκαβηττός\, Αθήνα\, Αττική\, 10210\, Greece
CATEGORIES:Όρθρος Και Θεία Λειτουργία
ORGANIZER;CN="%CE%99%CE%B5%CF%81%CF%8C%CF%82 %CE%9D%CE%B1%CF%8C%CF%82 %CE%91%CE%B3%CE%AF%CF%89%CE%BD %CE%99%CF%83%CE%B9%CE%B4%CF%8E%CF%81%CF%89%CE%BD %CE%9B%CF%85%CE%BA%CE%B1%CE%B2%CE%B7%CF%84%CF%84%CE%BF%CF%8D":MAILTO:aisidro@otenet.gr
END:VEVENT
BEGIN:VEVENT
DTSTART;TZID=Europe/Athens:20220525T073000
DTEND;TZID=Europe/Athens:20220525T093000
DTSTAMP:20260420T014702
CREATED:20220502T154057Z
LAST-MODIFIED:20220502T154057Z
UID:4536-1653463800-1653471000@www.agioi-isidoroi.gr
SUMMARY:απόδοσις της Μεσοπεντηκοστής
DESCRIPTION:η γ’ εύρεσις της Τιμίας Κεφαλής του αγίου Ιωάννου \nΌρθρος & Θεία Λειτουργία
URL:https://www.agioi-isidoroi.gr/leitourgia/apodosis-tis-mesopentikostis/
LOCATION:Ιερός Ναός Αγίων Ισιδώρων Λυκαβηττού\, Λυκαβηττός\, Αθήνα\, Αττική\, 10210\, Greece
CATEGORIES:Όρθρος Και Θεία Λειτουργία
ORGANIZER;CN="%CE%99%CE%B5%CF%81%CF%8C%CF%82 %CE%9D%CE%B1%CF%8C%CF%82 %CE%91%CE%B3%CE%AF%CF%89%CE%BD %CE%99%CF%83%CE%B9%CE%B4%CF%8E%CF%81%CF%89%CE%BD %CE%9B%CF%85%CE%BA%CE%B1%CE%B2%CE%B7%CF%84%CF%84%CE%BF%CF%8D":MAILTO:aisidro@otenet.gr
END:VEVENT
BEGIN:VEVENT
DTSTART;TZID=Europe/Athens:20220524T073000
DTEND;TZID=Europe/Athens:20220524T093000
DTSTAMP:20260420T014702
CREATED:20220502T153940Z
LAST-MODIFIED:20220502T153940Z
UID:4534-1653377400-1653384600@www.agioi-isidoroi.gr
SUMMARY:Οσίου Συμεών του Θαυμαστορείτου
DESCRIPTION:Όρθρος & Θεία Λειτουργία
URL:https://www.agioi-isidoroi.gr/leitourgia/osioy-symeon-toy-thaymastoreitoy/
LOCATION:Ιερός Ναός Αγίων Ισιδώρων Λυκαβηττού\, Λυκαβηττός\, Αθήνα\, Αττική\, 10210\, Greece
CATEGORIES:Όρθρος Και Θεία Λειτουργία
ORGANIZER;CN="%CE%99%CE%B5%CF%81%CF%8C%CF%82 %CE%9D%CE%B1%CF%8C%CF%82 %CE%91%CE%B3%CE%AF%CF%89%CE%BD %CE%99%CF%83%CE%B9%CE%B4%CF%8E%CF%81%CF%89%CE%BD %CE%9B%CF%85%CE%BA%CE%B1%CE%B2%CE%B7%CF%84%CF%84%CE%BF%CF%8D":MAILTO:aisidro@otenet.gr
END:VEVENT
BEGIN:VEVENT
DTSTART;TZID=Europe/Athens:20220523T073000
DTEND;TZID=Europe/Athens:20220523T093000
DTSTAMP:20260420T014702
CREATED:20220502T153854Z
LAST-MODIFIED:20220502T153854Z
UID:4532-1653291000-1653298200@www.agioi-isidoroi.gr
SUMMARY:Οσίου Μιχαήλ του ομολογητού (+821)
DESCRIPTION:Όρθρος & Θεία Λειτουργία
URL:https://www.agioi-isidoroi.gr/leitourgia/osioy-michail-toy-omologitoy-821/
LOCATION:Ιερός Ναός Αγίων Ισιδώρων Λυκαβηττού\, Λυκαβηττός\, Αθήνα\, Αττική\, 10210\, Greece
CATEGORIES:Όρθρος Και Θεία Λειτουργία
ORGANIZER;CN="%CE%99%CE%B5%CF%81%CF%8C%CF%82 %CE%9D%CE%B1%CF%8C%CF%82 %CE%91%CE%B3%CE%AF%CF%89%CE%BD %CE%99%CF%83%CE%B9%CE%B4%CF%8E%CF%81%CF%89%CE%BD %CE%9B%CF%85%CE%BA%CE%B1%CE%B2%CE%B7%CF%84%CF%84%CE%BF%CF%8D":MAILTO:aisidro@otenet.gr
END:VEVENT
BEGIN:VEVENT
DTSTART;TZID=Europe/Athens:20220522T073000
DTEND;TZID=Europe/Athens:20220522T113000
DTSTAMP:20260420T014702
CREATED:20220502T153755Z
LAST-MODIFIED:20220502T153755Z
UID:4530-1653204600-1653219000@www.agioi-isidoroi.gr
SUMMARY:Της Σαμαρείτιδος
DESCRIPTION:Όρθρος & Θεία Λειτουργία
URL:https://www.agioi-isidoroi.gr/leitourgia/tis-samareitidos-2/
LOCATION:Ιερός Ναός Αγίων Ισιδώρων Λυκαβηττού\, Λυκαβηττός\, Αθήνα\, Αττική\, 10210\, Greece
CATEGORIES:Όρθρος Και Θεία Λειτουργία
ORGANIZER;CN="%CE%99%CE%B5%CF%81%CF%8C%CF%82 %CE%9D%CE%B1%CF%8C%CF%82 %CE%91%CE%B3%CE%AF%CF%89%CE%BD %CE%99%CF%83%CE%B9%CE%B4%CF%8E%CF%81%CF%89%CE%BD %CE%9B%CF%85%CE%BA%CE%B1%CE%B2%CE%B7%CF%84%CF%84%CE%BF%CF%8D":MAILTO:aisidro@otenet.gr
END:VEVENT
BEGIN:VEVENT
DTSTART;TZID=Europe/Athens:20220521T073000
DTEND;TZID=Europe/Athens:20220521T093000
DTSTAMP:20260420T014702
CREATED:20220502T153704Z
LAST-MODIFIED:20220502T153704Z
UID:4528-1653118200-1653125400@www.agioi-isidoroi.gr
SUMMARY:Αγίων Κωνσταντίνου και Ελένης
DESCRIPTION:Όρθρος & Θεία Λειτουργία \nΑναστάσιμος Εσπερινός
URL:https://www.agioi-isidoroi.gr/leitourgia/agion-konstantinoy-kai-elenis/
LOCATION:Ιερός Ναός Αγίων Ισιδώρων Λυκαβηττού\, Λυκαβηττός\, Αθήνα\, Αττική\, 10210\, Greece
CATEGORIES:Αναστάσιμος Εσπερινός
ORGANIZER;CN="%CE%99%CE%B5%CF%81%CF%8C%CF%82 %CE%9D%CE%B1%CF%8C%CF%82 %CE%91%CE%B3%CE%AF%CF%89%CE%BD %CE%99%CF%83%CE%B9%CE%B4%CF%8E%CF%81%CF%89%CE%BD %CE%9B%CF%85%CE%BA%CE%B1%CE%B2%CE%B7%CF%84%CF%84%CE%BF%CF%8D":MAILTO:aisidro@otenet.gr
END:VEVENT
BEGIN:VEVENT
DTSTART;TZID=Europe/Athens:20220520T073000
DTEND;TZID=Europe/Athens:20220520T093000
DTSTAMP:20260420T014702
CREATED:20220502T153558Z
LAST-MODIFIED:20220502T153558Z
UID:4526-1653031800-1653039000@www.agioi-isidoroi.gr
SUMMARY:Αγίου μάρτυρος Θαλλελαίου
DESCRIPTION:+Ανακομιδή του σεπτού Λειψάνου του Αγίου Νικολάου \nΌρθρος & Θεία Λειτουργία
URL:https://www.agioi-isidoroi.gr/leitourgia/agioy-martyros-thallelaioy/
LOCATION:Ιερός Ναός Αγίων Ισιδώρων Λυκαβηττού\, Λυκαβηττός\, Αθήνα\, Αττική\, 10210\, Greece
CATEGORIES:Όρθρος Και Θεία Λειτουργία
ORGANIZER;CN="%CE%99%CE%B5%CF%81%CF%8C%CF%82 %CE%9D%CE%B1%CF%8C%CF%82 %CE%91%CE%B3%CE%AF%CF%89%CE%BD %CE%99%CF%83%CE%B9%CE%B4%CF%8E%CF%81%CF%89%CE%BD %CE%9B%CF%85%CE%BA%CE%B1%CE%B2%CE%B7%CF%84%CF%84%CE%BF%CF%8D":MAILTO:aisidro@otenet.gr
END:VEVENT
BEGIN:VEVENT
DTSTART;TZID=Europe/Athens:20220519T073000
DTEND;TZID=Europe/Athens:20220519T093000
DTSTAMP:20260420T014702
CREATED:20220502T153505Z
LAST-MODIFIED:20220502T153505Z
UID:4524-1652945400-1652952600@www.agioi-isidoroi.gr
SUMMARY:Αγίου Πατρικίου επισκόπου Προύσης
DESCRIPTION:Όρθρος & Θεία Λειτουργία
URL:https://www.agioi-isidoroi.gr/leitourgia/agioy-patrikioy-episkopoy-proysis/
LOCATION:Ιερός Ναός Αγίων Ισιδώρων Λυκαβηττού\, Λυκαβηττός\, Αθήνα\, Αττική\, 10210\, Greece
CATEGORIES:Όρθρος Και Θεία Λειτουργία
ORGANIZER;CN="%CE%99%CE%B5%CF%81%CF%8C%CF%82 %CE%9D%CE%B1%CF%8C%CF%82 %CE%91%CE%B3%CE%AF%CF%89%CE%BD %CE%99%CF%83%CE%B9%CE%B4%CF%8E%CF%81%CF%89%CE%BD %CE%9B%CF%85%CE%BA%CE%B1%CE%B2%CE%B7%CF%84%CF%84%CE%BF%CF%8D":MAILTO:aisidro@otenet.gr
END:VEVENT
BEGIN:VEVENT
DTSTART;TZID=Europe/Athens:20220518T073000
DTEND;TZID=Europe/Athens:20220518T093000
DTSTAMP:20260420T014702
CREATED:20220502T153404Z
LAST-MODIFIED:20220502T153404Z
UID:4522-1652859000-1652866200@www.agioi-isidoroi.gr
SUMMARY:Της Μεσοπεντηκοστής
DESCRIPTION:Όρθρος & Θεία Λειτουργία
URL:https://www.agioi-isidoroi.gr/leitourgia/tis-mesopentikostis-2/
LOCATION:Ιερός Ναός Αγίων Ισιδώρων Λυκαβηττού\, Λυκαβηττός\, Αθήνα\, Αττική\, 10210\, Greece
CATEGORIES:Όρθρος Και Θεία Λειτουργία
ORGANIZER;CN="%CE%99%CE%B5%CF%81%CF%8C%CF%82 %CE%9D%CE%B1%CF%8C%CF%82 %CE%91%CE%B3%CE%AF%CF%89%CE%BD %CE%99%CF%83%CE%B9%CE%B4%CF%8E%CF%81%CF%89%CE%BD %CE%9B%CF%85%CE%BA%CE%B1%CE%B2%CE%B7%CF%84%CF%84%CE%BF%CF%8D":MAILTO:aisidro@otenet.gr
END:VEVENT
BEGIN:VEVENT
DTSTART;TZID=Europe/Athens:20220517T193000
DTEND;TZID=Europe/Athens:20220517T203000
DTSTAMP:20260420T014702
CREATED:20220502T153100Z
LAST-MODIFIED:20220502T153100Z
UID:4519-1652815800-1652819400@www.agioi-isidoroi.gr
SUMMARY:Πανηγυρικός Εσπερινός
DESCRIPTION:
URL:https://www.agioi-isidoroi.gr/leitourgia/panigyrikos-esperinos-18/
LOCATION:Ιερός Ναός Αγίων Ισιδώρων Λυκαβηττού\, Λυκαβηττός\, Αθήνα\, Αττική\, 10210\, Greece
CATEGORIES:Εσπερινός
ORGANIZER;CN="%CE%99%CE%B5%CF%81%CF%8C%CF%82 %CE%9D%CE%B1%CF%8C%CF%82 %CE%91%CE%B3%CE%AF%CF%89%CE%BD %CE%99%CF%83%CE%B9%CE%B4%CF%8E%CF%81%CF%89%CE%BD %CE%9B%CF%85%CE%BA%CE%B1%CE%B2%CE%B7%CF%84%CF%84%CE%BF%CF%8D":MAILTO:aisidro@otenet.gr
END:VEVENT
BEGIN:VEVENT
DTSTART;TZID=Europe/Athens:20220517T073000
DTEND;TZID=Europe/Athens:20220517T093000
DTSTAMP:20260420T014702
CREATED:20220502T153012Z
LAST-MODIFIED:20220502T153012Z
UID:4517-1652772600-1652779800@www.agioi-isidoroi.gr
SUMMARY:Αγίων Ανδρονίκου και Ιουνίας των Αποστόλων
DESCRIPTION:Όρθρος & Θεία Λειτουργία
URL:https://www.agioi-isidoroi.gr/leitourgia/agion-andronikoy-kai-ioynias-ton-apostolon/
LOCATION:Ιερός Ναός Αγίων Ισιδώρων Λυκαβηττού\, Λυκαβηττός\, Αθήνα\, Αττική\, 10210\, Greece
CATEGORIES:Όρθρος Και Θεία Λειτουργία
ORGANIZER;CN="%CE%99%CE%B5%CF%81%CF%8C%CF%82 %CE%9D%CE%B1%CF%8C%CF%82 %CE%91%CE%B3%CE%AF%CF%89%CE%BD %CE%99%CF%83%CE%B9%CE%B4%CF%8E%CF%81%CF%89%CE%BD %CE%9B%CF%85%CE%BA%CE%B1%CE%B2%CE%B7%CF%84%CF%84%CE%BF%CF%8D":MAILTO:aisidro@otenet.gr
END:VEVENT
BEGIN:VEVENT
DTSTART;TZID=Europe/Athens:20220516T073000
DTEND;TZID=Europe/Athens:20220516T093000
DTSTAMP:20260420T014702
CREATED:20220502T152915Z
LAST-MODIFIED:20220502T152915Z
UID:4515-1652686200-1652693400@www.agioi-isidoroi.gr
SUMMARY:Αγίου Αλεξάνδρου Αρχιεσκόπου Ιεροσολύμων
DESCRIPTION:+Οσίων πατέρων των αναιρεθέντων εν τη Μονή του αγίου Σάββα (+614) \nΌρθρος & Θεία Λειτουργία
URL:https://www.agioi-isidoroi.gr/leitourgia/agioy-alexandroy-archieskopoy-ierosolymon/
LOCATION:Ιερός Ναός Αγίων Ισιδώρων Λυκαβηττού\, Λυκαβηττός\, Αθήνα\, Αττική\, 10210\, Greece
CATEGORIES:Όρθρος Και Θεία Λειτουργία
ORGANIZER;CN="%CE%99%CE%B5%CF%81%CF%8C%CF%82 %CE%9D%CE%B1%CF%8C%CF%82 %CE%91%CE%B3%CE%AF%CF%89%CE%BD %CE%99%CF%83%CE%B9%CE%B4%CF%8E%CF%81%CF%89%CE%BD %CE%9B%CF%85%CE%BA%CE%B1%CE%B2%CE%B7%CF%84%CF%84%CE%BF%CF%8D":MAILTO:aisidro@otenet.gr
END:VEVENT
BEGIN:VEVENT
DTSTART;TZID=Europe/Athens:20220515T073000
DTEND;TZID=Europe/Athens:20220515T113000
DTSTAMP:20260420T014702
CREATED:20220502T152749Z
LAST-MODIFIED:20220502T152749Z
UID:4513-1652599800-1652614200@www.agioi-isidoroi.gr
SUMMARY:Κυριακή του Παραλύτου
DESCRIPTION:Όρθρος & Θεία Λειτουργία
URL:https://www.agioi-isidoroi.gr/leitourgia/kyriaki-toy-paralytoy/
LOCATION:Ιερός Ναός Αγίων Ισιδώρων Λυκαβηττού\, Λυκαβηττός\, Αθήνα\, Αττική\, 10210\, Greece
CATEGORIES:Όρθρος Και Θεία Λειτουργία
ORGANIZER;CN="%CE%99%CE%B5%CF%81%CF%8C%CF%82 %CE%9D%CE%B1%CF%8C%CF%82 %CE%91%CE%B3%CE%AF%CF%89%CE%BD %CE%99%CF%83%CE%B9%CE%B4%CF%8E%CF%81%CF%89%CE%BD %CE%9B%CF%85%CE%BA%CE%B1%CE%B2%CE%B7%CF%84%CF%84%CE%BF%CF%8D":MAILTO:aisidro@otenet.gr
END:VEVENT
BEGIN:VEVENT
DTSTART;TZID=Europe/Athens:20220514T193000
DTEND;TZID=Europe/Athens:20220514T203000
DTSTAMP:20260420T014702
CREATED:20220502T152636Z
LAST-MODIFIED:20220502T152636Z
UID:4511-1652556600-1652560200@www.agioi-isidoroi.gr
SUMMARY:Αναστάσιμος Εσπερινός
DESCRIPTION:
URL:https://www.agioi-isidoroi.gr/leitourgia/anastasimos-esperinos-33/
LOCATION:Ιερός Ναός Αγίων Ισιδώρων Λυκαβηττού\, Λυκαβηττός\, Αθήνα\, Αττική\, 10210\, Greece
CATEGORIES:Αναστάσιμος Εσπερινός
ORGANIZER;CN="%CE%99%CE%B5%CF%81%CF%8C%CF%82 %CE%9D%CE%B1%CF%8C%CF%82 %CE%91%CE%B3%CE%AF%CF%89%CE%BD %CE%99%CF%83%CE%B9%CE%B4%CF%8E%CF%81%CF%89%CE%BD %CE%9B%CF%85%CE%BA%CE%B1%CE%B2%CE%B7%CF%84%CF%84%CE%BF%CF%8D":MAILTO:aisidro@otenet.gr
END:VEVENT
END:VCALENDAR