BEGIN:VCALENDAR
VERSION:2.0
PRODID:-//ΙΕΡΟΣ ΝΑΟΣ ΑΓΙΩΝ ΙΣΙΔΩΡΩΝ - ECPv6.15.17.1//NONSGML v1.0//EN
CALSCALE:GREGORIAN
METHOD:PUBLISH
X-WR-CALNAME:ΙΕΡΟΣ ΝΑΟΣ ΑΓΙΩΝ ΙΣΙΔΩΡΩΝ
X-ORIGINAL-URL:https://www.agioi-isidoroi.gr
X-WR-CALDESC:Events for ΙΕΡΟΣ ΝΑΟΣ ΑΓΙΩΝ ΙΣΙΔΩΡΩΝ
REFRESH-INTERVAL;VALUE=DURATION:PT1H
X-Robots-Tag:noindex
X-PUBLISHED-TTL:PT1H
BEGIN:VTIMEZONE
TZID:Europe/Athens
BEGIN:DAYLIGHT
TZOFFSETFROM:+0200
TZOFFSETTO:+0300
TZNAME:EEST
DTSTART:20200329T010000
END:DAYLIGHT
BEGIN:STANDARD
TZOFFSETFROM:+0300
TZOFFSETTO:+0200
TZNAME:EET
DTSTART:20201025T010000
END:STANDARD
BEGIN:DAYLIGHT
TZOFFSETFROM:+0200
TZOFFSETTO:+0300
TZNAME:EEST
DTSTART:20210328T010000
END:DAYLIGHT
BEGIN:STANDARD
TZOFFSETFROM:+0300
TZOFFSETTO:+0200
TZNAME:EET
DTSTART:20211031T010000
END:STANDARD
BEGIN:DAYLIGHT
TZOFFSETFROM:+0200
TZOFFSETTO:+0300
TZNAME:EEST
DTSTART:20220327T010000
END:DAYLIGHT
BEGIN:STANDARD
TZOFFSETFROM:+0300
TZOFFSETTO:+0200
TZNAME:EET
DTSTART:20221030T010000
END:STANDARD
END:VTIMEZONE
BEGIN:VEVENT
DTSTART;TZID=Europe/Athens:20210812T073000
DTEND;TZID=Europe/Athens:20210812T103000
DTSTAMP:20260420T022246
CREATED:20210728T174017Z
LAST-MODIFIED:20210728T174017Z
UID:3610-1628753400-1628764200@www.agioi-isidoroi.gr
SUMMARY:Ο Ευαγγελισμός της Κοιμήσεως της Θεοτόκου
DESCRIPTION:Όρθρος & Θεία Λειτουργία
URL:https://www.agioi-isidoroi.gr/leitourgia/o-eyaggelismos-tis-koimiseos-tis-theotokoy/
LOCATION:Ιερός Ναός Αγίων Ισιδώρων Λυκαβηττού\, Λυκαβηττός\, Αθήνα\, Αττική\, 10210\, Greece
CATEGORIES:Όρθρος Και Θεία Λειτουργία
ORGANIZER;CN="%CE%99%CE%B5%CF%81%CF%8C%CF%82 %CE%9D%CE%B1%CF%8C%CF%82 %CE%91%CE%B3%CE%AF%CF%89%CE%BD %CE%99%CF%83%CE%B9%CE%B4%CF%8E%CF%81%CF%89%CE%BD %CE%9B%CF%85%CE%BA%CE%B1%CE%B2%CE%B7%CF%84%CF%84%CE%BF%CF%8D":MAILTO:aisidro@otenet.gr
END:VEVENT
BEGIN:VEVENT
DTSTART;TZID=Europe/Athens:20210811T193000
DTEND;TZID=Europe/Athens:20210811T220000
DTSTAMP:20260420T022246
CREATED:20210728T173921Z
LAST-MODIFIED:20210728T173921Z
UID:3608-1628710200-1628719200@www.agioi-isidoroi.gr
SUMMARY:Εσπερινός& η Μικρή Παράκληση στην Παναγία
DESCRIPTION:
URL:https://www.agioi-isidoroi.gr/leitourgia/esperinos-amp-i-mikri-paraklisi-stin-panagia-5/
LOCATION:Ιερός Ναός Αγίων Ισιδώρων Λυκαβηττού\, Λυκαβηττός\, Αθήνα\, Αττική\, 10210\, Greece
CATEGORIES:Εσπερινός & Παράκληση
ORGANIZER;CN="%CE%99%CE%B5%CF%81%CF%8C%CF%82 %CE%9D%CE%B1%CF%8C%CF%82 %CE%91%CE%B3%CE%AF%CF%89%CE%BD %CE%99%CF%83%CE%B9%CE%B4%CF%8E%CF%81%CF%89%CE%BD %CE%9B%CF%85%CE%BA%CE%B1%CE%B2%CE%B7%CF%84%CF%84%CE%BF%CF%8D":MAILTO:aisidro@otenet.gr
END:VEVENT
BEGIN:VEVENT
DTSTART;TZID=Europe/Athens:20210811T073000
DTEND;TZID=Europe/Athens:20210811T103000
DTSTAMP:20260420T022246
CREATED:20210728T173819Z
LAST-MODIFIED:20210728T173819Z
UID:3606-1628667000-1628677800@www.agioi-isidoroi.gr
SUMMARY:Ανάμνηση θαύματος του Αγ. Σπυρίδωνος
DESCRIPTION:Όρθρος & Θεία Λειτουργία
URL:https://www.agioi-isidoroi.gr/leitourgia/anamnisi-thaymatos-toy-ag-spyridonos/
LOCATION:Ιερός Ναός Αγίων Ισιδώρων Λυκαβηττού\, Λυκαβηττός\, Αθήνα\, Αττική\, 10210\, Greece
CATEGORIES:Όρθρος Και Θεία Λειτουργία
ORGANIZER;CN="%CE%99%CE%B5%CF%81%CF%8C%CF%82 %CE%9D%CE%B1%CF%8C%CF%82 %CE%91%CE%B3%CE%AF%CF%89%CE%BD %CE%99%CF%83%CE%B9%CE%B4%CF%8E%CF%81%CF%89%CE%BD %CE%9B%CF%85%CE%BA%CE%B1%CE%B2%CE%B7%CF%84%CF%84%CE%BF%CF%8D":MAILTO:aisidro@otenet.gr
END:VEVENT
BEGIN:VEVENT
DTSTART;TZID=Europe/Athens:20210810T193000
DTEND;TZID=Europe/Athens:20210810T220000
DTSTAMP:20260420T022246
CREATED:20210728T173706Z
LAST-MODIFIED:20210728T173706Z
UID:3604-1628623800-1628632800@www.agioi-isidoroi.gr
SUMMARY:Εσπερινός & η Μεγάλη Παράκληση στην Παναγία
DESCRIPTION:
URL:https://www.agioi-isidoroi.gr/leitourgia/esperinos-amp-i-megali-paraklisi-stin-panagia-4/
LOCATION:Ιερός Ναός Αγίων Ισιδώρων Λυκαβηττού\, Λυκαβηττός\, Αθήνα\, Αττική\, 10210\, Greece
CATEGORIES:Εσπερινός & Παράκληση
ORGANIZER;CN="%CE%99%CE%B5%CF%81%CF%8C%CF%82 %CE%9D%CE%B1%CF%8C%CF%82 %CE%91%CE%B3%CE%AF%CF%89%CE%BD %CE%99%CF%83%CE%B9%CE%B4%CF%8E%CF%81%CF%89%CE%BD %CE%9B%CF%85%CE%BA%CE%B1%CE%B2%CE%B7%CF%84%CF%84%CE%BF%CF%8D":MAILTO:aisidro@otenet.gr
END:VEVENT
BEGIN:VEVENT
DTSTART;TZID=Europe/Athens:20210810T073000
DTEND;TZID=Europe/Athens:20210810T103000
DTSTAMP:20260420T022246
CREATED:20210728T173609Z
LAST-MODIFIED:20210728T173609Z
UID:3602-1628580600-1628591400@www.agioi-isidoroi.gr
SUMMARY:Αγίου Λαυρεντίου του διακόνου
DESCRIPTION:Όρθρος & Θεία Λειτουργία
URL:https://www.agioi-isidoroi.gr/leitourgia/agioy-layrentioy-toy-diakonoy/
LOCATION:Ιερός Ναός Αγίων Ισιδώρων Λυκαβηττού\, Λυκαβηττός\, Αθήνα\, Αττική\, 10210\, Greece
CATEGORIES:Όρθρος Και Θεία Λειτουργία
ORGANIZER;CN="%CE%99%CE%B5%CF%81%CF%8C%CF%82 %CE%9D%CE%B1%CF%8C%CF%82 %CE%91%CE%B3%CE%AF%CF%89%CE%BD %CE%99%CF%83%CE%B9%CE%B4%CF%8E%CF%81%CF%89%CE%BD %CE%9B%CF%85%CE%BA%CE%B1%CE%B2%CE%B7%CF%84%CF%84%CE%BF%CF%8D":MAILTO:aisidro@otenet.gr
END:VEVENT
BEGIN:VEVENT
DTSTART;TZID=Europe/Athens:20210809T193000
DTEND;TZID=Europe/Athens:20210809T220000
DTSTAMP:20260420T022246
CREATED:20210728T173336Z
LAST-MODIFIED:20210728T173336Z
UID:3600-1628537400-1628546400@www.agioi-isidoroi.gr
SUMMARY:Εσπερινός & η Μικρή Παράκληση στην Παναγία
DESCRIPTION:
URL:https://www.agioi-isidoroi.gr/leitourgia/esperinos-amp-i-mikri-paraklisi-stin-panagia-4/
LOCATION:Ιερός Ναός Αγίων Ισιδώρων Λυκαβηττού\, Λυκαβηττός\, Αθήνα\, Αττική\, 10210\, Greece
CATEGORIES:Εσπερινός & Παράκληση
ORGANIZER;CN="%CE%99%CE%B5%CF%81%CF%8C%CF%82 %CE%9D%CE%B1%CF%8C%CF%82 %CE%91%CE%B3%CE%AF%CF%89%CE%BD %CE%99%CF%83%CE%B9%CE%B4%CF%8E%CF%81%CF%89%CE%BD %CE%9B%CF%85%CE%BA%CE%B1%CE%B2%CE%B7%CF%84%CF%84%CE%BF%CF%8D":MAILTO:aisidro@otenet.gr
END:VEVENT
BEGIN:VEVENT
DTSTART;TZID=Europe/Athens:20210809T073000
DTEND;TZID=Europe/Athens:20210809T103000
DTSTAMP:20260420T022246
CREATED:20210728T173250Z
LAST-MODIFIED:20210728T173250Z
UID:3598-1628494200-1628505000@www.agioi-isidoroi.gr
SUMMARY:Αποστόλου Ματθία
DESCRIPTION:Όρθρος & Θεία Λειτουργία
URL:https://www.agioi-isidoroi.gr/leitourgia/apostoloy-matthia/
LOCATION:Ιερός Ναός Αγίων Ισιδώρων Λυκαβηττού\, Λυκαβηττός\, Αθήνα\, Αττική\, 10210\, Greece
CATEGORIES:Όρθρος Και Θεία Λειτουργία
ORGANIZER;CN="%CE%99%CE%B5%CF%81%CF%8C%CF%82 %CE%9D%CE%B1%CF%8C%CF%82 %CE%91%CE%B3%CE%AF%CF%89%CE%BD %CE%99%CF%83%CE%B9%CE%B4%CF%8E%CF%81%CF%89%CE%BD %CE%9B%CF%85%CE%BA%CE%B1%CE%B2%CE%B7%CF%84%CF%84%CE%BF%CF%8D":MAILTO:aisidro@otenet.gr
END:VEVENT
BEGIN:VEVENT
DTSTART;TZID=Europe/Athens:20210808T193000
DTEND;TZID=Europe/Athens:20210808T220000
DTSTAMP:20260420T022246
CREATED:20210728T173143Z
LAST-MODIFIED:20210728T173143Z
UID:3596-1628451000-1628460000@www.agioi-isidoroi.gr
SUMMARY:Εσπερινός & η Μεγάλη Παράκληση στην Παναγία & Νυχτερινή Θεία Λειτουργία
DESCRIPTION:Εις ανάμνηση θαύματος του Αγίου Μεγαλομάρτυρος Δημητρίου του Μυροβλύτου.\n\n 
URL:https://www.agioi-isidoroi.gr/leitourgia/esperinos-amp-i-megali-paraklisi-stin-panagia-amp-nychterini-theia-leitoyrgia/
LOCATION:Αττική
CATEGORIES:Εσπερινός & Παράκληση,Θεία Λειτουργία
END:VEVENT
BEGIN:VEVENT
DTSTART;TZID=Europe/Athens:20210808T073000
DTEND;TZID=Europe/Athens:20210808T103000
DTSTAMP:20260420T022246
CREATED:20210728T172936Z
LAST-MODIFIED:20210728T172936Z
UID:3594-1628407800-1628418600@www.agioi-isidoroi.gr
SUMMARY:Μετά την εορτήν\, Αγίου Μύρωνος επισκ. Κρήτης
DESCRIPTION:Όρθρος & Θεία Λειτουργία
URL:https://www.agioi-isidoroi.gr/leitourgia/meta-tin-eortin-agioy-myronos-episk-kritis/
LOCATION:Ιερός Ναός Αγίων Ισιδώρων Λυκαβηττού\, Λυκαβηττός\, Αθήνα\, Αττική\, 10210\, Greece
CATEGORIES:Όρθρος Και Θεία Λειτουργία
ORGANIZER;CN="%CE%99%CE%B5%CF%81%CF%8C%CF%82 %CE%9D%CE%B1%CF%8C%CF%82 %CE%91%CE%B3%CE%AF%CF%89%CE%BD %CE%99%CF%83%CE%B9%CE%B4%CF%8E%CF%81%CF%89%CE%BD %CE%9B%CF%85%CE%BA%CE%B1%CE%B2%CE%B7%CF%84%CF%84%CE%BF%CF%8D":MAILTO:aisidro@otenet.gr
END:VEVENT
BEGIN:VEVENT
DTSTART;TZID=Europe/Athens:20210807T193000
DTEND;TZID=Europe/Athens:20210807T220000
DTSTAMP:20260420T022246
CREATED:20210728T172837Z
LAST-MODIFIED:20210728T172837Z
UID:3592-1628364600-1628373600@www.agioi-isidoroi.gr
SUMMARY:Αναστάσιμος Εσπερινός
DESCRIPTION:
URL:https://www.agioi-isidoroi.gr/leitourgia/anastasimos-esperinos-12/
LOCATION:Ιερός Ναός Αγίων Ισιδώρων Λυκαβηττού\, Λυκαβηττός\, Αθήνα\, Αττική\, 10210\, Greece
CATEGORIES:Αναστάσιμος Εσπερινός
ORGANIZER;CN="%CE%99%CE%B5%CF%81%CF%8C%CF%82 %CE%9D%CE%B1%CF%8C%CF%82 %CE%91%CE%B3%CE%AF%CF%89%CE%BD %CE%99%CF%83%CE%B9%CE%B4%CF%8E%CF%81%CF%89%CE%BD %CE%9B%CF%85%CE%BA%CE%B1%CE%B2%CE%B7%CF%84%CF%84%CE%BF%CF%8D":MAILTO:aisidro@otenet.gr
END:VEVENT
BEGIN:VEVENT
DTSTART;TZID=Europe/Athens:20210807T073000
DTEND;TZID=Europe/Athens:20210807T103000
DTSTAMP:20260420T022246
CREATED:20210728T172750Z
LAST-MODIFIED:20210728T172750Z
UID:3590-1628321400-1628332200@www.agioi-isidoroi.gr
SUMMARY:Οσίου Νικάνορος
DESCRIPTION:Όρθρος & Θεία Λειτουργία
URL:https://www.agioi-isidoroi.gr/leitourgia/osioy-nikanoros/
LOCATION:Ιερός Ναός Αγίων Ισιδώρων Λυκαβηττού\, Λυκαβηττός\, Αθήνα\, Αττική\, 10210\, Greece
CATEGORIES:Όρθρος Και Θεία Λειτουργία
ORGANIZER;CN="%CE%99%CE%B5%CF%81%CF%8C%CF%82 %CE%9D%CE%B1%CF%8C%CF%82 %CE%91%CE%B3%CE%AF%CF%89%CE%BD %CE%99%CF%83%CE%B9%CE%B4%CF%8E%CF%81%CF%89%CE%BD %CE%9B%CF%85%CE%BA%CE%B1%CE%B2%CE%B7%CF%84%CF%84%CE%BF%CF%8D":MAILTO:aisidro@otenet.gr
END:VEVENT
BEGIN:VEVENT
DTSTART;TZID=Europe/Athens:20210806T193000
DTEND;TZID=Europe/Athens:20210806T220000
DTSTAMP:20260420T022246
CREATED:20210728T172650Z
LAST-MODIFIED:20210728T172650Z
UID:3588-1628278200-1628287200@www.agioi-isidoroi.gr
SUMMARY:Εσπερινός & η Μικρή Παράκληση στην Παναγία
DESCRIPTION:
URL:https://www.agioi-isidoroi.gr/leitourgia/esperinos-amp-i-mikri-paraklisi-stin-panagia-3/
LOCATION:Ιερός Ναός Αγίων Ισιδώρων Λυκαβηττού\, Λυκαβηττός\, Αθήνα\, Αττική\, 10210\, Greece
CATEGORIES:Εσπερινός & Παράκληση
ORGANIZER;CN="%CE%99%CE%B5%CF%81%CF%8C%CF%82 %CE%9D%CE%B1%CF%8C%CF%82 %CE%91%CE%B3%CE%AF%CF%89%CE%BD %CE%99%CF%83%CE%B9%CE%B4%CF%8E%CF%81%CF%89%CE%BD %CE%9B%CF%85%CE%BA%CE%B1%CE%B2%CE%B7%CF%84%CF%84%CE%BF%CF%8D":MAILTO:aisidro@otenet.gr
END:VEVENT
BEGIN:VEVENT
DTSTART;TZID=Europe/Athens:20210806T073000
DTEND;TZID=Europe/Athens:20210806T103000
DTSTAMP:20260420T022246
CREATED:20210728T172550Z
LAST-MODIFIED:20210728T172550Z
UID:3586-1628235000-1628245800@www.agioi-isidoroi.gr
SUMMARY:Η ΜΕΤΑΜΟΡΦΩΣΗ ΤΟΥ ΣΩΤΗΡΟΣ ΧΡΙΣΤΟΥ
DESCRIPTION:Όρθρος &  ΠΑΝΗΓΥΡΙΚΗ ΘΕΙΑ ΛΕΙΤΟΥΡΓΙΑ \n  \nΙΕΡΑ ΠΑΝΗΓΥΡΙΣ ΤΗΣ ΜΕΤΑΜΟΡΦΩΣΕΩΣ ΤΟΥ ΣΩΤΗΡΟΣ ΧΡΙΣΤΟΥ \nΕορτάζει το Εικονοστάσιο του Σωτήρος Χριστού  \n«Μετεμορφώθης εν τω όρει Χριστέ ο Θεός\, δείξας τοις Μαθηταίς σου την δόξαν σου\, \n καθώς ηδύναντο.\nΛάμψον και ημίν τοις αμαρτωλοίς\, το φως σου το αΐδιον            \n\,πρεσβείαις της Θεοτόκου\, φωτοδότα δόξα σοι»
URL:https://www.agioi-isidoroi.gr/leitourgia/i-metamorfosi-toy-sotiros-christoy/
LOCATION:Ιερός Ναός Αγίων Ισιδώρων Λυκαβηττού\, Λυκαβηττός\, Αθήνα\, Αττική\, 10210\, Greece
CATEGORIES:Όρθρος Και Θεία Λειτουργία
ORGANIZER;CN="%CE%99%CE%B5%CF%81%CF%8C%CF%82 %CE%9D%CE%B1%CF%8C%CF%82 %CE%91%CE%B3%CE%AF%CF%89%CE%BD %CE%99%CF%83%CE%B9%CE%B4%CF%8E%CF%81%CF%89%CE%BD %CE%9B%CF%85%CE%BA%CE%B1%CE%B2%CE%B7%CF%84%CF%84%CE%BF%CF%8D":MAILTO:aisidro@otenet.gr
END:VEVENT
BEGIN:VEVENT
DTSTART;TZID=Europe/Athens:20210805T220000
DTEND;TZID=Europe/Athens:20210806T010000
DTSTAMP:20260420T022246
CREATED:20210728T172242Z
LAST-MODIFIED:20210728T172242Z
UID:3584-1628200800-1628211600@www.agioi-isidoroi.gr
SUMMARY:ΙΕΡΑ ΑΓΡΥΠΝΙΑ
DESCRIPTION:
URL:https://www.agioi-isidoroi.gr/leitourgia/iera-agrypnia-5/
LOCATION:Ιερός Ναός Αγίων Ισιδώρων Λυκαβηττού\, Λυκαβηττός\, Αθήνα\, Αττική\, 10210\, Greece
CATEGORIES:Ιερά Αγρυπνία
ORGANIZER;CN="%CE%99%CE%B5%CF%81%CF%8C%CF%82 %CE%9D%CE%B1%CF%8C%CF%82 %CE%91%CE%B3%CE%AF%CF%89%CE%BD %CE%99%CF%83%CE%B9%CE%B4%CF%8E%CF%81%CF%89%CE%BD %CE%9B%CF%85%CE%BA%CE%B1%CE%B2%CE%B7%CF%84%CF%84%CE%BF%CF%8D":MAILTO:aisidro@otenet.gr
END:VEVENT
BEGIN:VEVENT
DTSTART;TZID=Europe/Athens:20210805T193000
DTEND;TZID=Europe/Athens:20210805T220000
DTSTAMP:20260420T022246
CREATED:20210728T172123Z
LAST-MODIFIED:20210728T172123Z
UID:3582-1628191800-1628200800@www.agioi-isidoroi.gr
SUMMARY:ΠΑΝΗΓΥΡΙΚΟΣ ΕΣΠΕΡΙΝΟΣ
DESCRIPTION:
URL:https://www.agioi-isidoroi.gr/leitourgia/panigyrikos-esperinos-7/
LOCATION:Ιερός Ναός Αγίων Ισιδώρων Λυκαβηττού\, Λυκαβηττός\, Αθήνα\, Αττική\, 10210\, Greece
CATEGORIES:Εσπερινός
ORGANIZER;CN="%CE%99%CE%B5%CF%81%CF%8C%CF%82 %CE%9D%CE%B1%CF%8C%CF%82 %CE%91%CE%B3%CE%AF%CF%89%CE%BD %CE%99%CF%83%CE%B9%CE%B4%CF%8E%CF%81%CF%89%CE%BD %CE%9B%CF%85%CE%BA%CE%B1%CE%B2%CE%B7%CF%84%CF%84%CE%BF%CF%8D":MAILTO:aisidro@otenet.gr
END:VEVENT
BEGIN:VEVENT
DTSTART;TZID=Europe/Athens:20210805T073000
DTEND;TZID=Europe/Athens:20210805T103000
DTSTAMP:20260420T022246
CREATED:20210728T172009Z
LAST-MODIFIED:20210728T172009Z
UID:3580-1628148600-1628159400@www.agioi-isidoroi.gr
SUMMARY:Προεόρτια της Μεταμορφώσεως
DESCRIPTION:Όρθρος & Θεία Λειτουργία
URL:https://www.agioi-isidoroi.gr/leitourgia/proeortia-tis-metamorfoseos/
LOCATION:Ιερός Ναός Αγίων Ισιδώρων Λυκαβηττού\, Λυκαβηττός\, Αθήνα\, Αττική\, 10210\, Greece
CATEGORIES:Όρθρος Και Θεία Λειτουργία
ORGANIZER;CN="%CE%99%CE%B5%CF%81%CF%8C%CF%82 %CE%9D%CE%B1%CF%8C%CF%82 %CE%91%CE%B3%CE%AF%CF%89%CE%BD %CE%99%CF%83%CE%B9%CE%B4%CF%8E%CF%81%CF%89%CE%BD %CE%9B%CF%85%CE%BA%CE%B1%CE%B2%CE%B7%CF%84%CF%84%CE%BF%CF%8D":MAILTO:aisidro@otenet.gr
END:VEVENT
BEGIN:VEVENT
DTSTART;TZID=Europe/Athens:20210804T193000
DTEND;TZID=Europe/Athens:20210804T220000
DTSTAMP:20260420T022246
CREATED:20210728T171901Z
LAST-MODIFIED:20210728T171920Z
UID:3578-1628105400-1628114400@www.agioi-isidoroi.gr
SUMMARY:Εσπερινός & η Μικρή Παράκληση στην Παναγία
DESCRIPTION:
URL:https://www.agioi-isidoroi.gr/leitourgia/esperinos-amp-i-mikri-paraklisi-stin-panagia-2/
LOCATION:Ιερός Ναός Αγίων Ισιδώρων Λυκαβηττού\, Λυκαβηττός\, Αθήνα\, Αττική\, 10210\, Greece
CATEGORIES:Εσπερινός & Παράκληση
ORGANIZER;CN="%CE%99%CE%B5%CF%81%CF%8C%CF%82 %CE%9D%CE%B1%CF%8C%CF%82 %CE%91%CE%B3%CE%AF%CF%89%CE%BD %CE%99%CF%83%CE%B9%CE%B4%CF%8E%CF%81%CF%89%CE%BD %CE%9B%CF%85%CE%BA%CE%B1%CE%B2%CE%B7%CF%84%CF%84%CE%BF%CF%8D":MAILTO:aisidro@otenet.gr
END:VEVENT
BEGIN:VEVENT
DTSTART;TZID=Europe/Athens:20210804T073000
DTEND;TZID=Europe/Athens:20210804T103000
DTSTAMP:20260420T022246
CREATED:20210728T171808Z
LAST-MODIFIED:20210728T171808Z
UID:3576-1628062200-1628073000@www.agioi-isidoroi.gr
SUMMARY:Των 7 παίδων εν Εφέσω
DESCRIPTION:Όρθρος & Θεία Λειτουργία
URL:https://www.agioi-isidoroi.gr/leitourgia/ton-7-paidon-en-efeso/
LOCATION:Ιερός Ναός Αγίων Ισιδώρων Λυκαβηττού\, Λυκαβηττός\, Αθήνα\, Αττική\, 10210\, Greece
CATEGORIES:Όρθρος Και Θεία Λειτουργία
ORGANIZER;CN="%CE%99%CE%B5%CF%81%CF%8C%CF%82 %CE%9D%CE%B1%CF%8C%CF%82 %CE%91%CE%B3%CE%AF%CF%89%CE%BD %CE%99%CF%83%CE%B9%CE%B4%CF%8E%CF%81%CF%89%CE%BD %CE%9B%CF%85%CE%BA%CE%B1%CE%B2%CE%B7%CF%84%CF%84%CE%BF%CF%8D":MAILTO:aisidro@otenet.gr
END:VEVENT
BEGIN:VEVENT
DTSTART;TZID=Europe/Athens:20210803T193000
DTEND;TZID=Europe/Athens:20210803T220000
DTSTAMP:20260420T022246
CREATED:20210728T171647Z
LAST-MODIFIED:20210728T171712Z
UID:3574-1628019000-1628028000@www.agioi-isidoroi.gr
SUMMARY:Εσπερινός & η Μεγάλη Παράκληση στην Παναγία
DESCRIPTION:
URL:https://www.agioi-isidoroi.gr/leitourgia/esperinos-amp-i-megali-paraklisi-stin-panagia-3/
LOCATION:Ιερός Ναός Αγίων Ισιδώρων Λυκαβηττού\, Λυκαβηττός\, Αθήνα\, Αττική\, 10210\, Greece
CATEGORIES:Εσπερινός & Παράκληση
ORGANIZER;CN="%CE%99%CE%B5%CF%81%CF%8C%CF%82 %CE%9D%CE%B1%CF%8C%CF%82 %CE%91%CE%B3%CE%AF%CF%89%CE%BD %CE%99%CF%83%CE%B9%CE%B4%CF%8E%CF%81%CF%89%CE%BD %CE%9B%CF%85%CE%BA%CE%B1%CE%B2%CE%B7%CF%84%CF%84%CE%BF%CF%8D":MAILTO:aisidro@otenet.gr
END:VEVENT
BEGIN:VEVENT
DTSTART;TZID=Europe/Athens:20210803T073000
DTEND;TZID=Europe/Athens:20210803T103000
DTSTAMP:20260420T022246
CREATED:20210728T171441Z
LAST-MODIFIED:20210728T171552Z
UID:3571-1627975800-1627986600@www.agioi-isidoroi.gr
SUMMARY:Αγίας Σαλώμης της Μυροφόρου
DESCRIPTION:Όρθρος & Θεία Λειτουργία \n*Η Αγία Σαλώμη η Μυροφόρος ήταν η πρώτη εξαδέλφη της Παναγίας\, μας.  Είχε σύζυγο τον Ζεβεδαίο και γιους τον Ιάκωβο και τον Ιωάννη.
URL:https://www.agioi-isidoroi.gr/leitourgia/agias-salomis-tis-myroforoy/
LOCATION:Ιερός Ναός Αγίων Ισιδώρων Λυκαβηττού\, Λυκαβηττός\, Αθήνα\, Αττική\, 10210\, Greece
CATEGORIES:Όρθρος Και Θεία Λειτουργία
ORGANIZER;CN="%CE%99%CE%B5%CF%81%CF%8C%CF%82 %CE%9D%CE%B1%CF%8C%CF%82 %CE%91%CE%B3%CE%AF%CF%89%CE%BD %CE%99%CF%83%CE%B9%CE%B4%CF%8E%CF%81%CF%89%CE%BD %CE%9B%CF%85%CE%BA%CE%B1%CE%B2%CE%B7%CF%84%CF%84%CE%BF%CF%8D":MAILTO:aisidro@otenet.gr
END:VEVENT
BEGIN:VEVENT
DTSTART;TZID=Europe/Athens:20210802T193000
DTEND;TZID=Europe/Athens:20210802T220000
DTSTAMP:20260420T022246
CREATED:20210728T171304Z
LAST-MODIFIED:20210728T171304Z
UID:3569-1627932600-1627941600@www.agioi-isidoroi.gr
SUMMARY:Εσπερινός & η Μικρή Παράκληση στην Παναγία
DESCRIPTION:
URL:https://www.agioi-isidoroi.gr/leitourgia/esperinos-amp-i-mikri-paraklisi-stin-panagia/
LOCATION:Ιερός Ναός Αγίων Ισιδώρων Λυκαβηττού\, Λυκαβηττός\, Αθήνα\, Αττική\, 10210\, Greece
CATEGORIES:Εσπερινός & Παράκληση
ORGANIZER;CN="%CE%99%CE%B5%CF%81%CF%8C%CF%82 %CE%9D%CE%B1%CF%8C%CF%82 %CE%91%CE%B3%CE%AF%CF%89%CE%BD %CE%99%CF%83%CE%B9%CE%B4%CF%8E%CF%81%CF%89%CE%BD %CE%9B%CF%85%CE%BA%CE%B1%CE%B2%CE%B7%CF%84%CF%84%CE%BF%CF%8D":MAILTO:aisidro@otenet.gr
END:VEVENT
BEGIN:VEVENT
DTSTART;TZID=Europe/Athens:20210802T073000
DTEND;TZID=Europe/Athens:20210802T103000
DTSTAMP:20260420T022246
CREATED:20210728T182753Z
LAST-MODIFIED:20210728T182753Z
UID:3663-1627889400-1627900200@www.agioi-isidoroi.gr
SUMMARY:Αγίου Μάμαντος
DESCRIPTION:Όρθρος & Θεία Λειτουργία
URL:https://www.agioi-isidoroi.gr/leitourgia/agioy-mamantos/
LOCATION:Ιερός Ναός Αγίων Ισιδώρων Λυκαβηττού\, Λυκαβηττός\, Αθήνα\, Αττική\, 10210\, Greece
CATEGORIES:Όρθρος Και Θεία Λειτουργία
ORGANIZER;CN="%CE%99%CE%B5%CF%81%CF%8C%CF%82 %CE%9D%CE%B1%CF%8C%CF%82 %CE%91%CE%B3%CE%AF%CF%89%CE%BD %CE%99%CF%83%CE%B9%CE%B4%CF%8E%CF%81%CF%89%CE%BD %CE%9B%CF%85%CE%BA%CE%B1%CE%B2%CE%B7%CF%84%CF%84%CE%BF%CF%8D":MAILTO:aisidro@otenet.gr
END:VEVENT
BEGIN:VEVENT
DTSTART;TZID=Europe/Athens:20210802T073000
DTEND;TZID=Europe/Athens:20210802T103000
DTSTAMP:20260420T022246
CREATED:20210728T171025Z
LAST-MODIFIED:20210728T171025Z
UID:3566-1627889400-1627900200@www.agioi-isidoroi.gr
SUMMARY:Ανακομιδή λειψ. Αγίου Στεφάνου
DESCRIPTION:Όρθρος & Θεία Λειτουργία
URL:https://www.agioi-isidoroi.gr/leitourgia/anakomidi-leips-agioy-stefanoy/
LOCATION:Ιερός Ναός Αγίων Ισιδώρων Λυκαβηττού\, Λυκαβηττός\, Αθήνα\, Αττική\, 10210\, Greece
CATEGORIES:Όρθρος Και Θεία Λειτουργία
ORGANIZER;CN="%CE%99%CE%B5%CF%81%CF%8C%CF%82 %CE%9D%CE%B1%CF%8C%CF%82 %CE%91%CE%B3%CE%AF%CF%89%CE%BD %CE%99%CF%83%CE%B9%CE%B4%CF%8E%CF%81%CF%89%CE%BD %CE%9B%CF%85%CE%BA%CE%B1%CE%B2%CE%B7%CF%84%CF%84%CE%BF%CF%8D":MAILTO:aisidro@otenet.gr
END:VEVENT
BEGIN:VEVENT
DTSTART;TZID=Europe/Athens:20210801T193000
DTEND;TZID=Europe/Athens:20210801T220000
DTSTAMP:20260420T022246
CREATED:20210630T141844Z
LAST-MODIFIED:20210630T141844Z
UID:3348-1627846200-1627855200@www.agioi-isidoroi.gr
SUMMARY:Εσπερινός & η Μεγάλη Παράκληση στην Παναγία
DESCRIPTION:
URL:https://www.agioi-isidoroi.gr/leitourgia/esperinos-amp-i-megali-paraklisi-stin-panagia-2/
LOCATION:Ιερός Ναός Αγίων Ισιδώρων Λυκαβηττού\, Λυκαβηττός\, Αθήνα\, Αττική\, 10210\, Greece
CATEGORIES:Εσπερινός & Παράκληση
ORGANIZER;CN="%CE%99%CE%B5%CF%81%CF%8C%CF%82 %CE%9D%CE%B1%CF%8C%CF%82 %CE%91%CE%B3%CE%AF%CF%89%CE%BD %CE%99%CF%83%CE%B9%CE%B4%CF%8E%CF%81%CF%89%CE%BD %CE%9B%CF%85%CE%BA%CE%B1%CE%B2%CE%B7%CF%84%CF%84%CE%BF%CF%8D":MAILTO:aisidro@otenet.gr
END:VEVENT
BEGIN:VEVENT
DTSTART;TZID=Europe/Athens:20210801T073000
DTEND;TZID=Europe/Athens:20210801T103000
DTSTAMP:20260420T022246
CREATED:20210630T141746Z
LAST-MODIFIED:20210728T171115Z
UID:3346-1627803000-1627813800@www.agioi-isidoroi.gr
SUMMARY:ΣΤ΄ΜΑΤΘΑΙΟΥ\, Η Πρόοδος του Τιμίου Σταυρού-Αρχή της νηστείας
DESCRIPTION:Όρθρος & Θεία Λειτουργία-Αγιασμός
URL:https://www.agioi-isidoroi.gr/leitourgia/st-matthaioy-i-proodos-toy-timioy-stayroy/
LOCATION:Ιερός Ναός Αγίων Ισιδώρων Λυκαβηττού\, Λυκαβηττός\, Αθήνα\, Αττική\, 10210\, Greece
CATEGORIES:Όρθρος Και Θεία Λειτουργία
ORGANIZER;CN="%CE%99%CE%B5%CF%81%CF%8C%CF%82 %CE%9D%CE%B1%CF%8C%CF%82 %CE%91%CE%B3%CE%AF%CF%89%CE%BD %CE%99%CF%83%CE%B9%CE%B4%CF%8E%CF%81%CF%89%CE%BD %CE%9B%CF%85%CE%BA%CE%B1%CE%B2%CE%B7%CF%84%CF%84%CE%BF%CF%8D":MAILTO:aisidro@otenet.gr
END:VEVENT
BEGIN:VEVENT
DTSTART;TZID=Europe/Athens:20210731T193000
DTEND;TZID=Europe/Athens:20210731T220000
DTSTAMP:20260420T022246
CREATED:20210630T141647Z
LAST-MODIFIED:20210630T141647Z
UID:3344-1627759800-1627768800@www.agioi-isidoroi.gr
SUMMARY:Αναστάσιμος Εσπερινός
DESCRIPTION:
URL:https://www.agioi-isidoroi.gr/leitourgia/anastasimos-esperinos-11/
LOCATION:Ιερός Ναός Αγίων Ισιδώρων Λυκαβηττού\, Λυκαβηττός\, Αθήνα\, Αττική\, 10210\, Greece
CATEGORIES:Αναστάσιμος Εσπερινός
ORGANIZER;CN="%CE%99%CE%B5%CF%81%CF%8C%CF%82 %CE%9D%CE%B1%CF%8C%CF%82 %CE%91%CE%B3%CE%AF%CF%89%CE%BD %CE%99%CF%83%CE%B9%CE%B4%CF%8E%CF%81%CF%89%CE%BD %CE%9B%CF%85%CE%BA%CE%B1%CE%B2%CE%B7%CF%84%CF%84%CE%BF%CF%8D":MAILTO:aisidro@otenet.gr
END:VEVENT
BEGIN:VEVENT
DTSTART;TZID=Europe/Athens:20210731T073000
DTEND;TZID=Europe/Athens:20210731T103000
DTSTAMP:20260420T022246
CREATED:20210630T141605Z
LAST-MODIFIED:20210630T141605Z
UID:3342-1627716600-1627727400@www.agioi-isidoroi.gr
SUMMARY:Ευδοκίμου του δικαίου
DESCRIPTION:Όρθρος & Θεία Λειτουργία
URL:https://www.agioi-isidoroi.gr/leitourgia/eydokimoy-toy-dikaioy/
LOCATION:Ιερός Ναός Αγίων Ισιδώρων Λυκαβηττού\, Λυκαβηττός\, Αθήνα\, Αττική\, 10210\, Greece
CATEGORIES:Όρθρος Και Θεία Λειτουργία
ORGANIZER;CN="%CE%99%CE%B5%CF%81%CF%8C%CF%82 %CE%9D%CE%B1%CF%8C%CF%82 %CE%91%CE%B3%CE%AF%CF%89%CE%BD %CE%99%CF%83%CE%B9%CE%B4%CF%8E%CF%81%CF%89%CE%BD %CE%9B%CF%85%CE%BA%CE%B1%CE%B2%CE%B7%CF%84%CF%84%CE%BF%CF%8D":MAILTO:aisidro@otenet.gr
END:VEVENT
BEGIN:VEVENT
DTSTART;TZID=Europe/Athens:20210730T073000
DTEND;TZID=Europe/Athens:20210730T103000
DTSTAMP:20260420T022246
CREATED:20210630T141411Z
LAST-MODIFIED:20210630T141411Z
UID:3340-1627630200-1627641000@www.agioi-isidoroi.gr
SUMMARY:Σίλα\, Σιλουανού & Ανδρονίκου εκ των 70΄ αποστόλων
DESCRIPTION:Όρθρος & Θεία Λειτουργία
URL:https://www.agioi-isidoroi.gr/leitourgia/sila-siloyanoy-amp-andronikoy-ek-ton-70-apostolon/
LOCATION:Ιερός Ναός Αγίων Ισιδώρων Λυκαβηττού\, Λυκαβηττός\, Αθήνα\, Αττική\, 10210\, Greece
CATEGORIES:Όρθρος Και Θεία Λειτουργία
ORGANIZER;CN="%CE%99%CE%B5%CF%81%CF%8C%CF%82 %CE%9D%CE%B1%CF%8C%CF%82 %CE%91%CE%B3%CE%AF%CF%89%CE%BD %CE%99%CF%83%CE%B9%CE%B4%CF%8E%CF%81%CF%89%CE%BD %CE%9B%CF%85%CE%BA%CE%B1%CE%B2%CE%B7%CF%84%CF%84%CE%BF%CF%8D":MAILTO:aisidro@otenet.gr
END:VEVENT
BEGIN:VEVENT
DTSTART;TZID=Europe/Athens:20210729T073000
DTEND;TZID=Europe/Athens:20210729T103000
DTSTAMP:20260420T022246
CREATED:20210630T141328Z
LAST-MODIFIED:20210630T141328Z
UID:3338-1627543800-1627554600@www.agioi-isidoroi.gr
SUMMARY:Αγίων μαρτ. Καλλινίκου & Θεοδότης
DESCRIPTION:Όρθρος & Θεία Λειτουργία
URL:https://www.agioi-isidoroi.gr/leitourgia/agion-mart-kallinikoy-amp-theodotis/
LOCATION:Ιερός Ναός Αγίων Ισιδώρων Λυκαβηττού\, Λυκαβηττός\, Αθήνα\, Αττική\, 10210\, Greece
CATEGORIES:Όρθρος Και Θεία Λειτουργία
ORGANIZER;CN="%CE%99%CE%B5%CF%81%CF%8C%CF%82 %CE%9D%CE%B1%CF%8C%CF%82 %CE%91%CE%B3%CE%AF%CF%89%CE%BD %CE%99%CF%83%CE%B9%CE%B4%CF%8E%CF%81%CF%89%CE%BD %CE%9B%CF%85%CE%BA%CE%B1%CE%B2%CE%B7%CF%84%CF%84%CE%BF%CF%8D":MAILTO:aisidro@otenet.gr
END:VEVENT
BEGIN:VEVENT
DTSTART;TZID=Europe/Athens:20210728T073000
DTEND;TZID=Europe/Athens:20210728T103000
DTSTAMP:20260420T022246
CREATED:20210630T141232Z
LAST-MODIFIED:20210630T141232Z
UID:3336-1627457400-1627468200@www.agioi-isidoroi.gr
SUMMARY:Αγίας Ειρήνης Χρυσοβαλάντου
DESCRIPTION:Όρθρος & Θεία Λειτουργία
URL:https://www.agioi-isidoroi.gr/leitourgia/agias-eirinis-chrysovalantoy/
LOCATION:Ιερός Ναός Αγίων Ισιδώρων Λυκαβηττού\, Λυκαβηττός\, Αθήνα\, Αττική\, 10210\, Greece
CATEGORIES:Όρθρος Και Θεία Λειτουργία
ORGANIZER;CN="%CE%99%CE%B5%CF%81%CF%8C%CF%82 %CE%9D%CE%B1%CF%8C%CF%82 %CE%91%CE%B3%CE%AF%CF%89%CE%BD %CE%99%CF%83%CE%B9%CE%B4%CF%8E%CF%81%CF%89%CE%BD %CE%9B%CF%85%CE%BA%CE%B1%CE%B2%CE%B7%CF%84%CF%84%CE%BF%CF%8D":MAILTO:aisidro@otenet.gr
END:VEVENT
END:VCALENDAR