BEGIN:VCALENDAR
VERSION:2.0
PRODID:-//ΙΕΡΟΣ ΝΑΟΣ ΑΓΙΩΝ ΙΣΙΔΩΡΩΝ - ECPv6.15.17.1//NONSGML v1.0//EN
CALSCALE:GREGORIAN
METHOD:PUBLISH
X-ORIGINAL-URL:https://www.agioi-isidoroi.gr
X-WR-CALDESC:Events for ΙΕΡΟΣ ΝΑΟΣ ΑΓΙΩΝ ΙΣΙΔΩΡΩΝ
REFRESH-INTERVAL;VALUE=DURATION:PT1H
X-Robots-Tag:noindex
X-PUBLISHED-TTL:PT1H
BEGIN:VTIMEZONE
TZID:Europe/Athens
BEGIN:DAYLIGHT
TZOFFSETFROM:+0200
TZOFFSETTO:+0300
TZNAME:EEST
DTSTART:20210328T010000
END:DAYLIGHT
BEGIN:STANDARD
TZOFFSETFROM:+0300
TZOFFSETTO:+0200
TZNAME:EET
DTSTART:20211031T010000
END:STANDARD
BEGIN:DAYLIGHT
TZOFFSETFROM:+0200
TZOFFSETTO:+0300
TZNAME:EEST
DTSTART:20220327T010000
END:DAYLIGHT
BEGIN:STANDARD
TZOFFSETFROM:+0300
TZOFFSETTO:+0200
TZNAME:EET
DTSTART:20221030T010000
END:STANDARD
BEGIN:DAYLIGHT
TZOFFSETFROM:+0200
TZOFFSETTO:+0300
TZNAME:EEST
DTSTART:20230326T010000
END:DAYLIGHT
BEGIN:STANDARD
TZOFFSETFROM:+0300
TZOFFSETTO:+0200
TZNAME:EET
DTSTART:20231029T010000
END:STANDARD
END:VTIMEZONE
BEGIN:VEVENT
DTSTART;TZID=Europe/Athens:20220826T073000
DTEND;TZID=Europe/Athens:20220826T093000
DTSTAMP:20260419T221929
CREATED:20220801T194838Z
LAST-MODIFIED:20220801T194838Z
UID:4806-1661499000-1661506200@www.agioi-isidoroi.gr
SUMMARY:Αγίων μαρτύρων Αδριανού & Ναταλίας
DESCRIPTION:Όρθρος & Θεία Λειτουργία \nΙΕΡΑ ΠΑΝΗΓΥΡΙΣ ΤΟΥ ΑΓΙΟΥ ΦΑΝΟΥΡΙΟΥ\nΣΑΒΒΑΤΟ 27 ΑΥΓΟΥΣΤΟΥ 2022 \n«Ουράνιον εφύμνιον εν γη τελείται λαμπρώς\, επίγειον πανήγυριν νυν εορτάζει φαιδρώς\nΑγγέλων πολίτευμα\, άνωθεν υμνωδίαις\, ευφημούσι τους άθλους\, κάτωθεν Εκκλησία την\nουράνιον δόξαν ην εύρες πόνοις και άθλοις τοις σοις\, Φανούριε ένδοξε»
URL:https://www.agioi-isidoroi.gr/leitourgia/agion-martyron-adrianoy-amp-natalias/
LOCATION:Ιερός Ναός Αγίων Ισιδώρων Λυκαβηττού\, Λυκαβηττός\, Αθήνα\, Αττική\, 10210\, Greece
CATEGORIES:Όρθρος Και Θεία Λειτουργία
ORGANIZER;CN="%CE%99%CE%B5%CF%81%CF%8C%CF%82 %CE%9D%CE%B1%CF%8C%CF%82 %CE%91%CE%B3%CE%AF%CF%89%CE%BD %CE%99%CF%83%CE%B9%CE%B4%CF%8E%CF%81%CF%89%CE%BD %CE%9B%CF%85%CE%BA%CE%B1%CE%B2%CE%B7%CF%84%CF%84%CE%BF%CF%8D":MAILTO:aisidro@otenet.gr
END:VEVENT
BEGIN:VEVENT
DTSTART;TZID=Europe/Athens:20220826T190000
DTEND;TZID=Europe/Athens:20220826T200000
DTSTAMP:20260419T221929
CREATED:20220801T194917Z
LAST-MODIFIED:20220801T194917Z
UID:4808-1661540400-1661544000@www.agioi-isidoroi.gr
SUMMARY:Πανηγυρικός Εσπερινός
DESCRIPTION:
URL:https://www.agioi-isidoroi.gr/leitourgia/panigyrikos-esperinos-26/
LOCATION:Ιερός Ναός Αγίων Ισιδώρων Λυκαβηττού\, Λυκαβηττός\, Αθήνα\, Αττική\, 10210\, Greece
CATEGORIES:Εσπερινός
ORGANIZER;CN="%CE%99%CE%B5%CF%81%CF%8C%CF%82 %CE%9D%CE%B1%CF%8C%CF%82 %CE%91%CE%B3%CE%AF%CF%89%CE%BD %CE%99%CF%83%CE%B9%CE%B4%CF%8E%CF%81%CF%89%CE%BD %CE%9B%CF%85%CE%BA%CE%B1%CE%B2%CE%B7%CF%84%CF%84%CE%BF%CF%8D":MAILTO:aisidro@otenet.gr
END:VEVENT
BEGIN:VEVENT
DTSTART;TZID=Europe/Athens:20220826T220000
DTEND;TZID=Europe/Athens:20220826T230000
DTSTAMP:20260419T221929
CREATED:20220801T194953Z
LAST-MODIFIED:20220801T194953Z
UID:4810-1661551200-1661554800@www.agioi-isidoroi.gr
SUMMARY:ΙΕΡΑ ΑΓΡΥΠΝΙΑ
DESCRIPTION:
URL:https://www.agioi-isidoroi.gr/leitourgia/iera-agrypnia-15/
LOCATION:Ιερός Ναός Αγίων Ισιδώρων Λυκαβηττού\, Λυκαβηττός\, Αθήνα\, Αττική\, 10210\, Greece
CATEGORIES:Ιερά Αγρυπνία
ORGANIZER;CN="%CE%99%CE%B5%CF%81%CF%8C%CF%82 %CE%9D%CE%B1%CF%8C%CF%82 %CE%91%CE%B3%CE%AF%CF%89%CE%BD %CE%99%CF%83%CE%B9%CE%B4%CF%8E%CF%81%CF%89%CE%BD %CE%9B%CF%85%CE%BA%CE%B1%CE%B2%CE%B7%CF%84%CF%84%CE%BF%CF%8D":MAILTO:aisidro@otenet.gr
END:VEVENT
BEGIN:VEVENT
DTSTART;TZID=Europe/Athens:20220827T073000
DTEND;TZID=Europe/Athens:20220827T093000
DTSTAMP:20260419T221929
CREATED:20220801T195048Z
LAST-MODIFIED:20220801T195048Z
UID:4812-1661585400-1661592600@www.agioi-isidoroi.gr
SUMMARY:ΤΟΥ ΑΓΙΟΥ ΜΕΓΑΛΟΜΑΡΤΥΡΟΣ ΦΑΝΟΥΡΙΟΥ
DESCRIPTION:Όρθρος & Πανηγυρική Θεία Λειτουργία
URL:https://www.agioi-isidoroi.gr/leitourgia/toy-agioy-megalomartyros-fanoyrioy-2/
LOCATION:Ιερός Ναός Αγίων Ισιδώρων Λυκαβηττού\, Λυκαβηττός\, Αθήνα\, Αττική\, 10210\, Greece
CATEGORIES:Όρθρος Και Θεία Λειτουργία
ORGANIZER;CN="%CE%99%CE%B5%CF%81%CF%8C%CF%82 %CE%9D%CE%B1%CF%8C%CF%82 %CE%91%CE%B3%CE%AF%CF%89%CE%BD %CE%99%CF%83%CE%B9%CE%B4%CF%8E%CF%81%CF%89%CE%BD %CE%9B%CF%85%CE%BA%CE%B1%CE%B2%CE%B7%CF%84%CF%84%CE%BF%CF%8D":MAILTO:aisidro@otenet.gr
END:VEVENT
BEGIN:VEVENT
DTSTART;TZID=Europe/Athens:20220827T190000
DTEND;TZID=Europe/Athens:20220827T200000
DTSTAMP:20260419T221929
CREATED:20220801T195145Z
LAST-MODIFIED:20220801T195145Z
UID:4814-1661626800-1661630400@www.agioi-isidoroi.gr
SUMMARY:Αναστάσιμος Εσπερινός & η Παράκληση του Αγίου
DESCRIPTION:«Τα αιτήματα των καρδιών αυτών και πάσαν την βουλήν αυτών ταχέως πλήρωσον άγιε Φανούριε\,\nοδηγών αυτούς προς εργασίαν των εντολών σου\, ίνα διά παντός εν ευφροσύνη και αγαλλιάσει υμνώσι\nκαι δοξάσωσι το πάντιμον και μεγαλοπρεπές όνομά σου»
URL:https://www.agioi-isidoroi.gr/leitourgia/anastasimos-esperinos-amp-i-paraklisi-toy-agioy/
LOCATION:Ιερός Ναός Αγίων Ισιδώρων Λυκαβηττού\, Λυκαβηττός\, Αθήνα\, Αττική\, 10210\, Greece
CATEGORIES:Αναστάσιμος Εσπερινός,Εσπερινός & Παράκληση
ORGANIZER;CN="%CE%99%CE%B5%CF%81%CF%8C%CF%82 %CE%9D%CE%B1%CF%8C%CF%82 %CE%91%CE%B3%CE%AF%CF%89%CE%BD %CE%99%CF%83%CE%B9%CE%B4%CF%8E%CF%81%CF%89%CE%BD %CE%9B%CF%85%CE%BA%CE%B1%CE%B2%CE%B7%CF%84%CF%84%CE%BF%CF%8D":MAILTO:aisidro@otenet.gr
END:VEVENT
BEGIN:VEVENT
DTSTART;TZID=Europe/Athens:20220828T073000
DTEND;TZID=Europe/Athens:20220828T113000
DTSTAMP:20260419T221929
CREATED:20220801T195233Z
LAST-MODIFIED:20220801T195233Z
UID:4816-1661671800-1661686200@www.agioi-isidoroi.gr
SUMMARY:ΙΑ’ ΜΑΤΘΑΙΟΥ\, Μωυσέως του Αιθίοπος
DESCRIPTION:Όρθρος & Θεία Λειτουργία
URL:https://www.agioi-isidoroi.gr/leitourgia/ia-matthaioy-moyseos-toy-aithiopos/
LOCATION:Ιερός Ναός Αγίων Ισιδώρων Λυκαβηττού\, Λυκαβηττός\, Αθήνα\, Αττική\, 10210\, Greece
CATEGORIES:Όρθρος Και Θεία Λειτουργία
ORGANIZER;CN="%CE%99%CE%B5%CF%81%CF%8C%CF%82 %CE%9D%CE%B1%CF%8C%CF%82 %CE%91%CE%B3%CE%AF%CF%89%CE%BD %CE%99%CF%83%CE%B9%CE%B4%CF%8E%CF%81%CF%89%CE%BD %CE%9B%CF%85%CE%BA%CE%B1%CE%B2%CE%B7%CF%84%CF%84%CE%BF%CF%8D":MAILTO:aisidro@otenet.gr
END:VEVENT
BEGIN:VEVENT
DTSTART;TZID=Europe/Athens:20220828T190000
DTEND;TZID=Europe/Athens:20220828T200000
DTSTAMP:20260419T221929
CREATED:20220801T195304Z
LAST-MODIFIED:20220801T195304Z
UID:4818-1661713200-1661716800@www.agioi-isidoroi.gr
SUMMARY:Εσπερινός του Αγίου Ιωάννου
DESCRIPTION:
URL:https://www.agioi-isidoroi.gr/leitourgia/esperinos-toy-agioy-ioannoy-2/
LOCATION:Ιερός Ναός Αγίων Ισιδώρων Λυκαβηττού\, Λυκαβηττός\, Αθήνα\, Αττική\, 10210\, Greece
CATEGORIES:Εσπερινός
ORGANIZER;CN="%CE%99%CE%B5%CF%81%CF%8C%CF%82 %CE%9D%CE%B1%CF%8C%CF%82 %CE%91%CE%B3%CE%AF%CF%89%CE%BD %CE%99%CF%83%CE%B9%CE%B4%CF%8E%CF%81%CF%89%CE%BD %CE%9B%CF%85%CE%BA%CE%B1%CE%B2%CE%B7%CF%84%CF%84%CE%BF%CF%8D":MAILTO:aisidro@otenet.gr
END:VEVENT
BEGIN:VEVENT
DTSTART;TZID=Europe/Athens:20220829T073000
DTEND;TZID=Europe/Athens:20220829T093000
DTSTAMP:20260419T221929
CREATED:20220801T195355Z
LAST-MODIFIED:20220801T195355Z
UID:4820-1661758200-1661765400@www.agioi-isidoroi.gr
SUMMARY:Αποτομή της Τίμιας Κεφαλής Ιωάννου του Προδρόμου
DESCRIPTION:Όρθρος & Θεία Λειτουργία [νηστεία]
URL:https://www.agioi-isidoroi.gr/leitourgia/apotomi-tis-timias-kefalis-ioannoy-toy-prodromoy-2/
LOCATION:Ιερός Ναός Αγίων Ισιδώρων Λυκαβηττού\, Λυκαβηττός\, Αθήνα\, Αττική\, 10210\, Greece
CATEGORIES:Όρθρος Και Θεία Λειτουργία
ORGANIZER;CN="%CE%99%CE%B5%CF%81%CF%8C%CF%82 %CE%9D%CE%B1%CF%8C%CF%82 %CE%91%CE%B3%CE%AF%CF%89%CE%BD %CE%99%CF%83%CE%B9%CE%B4%CF%8E%CF%81%CF%89%CE%BD %CE%9B%CF%85%CE%BA%CE%B1%CE%B2%CE%B7%CF%84%CF%84%CE%BF%CF%8D":MAILTO:aisidro@otenet.gr
END:VEVENT
BEGIN:VEVENT
DTSTART;TZID=Europe/Athens:20220830T073000
DTEND;TZID=Europe/Athens:20220830T093000
DTSTAMP:20260419T221929
CREATED:20220801T195436Z
LAST-MODIFIED:20220801T195436Z
UID:4822-1661844600-1661851800@www.agioi-isidoroi.gr
SUMMARY:Αγίου Αλεξάνδρου Πατρ. Κων/πόλεως
DESCRIPTION:Όρθρος & Θεία Λειτουργία
URL:https://www.agioi-isidoroi.gr/leitourgia/agioy-alexandroy-patr-kon-poleos-2/
LOCATION:Ιερός Ναός Αγίων Ισιδώρων Λυκαβηττού\, Λυκαβηττός\, Αθήνα\, Αττική\, 10210\, Greece
CATEGORIES:Όρθρος Και Θεία Λειτουργία
ORGANIZER;CN="%CE%99%CE%B5%CF%81%CF%8C%CF%82 %CE%9D%CE%B1%CF%8C%CF%82 %CE%91%CE%B3%CE%AF%CF%89%CE%BD %CE%99%CF%83%CE%B9%CE%B4%CF%8E%CF%81%CF%89%CE%BD %CE%9B%CF%85%CE%BA%CE%B1%CE%B2%CE%B7%CF%84%CF%84%CE%BF%CF%8D":MAILTO:aisidro@otenet.gr
END:VEVENT
BEGIN:VEVENT
DTSTART;TZID=Europe/Athens:20220831T073000
DTEND;TZID=Europe/Athens:20220831T093000
DTSTAMP:20260419T221929
CREATED:20220801T195513Z
LAST-MODIFIED:20220801T195513Z
UID:4824-1661931000-1661938200@www.agioi-isidoroi.gr
SUMMARY:Η Κατάθεσις της τιμίας Ζώνης της Θεοτόκου
DESCRIPTION:Όρθρος & Θεία Λειτουργία
URL:https://www.agioi-isidoroi.gr/leitourgia/i-katathesis-tis-timias-zonis-tis-theotokoy-2/
LOCATION:Ιερός Ναός Αγίων Ισιδώρων Λυκαβηττού\, Λυκαβηττός\, Αθήνα\, Αττική\, 10210\, Greece
CATEGORIES:Όρθρος Και Θεία Λειτουργία
ORGANIZER;CN="%CE%99%CE%B5%CF%81%CF%8C%CF%82 %CE%9D%CE%B1%CF%8C%CF%82 %CE%91%CE%B3%CE%AF%CF%89%CE%BD %CE%99%CF%83%CE%B9%CE%B4%CF%8E%CF%81%CF%89%CE%BD %CE%9B%CF%85%CE%BA%CE%B1%CE%B2%CE%B7%CF%84%CF%84%CE%BF%CF%8D":MAILTO:aisidro@otenet.gr
END:VEVENT
BEGIN:VEVENT
DTSTART;TZID=Europe/Athens:20220901T073000
DTEND;TZID=Europe/Athens:20220901T093000
DTSTAMP:20260419T221929
CREATED:20220801T195740Z
LAST-MODIFIED:20220801T195740Z
UID:4826-1662017400-1662024600@www.agioi-isidoroi.gr
SUMMARY:Αρχή της Ινδίκτου\, Των Αγ. 40 παρθενομαρτύρων
DESCRIPTION:Όρθρος & Θεία Λειτουργία \nΚάθε απόγευμα ο Παρακλητικός Κανόνας του Τιμίου Σταυρού [6.30 μ.μ.].\n“Τον Σταυρόν Σου προσκυνούμε Κύριε και την Αγίαν Σου Ανάστασιν υμνούμεν και\nδοξάζομεν”
URL:https://www.agioi-isidoroi.gr/leitourgia/archi-tis-indiktoy-ton-ag-40-parthenomartyron-2/
LOCATION:Ιερός Ναός Αγίων Ισιδώρων Λυκαβηττού\, Λυκαβηττός\, Αθήνα\, Αττική\, 10210\, Greece
CATEGORIES:Όρθρος Και Θεία Λειτουργία
ORGANIZER;CN="%CE%99%CE%B5%CF%81%CF%8C%CF%82 %CE%9D%CE%B1%CF%8C%CF%82 %CE%91%CE%B3%CE%AF%CF%89%CE%BD %CE%99%CF%83%CE%B9%CE%B4%CF%8E%CF%81%CF%89%CE%BD %CE%9B%CF%85%CE%BA%CE%B1%CE%B2%CE%B7%CF%84%CF%84%CE%BF%CF%8D":MAILTO:aisidro@otenet.gr
END:VEVENT
BEGIN:VEVENT
DTSTART;TZID=Europe/Athens:20220902T073000
DTEND;TZID=Europe/Athens:20220902T093000
DTSTAMP:20260419T221929
CREATED:20220801T195936Z
LAST-MODIFIED:20220801T195936Z
UID:4829-1662103800-1662111000@www.agioi-isidoroi.gr
SUMMARY:Αγίου Μάμαντος
DESCRIPTION:Όρθρος & Θεία Λειτουργία
URL:https://www.agioi-isidoroi.gr/leitourgia/agioy-mamantos-2/
LOCATION:Ιερός Ναός Αγίων Ισιδώρων Λυκαβηττού\, Λυκαβηττός\, Αθήνα\, Αττική\, 10210\, Greece
CATEGORIES:Όρθρος Και Θεία Λειτουργία
ORGANIZER;CN="%CE%99%CE%B5%CF%81%CF%8C%CF%82 %CE%9D%CE%B1%CF%8C%CF%82 %CE%91%CE%B3%CE%AF%CF%89%CE%BD %CE%99%CF%83%CE%B9%CE%B4%CF%8E%CF%81%CF%89%CE%BD %CE%9B%CF%85%CE%BA%CE%B1%CE%B2%CE%B7%CF%84%CF%84%CE%BF%CF%8D":MAILTO:aisidro@otenet.gr
END:VEVENT
BEGIN:VEVENT
DTSTART;TZID=Europe/Athens:20220902T183000
DTEND;TZID=Europe/Athens:20220902T193000
DTSTAMP:20260419T221929
CREATED:20220801T200033Z
LAST-MODIFIED:20220801T200033Z
UID:4831-1662143400-1662147000@www.agioi-isidoroi.gr
SUMMARY:Εσπερινός & η Παράκληση στον Τίμιο Σταυρό
DESCRIPTION:“Τον Σταυρόν Σου προσκυνούμε Κύριε και την Αγίαν Σου Ανάστασιν υμνούμεν και δοξάζομεν”
URL:https://www.agioi-isidoroi.gr/leitourgia/esperinos-amp-i-paraklisi-ston-timio-stayro-9/
LOCATION:Ιερός Ναός Αγίων Ισιδώρων Λυκαβηττού\, Λυκαβηττός\, Αθήνα\, Αττική\, 10210\, Greece
CATEGORIES:Εσπερινός & Παράκληση
ORGANIZER;CN="%CE%99%CE%B5%CF%81%CF%8C%CF%82 %CE%9D%CE%B1%CF%8C%CF%82 %CE%91%CE%B3%CE%AF%CF%89%CE%BD %CE%99%CF%83%CE%B9%CE%B4%CF%8E%CF%81%CF%89%CE%BD %CE%9B%CF%85%CE%BA%CE%B1%CE%B2%CE%B7%CF%84%CF%84%CE%BF%CF%8D":MAILTO:aisidro@otenet.gr
END:VEVENT
BEGIN:VEVENT
DTSTART;TZID=Europe/Athens:20220903T073000
DTEND;TZID=Europe/Athens:20220903T093000
DTSTAMP:20260419T221929
CREATED:20220801T200109Z
LAST-MODIFIED:20220801T200109Z
UID:4833-1662190200-1662197400@www.agioi-isidoroi.gr
SUMMARY:Ανακομιδή Ιερών Λειψάνων Αγίου Νεκταρίου
DESCRIPTION:Όρθρος & Θεία Λειτουργία
URL:https://www.agioi-isidoroi.gr/leitourgia/anakomidi-ieron-leipsanon-agioy-nektarioy/
LOCATION:Ιερός Ναός Αγίων Ισιδώρων Λυκαβηττού\, Λυκαβηττός\, Αθήνα\, Αττική\, 10210\, Greece
CATEGORIES:Όρθρος Και Θεία Λειτουργία
ORGANIZER;CN="%CE%99%CE%B5%CF%81%CF%8C%CF%82 %CE%9D%CE%B1%CF%8C%CF%82 %CE%91%CE%B3%CE%AF%CF%89%CE%BD %CE%99%CF%83%CE%B9%CE%B4%CF%8E%CF%81%CF%89%CE%BD %CE%9B%CF%85%CE%BA%CE%B1%CE%B2%CE%B7%CF%84%CF%84%CE%BF%CF%8D":MAILTO:aisidro@otenet.gr
END:VEVENT
BEGIN:VEVENT
DTSTART;TZID=Europe/Athens:20220904T073000
DTEND;TZID=Europe/Athens:20220904T113000
DTSTAMP:20260419T221929
CREATED:20220801T200150Z
LAST-MODIFIED:20220801T200150Z
UID:4835-1662276600-1662291000@www.agioi-isidoroi.gr
SUMMARY:ΙΒ’ ΜΑΤΘΑΙΟΥ\, Προφήτου Μωυσέως
DESCRIPTION:Όρθρος & Θεία Λειτουργία
URL:https://www.agioi-isidoroi.gr/leitourgia/iv-matthaioy-profitoy-moyseos/
LOCATION:Ιερός Ναός Αγίων Ισιδώρων Λυκαβηττού\, Λυκαβηττός\, Αθήνα\, Αττική\, 10210\, Greece
CATEGORIES:Όρθρος Και Θεία Λειτουργία
ORGANIZER;CN="%CE%99%CE%B5%CF%81%CF%8C%CF%82 %CE%9D%CE%B1%CF%8C%CF%82 %CE%91%CE%B3%CE%AF%CF%89%CE%BD %CE%99%CF%83%CE%B9%CE%B4%CF%8E%CF%81%CF%89%CE%BD %CE%9B%CF%85%CE%BA%CE%B1%CE%B2%CE%B7%CF%84%CF%84%CE%BF%CF%8D":MAILTO:aisidro@otenet.gr
END:VEVENT
BEGIN:VEVENT
DTSTART;TZID=Europe/Athens:20220904T183000
DTEND;TZID=Europe/Athens:20220904T193000
DTSTAMP:20260419T221929
CREATED:20220801T200230Z
LAST-MODIFIED:20220801T200230Z
UID:4837-1662316200-1662319800@www.agioi-isidoroi.gr
SUMMARY:Εσπερινός & η Παράκληση στον Τίμιο Σταυρό
DESCRIPTION:
URL:https://www.agioi-isidoroi.gr/leitourgia/esperinos-amp-i-paraklisi-ston-timio-stayro-10/
LOCATION:Ιερός Ναός Αγίων Ισιδώρων Λυκαβηττού\, Λυκαβηττός\, Αθήνα\, Αττική\, 10210\, Greece
CATEGORIES:Εσπερινός & Παράκληση
ORGANIZER;CN="%CE%99%CE%B5%CF%81%CF%8C%CF%82 %CE%9D%CE%B1%CF%8C%CF%82 %CE%91%CE%B3%CE%AF%CF%89%CE%BD %CE%99%CF%83%CE%B9%CE%B4%CF%8E%CF%81%CF%89%CE%BD %CE%9B%CF%85%CE%BA%CE%B1%CE%B2%CE%B7%CF%84%CF%84%CE%BF%CF%8D":MAILTO:aisidro@otenet.gr
END:VEVENT
BEGIN:VEVENT
DTSTART;TZID=Europe/Athens:20220905T073000
DTEND;TZID=Europe/Athens:20220905T093000
DTSTAMP:20260419T221929
CREATED:20220801T200310Z
LAST-MODIFIED:20220801T200310Z
UID:4839-1662363000-1662370200@www.agioi-isidoroi.gr
SUMMARY:Προφ. Ζαχαρίου πατρός Ιωάννου Προδρόμου
DESCRIPTION:Όρθρος & Θεία Λειτουργία
URL:https://www.agioi-isidoroi.gr/leitourgia/prof-zacharioy-patros-ioannoy-prodromoy/
LOCATION:Ιερός Ναός Αγίων Ισιδώρων Λυκαβηττού\, Λυκαβηττός\, Αθήνα\, Αττική\, 10210\, Greece
CATEGORIES:Όρθρος Και Θεία Λειτουργία
ORGANIZER;CN="%CE%99%CE%B5%CF%81%CF%8C%CF%82 %CE%9D%CE%B1%CF%8C%CF%82 %CE%91%CE%B3%CE%AF%CF%89%CE%BD %CE%99%CF%83%CE%B9%CE%B4%CF%8E%CF%81%CF%89%CE%BD %CE%9B%CF%85%CE%BA%CE%B1%CE%B2%CE%B7%CF%84%CF%84%CE%BF%CF%8D":MAILTO:aisidro@otenet.gr
END:VEVENT
BEGIN:VEVENT
DTSTART;TZID=Europe/Athens:20220905T183000
DTEND;TZID=Europe/Athens:20220905T193000
DTSTAMP:20260419T221929
CREATED:20220801T200345Z
LAST-MODIFIED:20220801T200345Z
UID:4841-1662402600-1662406200@www.agioi-isidoroi.gr
SUMMARY:Εσπερινός & η Παράκληση στον Τίμιο Σταυρό
DESCRIPTION:
URL:https://www.agioi-isidoroi.gr/leitourgia/esperinos-amp-i-paraklisi-ston-timio-stayro-11/
LOCATION:Ιερός Ναός Αγίων Ισιδώρων Λυκαβηττού\, Λυκαβηττός\, Αθήνα\, Αττική\, 10210\, Greece
CATEGORIES:Εσπερινός & Παράκληση
ORGANIZER;CN="%CE%99%CE%B5%CF%81%CF%8C%CF%82 %CE%9D%CE%B1%CF%8C%CF%82 %CE%91%CE%B3%CE%AF%CF%89%CE%BD %CE%99%CF%83%CE%B9%CE%B4%CF%8E%CF%81%CF%89%CE%BD %CE%9B%CF%85%CE%BA%CE%B1%CE%B2%CE%B7%CF%84%CF%84%CE%BF%CF%8D":MAILTO:aisidro@otenet.gr
END:VEVENT
BEGIN:VEVENT
DTSTART;TZID=Europe/Athens:20220906T073000
DTEND;TZID=Europe/Athens:20220906T093000
DTSTAMP:20260419T221929
CREATED:20220903T082253Z
LAST-MODIFIED:20220903T082253Z
UID:4847-1662449400-1662456600@www.agioi-isidoroi.gr
SUMMARY:Ανάμνηση θαύματος Αρχαγγέλου Μιχαήλ
DESCRIPTION:Όρθρος & Θεία Λειτουργία
URL:https://www.agioi-isidoroi.gr/leitourgia/anamnisi-thaymatos-archaggeloy-michail/
LOCATION:Ιερός Ναός Αγίων Ισιδώρων Λυκαβηττού\, Λυκαβηττός\, Αθήνα\, Αττική\, 10210\, Greece
CATEGORIES:Όρθρος Και Θεία Λειτουργία
ORGANIZER;CN="%CE%99%CE%B5%CF%81%CF%8C%CF%82 %CE%9D%CE%B1%CF%8C%CF%82 %CE%91%CE%B3%CE%AF%CF%89%CE%BD %CE%99%CF%83%CE%B9%CE%B4%CF%8E%CF%81%CF%89%CE%BD %CE%9B%CF%85%CE%BA%CE%B1%CE%B2%CE%B7%CF%84%CF%84%CE%BF%CF%8D":MAILTO:aisidro@otenet.gr
END:VEVENT
BEGIN:VEVENT
DTSTART;TZID=Europe/Athens:20220906T183000
DTEND;TZID=Europe/Athens:20220906T193000
DTSTAMP:20260419T221929
CREATED:20220903T082341Z
LAST-MODIFIED:20220903T082341Z
UID:4849-1662489000-1662492600@www.agioi-isidoroi.gr
SUMMARY:Εσπερινός & η Παράκληση στον Τίμιο Σταυρό
DESCRIPTION:
URL:https://www.agioi-isidoroi.gr/leitourgia/esperinos-amp-i-paraklisi-ston-timio-stayro-12/
LOCATION:Ιερός Ναός Αγίων Ισιδώρων Λυκαβηττού\, Λυκαβηττός\, Αθήνα\, Αττική\, 10210\, Greece
CATEGORIES:Εσπερινός & Παράκληση
ORGANIZER;CN="%CE%99%CE%B5%CF%81%CF%8C%CF%82 %CE%9D%CE%B1%CF%8C%CF%82 %CE%91%CE%B3%CE%AF%CF%89%CE%BD %CE%99%CF%83%CE%B9%CE%B4%CF%8E%CF%81%CF%89%CE%BD %CE%9B%CF%85%CE%BA%CE%B1%CE%B2%CE%B7%CF%84%CF%84%CE%BF%CF%8D":MAILTO:aisidro@otenet.gr
END:VEVENT
BEGIN:VEVENT
DTSTART;TZID=Europe/Athens:20220907T073000
DTEND;TZID=Europe/Athens:20220907T093000
DTSTAMP:20260419T221929
CREATED:20220903T082430Z
LAST-MODIFIED:20220903T082430Z
UID:4851-1662535800-1662543000@www.agioi-isidoroi.gr
SUMMARY:Σώζοντος μάρτυρος
DESCRIPTION:Όρθρος & Θεία Λειτουργία
URL:https://www.agioi-isidoroi.gr/leitourgia/sozontos-martyros-2/
LOCATION:Ιερός Ναός Αγίων Ισιδώρων Λυκαβηττού\, Λυκαβηττός\, Αθήνα\, Αττική\, 10210\, Greece
CATEGORIES:Όρθρος Και Θεία Λειτουργία
ORGANIZER;CN="%CE%99%CE%B5%CF%81%CF%8C%CF%82 %CE%9D%CE%B1%CF%8C%CF%82 %CE%91%CE%B3%CE%AF%CF%89%CE%BD %CE%99%CF%83%CE%B9%CE%B4%CF%8E%CF%81%CF%89%CE%BD %CE%9B%CF%85%CE%BA%CE%B1%CE%B2%CE%B7%CF%84%CF%84%CE%BF%CF%8D":MAILTO:aisidro@otenet.gr
END:VEVENT
BEGIN:VEVENT
DTSTART;TZID=Europe/Athens:20220907T190000
DTEND;TZID=Europe/Athens:20220907T200000
DTSTAMP:20260419T221929
CREATED:20220903T082519Z
LAST-MODIFIED:20220903T082519Z
UID:4853-1662577200-1662580800@www.agioi-isidoroi.gr
SUMMARY:Εσπερινός του Γενεθλίου της Παναγίας
DESCRIPTION:
URL:https://www.agioi-isidoroi.gr/leitourgia/esperinos-toy-genethlioy-tis-panagias-2/
LOCATION:Ιερός Ναός Αγίων Ισιδώρων Λυκαβηττού\, Λυκαβηττός\, Αθήνα\, Αττική\, 10210\, Greece
CATEGORIES:Εσπερινός
ORGANIZER;CN="%CE%99%CE%B5%CF%81%CF%8C%CF%82 %CE%9D%CE%B1%CF%8C%CF%82 %CE%91%CE%B3%CE%AF%CF%89%CE%BD %CE%99%CF%83%CE%B9%CE%B4%CF%8E%CF%81%CF%89%CE%BD %CE%9B%CF%85%CE%BA%CE%B1%CE%B2%CE%B7%CF%84%CF%84%CE%BF%CF%8D":MAILTO:aisidro@otenet.gr
END:VEVENT
BEGIN:VEVENT
DTSTART;TZID=Europe/Athens:20220908T073000
DTEND;TZID=Europe/Athens:20220908T093000
DTSTAMP:20260419T221929
CREATED:20220903T082623Z
LAST-MODIFIED:20220903T082623Z
UID:4855-1662622200-1662629400@www.agioi-isidoroi.gr
SUMMARY:Το Γενέθλιον της Παναγίας
DESCRIPTION:Όρθρος & Θεία Λειτουργία \n«Η γέννησίς σου\, Θεοτόκε\, χαράν εμήνυσε πάση τη οικουμένη\nεκ σου γαρ ανέτειλεν ο ήλιος της δικαιοσύνης\, Χριστός ο Θεός ημών\, και λύσας την κατάραν έδωκε την\nευλογίαν και καταργήσας τον θάνατο εδωρήσατο ημίν ζωήν αιώνιον»\n Θα τεθεί για προσκύνημα η εικόνας της Παναγίας της Μαρμαριανής
URL:https://www.agioi-isidoroi.gr/leitourgia/to-genethlion-tis-panagias/
LOCATION:Ιερός Ναός Αγίων Ισιδώρων Λυκαβηττού\, Λυκαβηττός\, Αθήνα\, Αττική\, 10210\, Greece
CATEGORIES:Όρθρος Και Θεία Λειτουργία
ORGANIZER;CN="%CE%99%CE%B5%CF%81%CF%8C%CF%82 %CE%9D%CE%B1%CF%8C%CF%82 %CE%91%CE%B3%CE%AF%CF%89%CE%BD %CE%99%CF%83%CE%B9%CE%B4%CF%8E%CF%81%CF%89%CE%BD %CE%9B%CF%85%CE%BA%CE%B1%CE%B2%CE%B7%CF%84%CF%84%CE%BF%CF%8D":MAILTO:aisidro@otenet.gr
END:VEVENT
BEGIN:VEVENT
DTSTART;TZID=Europe/Athens:20220908T183000
DTEND;TZID=Europe/Athens:20220908T193000
DTSTAMP:20260419T221929
CREATED:20220903T082703Z
LAST-MODIFIED:20220903T082703Z
UID:4857-1662661800-1662665400@www.agioi-isidoroi.gr
SUMMARY:Εσπερινός & Παράκληση στην Παναγία
DESCRIPTION:
URL:https://www.agioi-isidoroi.gr/leitourgia/esperinos-amp-paraklisi-stin-panagia/
LOCATION:Ιερός Ναός Αγίων Ισιδώρων Λυκαβηττού\, Λυκαβηττός\, Αθήνα\, Αττική\, 10210\, Greece
CATEGORIES:Εσπερινός & Παράκληση
ORGANIZER;CN="%CE%99%CE%B5%CF%81%CF%8C%CF%82 %CE%9D%CE%B1%CF%8C%CF%82 %CE%91%CE%B3%CE%AF%CF%89%CE%BD %CE%99%CF%83%CE%B9%CE%B4%CF%8E%CF%81%CF%89%CE%BD %CE%9B%CF%85%CE%BA%CE%B1%CE%B2%CE%B7%CF%84%CF%84%CE%BF%CF%8D":MAILTO:aisidro@otenet.gr
END:VEVENT
BEGIN:VEVENT
DTSTART;TZID=Europe/Athens:20220909T073000
DTEND;TZID=Europe/Athens:20220909T093000
DTSTAMP:20260419T221929
CREATED:20220903T082756Z
LAST-MODIFIED:20220903T082756Z
UID:4859-1662708600-1662715800@www.agioi-isidoroi.gr
SUMMARY:Των δικαίων Θεοπατόρων Ιωακείμ & Άννης
DESCRIPTION:Όρθρος & Θεία Λειτουργία
URL:https://www.agioi-isidoroi.gr/leitourgia/ton-dikaion-theopatoron-ioakeim-amp-annis-2/
LOCATION:Ιερός Ναός Αγίων Ισιδώρων Λυκαβηττού\, Λυκαβηττός\, Αθήνα\, Αττική\, 10210\, Greece
CATEGORIES:Όρθρος Και Θεία Λειτουργία
ORGANIZER;CN="%CE%99%CE%B5%CF%81%CF%8C%CF%82 %CE%9D%CE%B1%CF%8C%CF%82 %CE%91%CE%B3%CE%AF%CF%89%CE%BD %CE%99%CF%83%CE%B9%CE%B4%CF%8E%CF%81%CF%89%CE%BD %CE%9B%CF%85%CE%BA%CE%B1%CE%B2%CE%B7%CF%84%CF%84%CE%BF%CF%8D":MAILTO:aisidro@otenet.gr
END:VEVENT
BEGIN:VEVENT
DTSTART;TZID=Europe/Athens:20220909T183000
DTEND;TZID=Europe/Athens:20220909T193000
DTSTAMP:20260419T221929
CREATED:20220903T082849Z
LAST-MODIFIED:20220903T082849Z
UID:4861-1662748200-1662751800@www.agioi-isidoroi.gr
SUMMARY:Εσπερινός & η Παράκληση στον Τίμιο Σταυρό
DESCRIPTION:
URL:https://www.agioi-isidoroi.gr/leitourgia/esperinos-amp-i-paraklisi-ston-timio-stayro-13/
LOCATION:Ιερός Ναός Αγίων Ισιδώρων Λυκαβηττού\, Λυκαβηττός\, Αθήνα\, Αττική\, 10210\, Greece
CATEGORIES:Εσπερινός & Παράκληση
ORGANIZER;CN="%CE%99%CE%B5%CF%81%CF%8C%CF%82 %CE%9D%CE%B1%CF%8C%CF%82 %CE%91%CE%B3%CE%AF%CF%89%CE%BD %CE%99%CF%83%CE%B9%CE%B4%CF%8E%CF%81%CF%89%CE%BD %CE%9B%CF%85%CE%BA%CE%B1%CE%B2%CE%B7%CF%84%CF%84%CE%BF%CF%8D":MAILTO:aisidro@otenet.gr
END:VEVENT
BEGIN:VEVENT
DTSTART;TZID=Europe/Athens:20220910T073000
DTEND;TZID=Europe/Athens:20220910T093000
DTSTAMP:20260419T221929
CREATED:20220903T082947Z
LAST-MODIFIED:20220903T082947Z
UID:4863-1662795000-1662802200@www.agioi-isidoroi.gr
SUMMARY:Μηνοδώρας\, Μητροδώρας & Νυμφοδώρας
DESCRIPTION:Όρθρος & Θεία Λειτουργία
URL:https://www.agioi-isidoroi.gr/leitourgia/minodoras-mitrodoras-amp-nymfodoras-2/
LOCATION:Ιερός Ναός Αγίων Ισιδώρων Λυκαβηττού\, Λυκαβηττός\, Αθήνα\, Αττική\, 10210\, Greece
CATEGORIES:Όρθρος Και Θεία Λειτουργία
ORGANIZER;CN="%CE%99%CE%B5%CF%81%CF%8C%CF%82 %CE%9D%CE%B1%CF%8C%CF%82 %CE%91%CE%B3%CE%AF%CF%89%CE%BD %CE%99%CF%83%CE%B9%CE%B4%CF%8E%CF%81%CF%89%CE%BD %CE%9B%CF%85%CE%BA%CE%B1%CE%B2%CE%B7%CF%84%CF%84%CE%BF%CF%8D":MAILTO:aisidro@otenet.gr
END:VEVENT
BEGIN:VEVENT
DTSTART;TZID=Europe/Athens:20220911T073000
DTEND;TZID=Europe/Athens:20220911T113000
DTSTAMP:20260419T221929
CREATED:20220903T083034Z
LAST-MODIFIED:20220903T083034Z
UID:4865-1662881400-1662895800@www.agioi-isidoroi.gr
SUMMARY:ΠΡΟ ΤΗΣ ΥΨΩΣΕΩΣ ΤΟΥ ΤΙΜΙΟΥ ΣΤΑΥΡΟΥ
DESCRIPTION:Όρθρος & Θεία Λειτουργία
URL:https://www.agioi-isidoroi.gr/leitourgia/pro-tis-ypsoseos-toy-timioy-stayroy/
LOCATION:Ιερός Ναός Αγίων Ισιδώρων Λυκαβηττού\, Λυκαβηττός\, Αθήνα\, Αττική\, 10210\, Greece
CATEGORIES:Όρθρος Και Θεία Λειτουργία
ORGANIZER;CN="%CE%99%CE%B5%CF%81%CF%8C%CF%82 %CE%9D%CE%B1%CF%8C%CF%82 %CE%91%CE%B3%CE%AF%CF%89%CE%BD %CE%99%CF%83%CE%B9%CE%B4%CF%8E%CF%81%CF%89%CE%BD %CE%9B%CF%85%CE%BA%CE%B1%CE%B2%CE%B7%CF%84%CF%84%CE%BF%CF%8D":MAILTO:aisidro@otenet.gr
END:VEVENT
BEGIN:VEVENT
DTSTART;TZID=Europe/Athens:20220911T183000
DTEND;TZID=Europe/Athens:20220911T193000
DTSTAMP:20260419T221929
CREATED:20220903T083139Z
LAST-MODIFIED:20220903T083139Z
UID:4867-1662921000-1662924600@www.agioi-isidoroi.gr
SUMMARY:Εσπερινός & η Παράκληση στην Παναγία
DESCRIPTION:
URL:https://www.agioi-isidoroi.gr/leitourgia/esperinos-amp-i-paraklisi-stin-panagia/
LOCATION:Ιερός Ναός Αγίων Ισιδώρων Λυκαβηττού\, Λυκαβηττός\, Αθήνα\, Αττική\, 10210\, Greece
CATEGORIES:Εσπερινός & Παράκληση
ORGANIZER;CN="%CE%99%CE%B5%CF%81%CF%8C%CF%82 %CE%9D%CE%B1%CF%8C%CF%82 %CE%91%CE%B3%CE%AF%CF%89%CE%BD %CE%99%CF%83%CE%B9%CE%B4%CF%8E%CF%81%CF%89%CE%BD %CE%9B%CF%85%CE%BA%CE%B1%CE%B2%CE%B7%CF%84%CF%84%CE%BF%CF%8D":MAILTO:aisidro@otenet.gr
END:VEVENT
BEGIN:VEVENT
DTSTART;TZID=Europe/Athens:20220912T073000
DTEND;TZID=Europe/Athens:20220912T093000
DTSTAMP:20260419T221929
CREATED:20220908T182821Z
LAST-MODIFIED:20220908T182821Z
UID:4869-1662967800-1662975000@www.agioi-isidoroi.gr
SUMMARY:Απόδοσις του Γενεθλίου της Θεοτόκου
DESCRIPTION:Όρθρος & Θεία Λειτουργία \nΙΕΡΑ ΠΑΝΗΓΥΡΙΣ ΤΟΥ ΑΓΙΟΥ ΑΡΙΣΤΕΙΔΟΥ ΤΟΥ ΑΘΗΝΑΙΟΥ \nΤΡΙΤΗ 13 ΣΕΠΤΕΜΒΡΙΟΥ 2022 \nΕορτάζει το ιερό σπήλαιο στο οποίο κατά την παράδοση\nερχόταν ο Άγιος για προσευχή και περισυλλογή\n«Τω Χριστώ προσηνέχθης θυσία άμωμος\, και ολοκάρπωμα θείον αιωρηθείς απηνώς\,\nεν αγχόνῃ Αριστείδη γενναιότατε\, γόνε κλεινέ των Αθηνών και φιλόσοφε σεπτέ\,\nδιό σε νυν ευφημούντες\, φωναίς ευήχοις βοώμεν· Χριστόν δυσώπει υπέρ πάντων ημών»
URL:https://www.agioi-isidoroi.gr/leitourgia/apodosis-toy-genethlioy-tis-theotokoy/
LOCATION:Ιερός Ναός Αγίων Ισιδώρων Λυκαβηττού\, Λυκαβηττός\, Αθήνα\, Αττική\, 10210\, Greece
CATEGORIES:Όρθρος Και Θεία Λειτουργία
ORGANIZER;CN="%CE%99%CE%B5%CF%81%CF%8C%CF%82 %CE%9D%CE%B1%CF%8C%CF%82 %CE%91%CE%B3%CE%AF%CF%89%CE%BD %CE%99%CF%83%CE%B9%CE%B4%CF%8E%CF%81%CF%89%CE%BD %CE%9B%CF%85%CE%BA%CE%B1%CE%B2%CE%B7%CF%84%CF%84%CE%BF%CF%8D":MAILTO:aisidro@otenet.gr
END:VEVENT
END:VCALENDAR