BEGIN:VCALENDAR
VERSION:2.0
PRODID:-//ΙΕΡΟΣ ΝΑΟΣ ΑΓΙΩΝ ΙΣΙΔΩΡΩΝ - ECPv6.15.17.1//NONSGML v1.0//EN
CALSCALE:GREGORIAN
METHOD:PUBLISH
X-ORIGINAL-URL:https://www.agioi-isidoroi.gr
X-WR-CALDESC:Events for ΙΕΡΟΣ ΝΑΟΣ ΑΓΙΩΝ ΙΣΙΔΩΡΩΝ
REFRESH-INTERVAL;VALUE=DURATION:PT1H
X-Robots-Tag:noindex
X-PUBLISHED-TTL:PT1H
BEGIN:VTIMEZONE
TZID:Europe/Athens
BEGIN:DAYLIGHT
TZOFFSETFROM:+0200
TZOFFSETTO:+0300
TZNAME:EEST
DTSTART:20200329T010000
END:DAYLIGHT
BEGIN:STANDARD
TZOFFSETFROM:+0300
TZOFFSETTO:+0200
TZNAME:EET
DTSTART:20201025T010000
END:STANDARD
BEGIN:DAYLIGHT
TZOFFSETFROM:+0200
TZOFFSETTO:+0300
TZNAME:EEST
DTSTART:20210328T010000
END:DAYLIGHT
BEGIN:STANDARD
TZOFFSETFROM:+0300
TZOFFSETTO:+0200
TZNAME:EET
DTSTART:20211031T010000
END:STANDARD
BEGIN:DAYLIGHT
TZOFFSETFROM:+0200
TZOFFSETTO:+0300
TZNAME:EEST
DTSTART:20220327T010000
END:DAYLIGHT
BEGIN:STANDARD
TZOFFSETFROM:+0300
TZOFFSETTO:+0200
TZNAME:EET
DTSTART:20221030T010000
END:STANDARD
BEGIN:DAYLIGHT
TZOFFSETFROM:+0200
TZOFFSETTO:+0300
TZNAME:EEST
DTSTART:20230326T010000
END:DAYLIGHT
BEGIN:STANDARD
TZOFFSETFROM:+0300
TZOFFSETTO:+0200
TZNAME:EET
DTSTART:20231029T010000
END:STANDARD
END:VTIMEZONE
BEGIN:VEVENT
DTSTART;TZID=Europe/Athens:20211229T073000
DTEND;TZID=Europe/Athens:20211229T110000
DTSTAMP:20260419T223127
CREATED:20211201T113023Z
LAST-MODIFIED:20211201T113023Z
UID:4034-1640763000-1640775600@www.agioi-isidoroi.gr
SUMMARY:Των Αγίων Νηπίων
DESCRIPTION:Όρθρος & Θεία Λειτουργία
URL:https://www.agioi-isidoroi.gr/leitourgia/ton-agion-nipion/
LOCATION:Ιερός Ναός Αγίων Ισιδώρων Λυκαβηττού\, Λυκαβηττός\, Αθήνα\, Αττική\, 10210\, Greece
CATEGORIES:Όρθρος Και Θεία Λειτουργία
ORGANIZER;CN="%CE%99%CE%B5%CF%81%CF%8C%CF%82 %CE%9D%CE%B1%CF%8C%CF%82 %CE%91%CE%B3%CE%AF%CF%89%CE%BD %CE%99%CF%83%CE%B9%CE%B4%CF%8E%CF%81%CF%89%CE%BD %CE%9B%CF%85%CE%BA%CE%B1%CE%B2%CE%B7%CF%84%CF%84%CE%BF%CF%8D":MAILTO:aisidro@otenet.gr
END:VEVENT
BEGIN:VEVENT
DTSTART;TZID=Europe/Athens:20211230T073000
DTEND;TZID=Europe/Athens:20211230T110000
DTSTAMP:20260419T223127
CREATED:20211201T113419Z
LAST-MODIFIED:20211201T113419Z
UID:4036-1640849400-1640862000@www.agioi-isidoroi.gr
SUMMARY:Αγίας Ανυσίας
DESCRIPTION:Όρθρος & Θεία Λειτουργία
URL:https://www.agioi-isidoroi.gr/leitourgia/agias-anysias/
LOCATION:Ιερός Ναός Αγίων Ισιδώρων Λυκαβηττού\, Λυκαβηττός\, Αθήνα\, Αττική\, 10210\, Greece
CATEGORIES:Όρθρος Και Θεία Λειτουργία
ORGANIZER;CN="%CE%99%CE%B5%CF%81%CF%8C%CF%82 %CE%9D%CE%B1%CF%8C%CF%82 %CE%91%CE%B3%CE%AF%CF%89%CE%BD %CE%99%CF%83%CE%B9%CE%B4%CF%8E%CF%81%CF%89%CE%BD %CE%9B%CF%85%CE%BA%CE%B1%CE%B2%CE%B7%CF%84%CF%84%CE%BF%CF%8D":MAILTO:aisidro@otenet.gr
END:VEVENT
BEGIN:VEVENT
DTSTART;TZID=Europe/Athens:20211231T073000
DTEND;TZID=Europe/Athens:20211231T110000
DTSTAMP:20260419T223127
CREATED:20211201T124118Z
LAST-MODIFIED:20211201T124118Z
UID:4038-1640935800-1640948400@www.agioi-isidoroi.gr
SUMMARY:Του Αρχαγγέλου Ραφαήλ & οσίας Μελάνης
DESCRIPTION:Ο Αρχάγγελος Ραφαήλ είναι ο Αρχιδιάκονος του Κυρίου και ο συνοδός των ανθρώπων στην ζωή. \nΌρθρος & Ευχαριστήριος Θεία Λειτουργία του έτους 2021. \nΣΑΣ ΕΥΧΟΜΑΣΤΕ ΥΓΕΙΑ & ΕΙΡΗΝΙΚΗ ΧΡΟΝΙΑ ΤΟ 2022\nΑπολυτίκιον της Παναγίας των Ευχών\nΤην αγίαν μορφήν σου κατασπαζόμενοι\, εν Ισιδώρων Αγίων Λυκαβηττού\nτω Ναώ\, Παναγία των Ευχών\, Θεογεννήτρια\, σε δυσωπούμεν ευλαβώς·\nΤας ημών ευχάς ταχύ προσάγαγε τω Υιώ σου\, πληρούντι πάντων δεήσεις\nως ευαπόδεκτον θυμίαμα
URL:https://www.agioi-isidoroi.gr/leitourgia/toy-archaggeloy-rafail-amp-osias-melanis/
LOCATION:Ιερός Ναός Αγίων Ισιδώρων Λυκαβηττού\, Λυκαβηττός\, Αθήνα\, Αττική\, 10210\, Greece
CATEGORIES:Όρθρος Και Θεία Λειτουργία
ORGANIZER;CN="%CE%99%CE%B5%CF%81%CF%8C%CF%82 %CE%9D%CE%B1%CF%8C%CF%82 %CE%91%CE%B3%CE%AF%CF%89%CE%BD %CE%99%CF%83%CE%B9%CE%B4%CF%8E%CF%81%CF%89%CE%BD %CE%9B%CF%85%CE%BA%CE%B1%CE%B2%CE%B7%CF%84%CF%84%CE%BF%CF%8D":MAILTO:aisidro@otenet.gr
END:VEVENT
BEGIN:VEVENT
DTSTART;TZID=Europe/Athens:20211231T233000
DTEND;TZID=Europe/Athens:20220101T020000
DTSTAMP:20260419T223127
CREATED:20211201T124642Z
LAST-MODIFIED:20211201T124642Z
UID:4040-1640993400-1641002400@www.agioi-isidoroi.gr
SUMMARY:ΒΥΖΑΝΤΙΝΟΙ ΥΜΝΟΙ
DESCRIPTION:
URL:https://www.agioi-isidoroi.gr/leitourgia/vyzantinoi-ymnoi/
LOCATION:Ιερός Ναός Αγίων Ισιδώρων Λυκαβηττού\, Λυκαβηττός\, Αθήνα\, Αττική\, 10210\, Greece
CATEGORIES:Ύμνοι
ORGANIZER;CN="%CE%99%CE%B5%CF%81%CF%8C%CF%82 %CE%9D%CE%B1%CF%8C%CF%82 %CE%91%CE%B3%CE%AF%CF%89%CE%BD %CE%99%CF%83%CE%B9%CE%B4%CF%8E%CF%81%CF%89%CE%BD %CE%9B%CF%85%CE%BA%CE%B1%CE%B2%CE%B7%CF%84%CF%84%CE%BF%CF%8D":MAILTO:aisidro@otenet.gr
END:VEVENT
BEGIN:VEVENT
DTSTART;TZID=Europe/Athens:20220101T000000
DTEND;TZID=Europe/Athens:20220101T003000
DTSTAMP:20260419T223127
CREATED:20211201T124824Z
LAST-MODIFIED:20211201T124824Z
UID:4042-1640995200-1640997000@www.agioi-isidoroi.gr
SUMMARY:Δοξολογία-κοπή Βασιλόπιτας
DESCRIPTION:Η ΠΕΡΙΤΟΜΗ ΤΟΥ ΧΡΙΣΤΟΥ\, ΑΓΙΟΥ ΒΑΣΙΛΕΙΟΥ ΤΟΥ ΜΕΓΑΛΟΥ.
URL:https://www.agioi-isidoroi.gr/leitourgia/doxologia-kopi-vasilopitas/
LOCATION:Ιερός Ναός Αγίων Ισιδώρων Λυκαβηττού\, Λυκαβηττός\, Αθήνα\, Αττική\, 10210\, Greece
CATEGORIES:Δοξολογία
ORGANIZER;CN="%CE%99%CE%B5%CF%81%CF%8C%CF%82 %CE%9D%CE%B1%CF%8C%CF%82 %CE%91%CE%B3%CE%AF%CF%89%CE%BD %CE%99%CF%83%CE%B9%CE%B4%CF%8E%CF%81%CF%89%CE%BD %CE%9B%CF%85%CE%BA%CE%B1%CE%B2%CE%B7%CF%84%CF%84%CE%BF%CF%8D":MAILTO:aisidro@otenet.gr
END:VEVENT
BEGIN:VEVENT
DTSTART;TZID=Europe/Athens:20220101T073000
DTEND;TZID=Europe/Athens:20220101T120000
DTSTAMP:20260419T223127
CREATED:20211229T173449Z
LAST-MODIFIED:20211229T173449Z
UID:4049-1641022200-1641038400@www.agioi-isidoroi.gr
SUMMARY:Η ΚΑΤΑ ΣΑΡΚΑ ΠΕΡΙΤΟΜΗ ΤΟΥ ΚΥΡΙΟΥ  ΑΓΙΟΥ ΒΑΣΙΛΕΙΟΥ ΤΟΥ ΜΕΓΑΛΟΥ
DESCRIPTION:Όρθρος & Πανηγυρική Θεία Λειτουργία\nΔοξολογία επί τη ενάρξει του Νέου Έτους 2022 \n*Με λαμπρότητα τιμάτε η εορτή του Μεγάλου Βασιλείου\, ο οποίος όταν σπούδαζε στην\nΑθήνα συνήθιζε να έρχεται στο Ιερό Σπήλαιο των Αγίων Ισιδώρων μαζί με τον Άγιο\nΓρηγόριο τον Θεολόγο για προσευχή και περισυλλογή.\n*Θα τεθεί για προσκύνηση ιερό λείψανο του Αγίου Βασιλείου\n*Στο τέλος της Θείας Λειτουργίας θα γίνει η κοπή της Πρωτοχρονιάτικης Βασιλόπιτας\,\nθα ψάλλουν τα κάλαντα και θα μοιραστούν στους προσκυνητές παραδοσιακά γλυκίσματα.
URL:https://www.agioi-isidoroi.gr/leitourgia/i-kata-sarka-peritomi-toy-kyrioy-agioy-vasileioy-toy-megaloy/
LOCATION:Ιερός Ναός Αγίων Ισιδώρων Λυκαβηττού\, Λυκαβηττός\, Αθήνα\, Αττική\, 10210\, Greece
CATEGORIES:Όρθρος Και Θεία Λειτουργία
ORGANIZER;CN="%CE%99%CE%B5%CF%81%CF%8C%CF%82 %CE%9D%CE%B1%CF%8C%CF%82 %CE%91%CE%B3%CE%AF%CF%89%CE%BD %CE%99%CF%83%CE%B9%CE%B4%CF%8E%CF%81%CF%89%CE%BD %CE%9B%CF%85%CE%BA%CE%B1%CE%B2%CE%B7%CF%84%CF%84%CE%BF%CF%8D":MAILTO:aisidro@otenet.gr
END:VEVENT
BEGIN:VEVENT
DTSTART;TZID=Europe/Athens:20220101T183000
DTEND;TZID=Europe/Athens:20220101T210000
DTSTAMP:20260419T223127
CREATED:20211229T173530Z
LAST-MODIFIED:20211229T173530Z
UID:4051-1641061800-1641070800@www.agioi-isidoroi.gr
SUMMARY:Αναστάσιμος εσπερινός
DESCRIPTION:
URL:https://www.agioi-isidoroi.gr/leitourgia/anastasimos-esperinos-21/
LOCATION:Ιερός Ναός Αγίων Ισιδώρων Λυκαβηττού\, Λυκαβηττός\, Αθήνα\, Αττική\, 10210\, Greece
CATEGORIES:Εσπερινός
ORGANIZER;CN="%CE%99%CE%B5%CF%81%CF%8C%CF%82 %CE%9D%CE%B1%CF%8C%CF%82 %CE%91%CE%B3%CE%AF%CF%89%CE%BD %CE%99%CF%83%CE%B9%CE%B4%CF%8E%CF%81%CF%89%CE%BD %CE%9B%CF%85%CE%BA%CE%B1%CE%B2%CE%B7%CF%84%CF%84%CE%BF%CF%8D":MAILTO:aisidro@otenet.gr
END:VEVENT
BEGIN:VEVENT
DTSTART;TZID=Europe/Athens:20220102T073000
DTEND;TZID=Europe/Athens:20220102T110000
DTSTAMP:20260419T223127
CREATED:20211229T173633Z
LAST-MODIFIED:20211229T173633Z
UID:4053-1641108600-1641121200@www.agioi-isidoroi.gr
SUMMARY:Προ των Φώτων\, Οσίου Σεραφείμ του Σάρωφ (1833 μ.Χ.)
DESCRIPTION:Όρθρος & Θεία Λειτουργία
URL:https://www.agioi-isidoroi.gr/leitourgia/pro-ton-foton-osioy-serafeim-toy-sarof-1833-m-ch/
LOCATION:Ιερός Ναός Αγίων Ισιδώρων Λυκαβηττού\, Λυκαβηττός\, Αθήνα\, Αττική\, 10210\, Greece
CATEGORIES:Όρθρος Και Θεία Λειτουργία
ORGANIZER;CN="%CE%99%CE%B5%CF%81%CF%8C%CF%82 %CE%9D%CE%B1%CF%8C%CF%82 %CE%91%CE%B3%CE%AF%CF%89%CE%BD %CE%99%CF%83%CE%B9%CE%B4%CF%8E%CF%81%CF%89%CE%BD %CE%9B%CF%85%CE%BA%CE%B1%CE%B2%CE%B7%CF%84%CF%84%CE%BF%CF%8D":MAILTO:aisidro@otenet.gr
END:VEVENT
BEGIN:VEVENT
DTSTART;TZID=Europe/Athens:20220103T073000
DTEND;TZID=Europe/Athens:20220103T110000
DTSTAMP:20260419T223127
CREATED:20211229T173719Z
LAST-MODIFIED:20211229T173719Z
UID:4055-1641195000-1641207600@www.agioi-isidoroi.gr
SUMMARY:Εύρεσις λειψάνων Αγ. Εφραίμ Ν. Μάκρης
DESCRIPTION:Όρθρος & Θεία Λειτουργία
URL:https://www.agioi-isidoroi.gr/leitourgia/eyresis-leipsanon-ag-efraim-n-makris/
LOCATION:Ιερός Ναός Αγίων Ισιδώρων Λυκαβηττού\, Λυκαβηττός\, Αθήνα\, Αττική\, 10210\, Greece
CATEGORIES:Όρθρος Και Θεία Λειτουργία
ORGANIZER;CN="%CE%99%CE%B5%CF%81%CF%8C%CF%82 %CE%9D%CE%B1%CF%8C%CF%82 %CE%91%CE%B3%CE%AF%CF%89%CE%BD %CE%99%CF%83%CE%B9%CE%B4%CF%8E%CF%81%CF%89%CE%BD %CE%9B%CF%85%CE%BA%CE%B1%CE%B2%CE%B7%CF%84%CF%84%CE%BF%CF%8D":MAILTO:aisidro@otenet.gr
END:VEVENT
BEGIN:VEVENT
DTSTART;TZID=Europe/Athens:20220103T073000
DTEND;TZID=Europe/Athens:20220103T110000
DTSTAMP:20260419T223127
CREATED:20211229T184726Z
LAST-MODIFIED:20211229T184726Z
UID:4139-1641195000-1641207600@www.agioi-isidoroi.gr
SUMMARY:Αγίου Συμεών του Θεοδόχου
DESCRIPTION:Όρθρος & Θεία Λειτουργία
URL:https://www.agioi-isidoroi.gr/leitourgia/agioy-symeon-toy-theodochoy/
LOCATION:Ιερός Ναός Αγίων Ισιδώρων Λυκαβηττού\, Λυκαβηττός\, Αθήνα\, Αττική\, 10210\, Greece
CATEGORIES:Όρθρος Και Θεία Λειτουργία
ORGANIZER;CN="%CE%99%CE%B5%CF%81%CF%8C%CF%82 %CE%9D%CE%B1%CF%8C%CF%82 %CE%91%CE%B3%CE%AF%CF%89%CE%BD %CE%99%CF%83%CE%B9%CE%B4%CF%8E%CF%81%CF%89%CE%BD %CE%9B%CF%85%CE%BA%CE%B1%CE%B2%CE%B7%CF%84%CF%84%CE%BF%CF%8D":MAILTO:aisidro@otenet.gr
END:VEVENT
BEGIN:VEVENT
DTSTART;TZID=Europe/Athens:20220103T183000
DTEND;TZID=Europe/Athens:20220103T210000
DTSTAMP:20260419T223127
CREATED:20211229T184838Z
LAST-MODIFIED:20211229T184838Z
UID:4141-1641234600-1641243600@www.agioi-isidoroi.gr
SUMMARY:ΜΕΓΑΣ ΠΑΝΗΓΥΡΙΚΟΣ ΕΣΠΕΡΙΝΟΣ
DESCRIPTION:
URL:https://www.agioi-isidoroi.gr/leitourgia/megas-panigyrikos-esperinos-3/
LOCATION:Ιερός Ναός Αγίων Ισιδώρων Λυκαβηττού\, Λυκαβηττός\, Αθήνα\, Αττική\, 10210\, Greece
CATEGORIES:Εσπερινός
ORGANIZER;CN="%CE%99%CE%B5%CF%81%CF%8C%CF%82 %CE%9D%CE%B1%CF%8C%CF%82 %CE%91%CE%B3%CE%AF%CF%89%CE%BD %CE%99%CF%83%CE%B9%CE%B4%CF%8E%CF%81%CF%89%CE%BD %CE%9B%CF%85%CE%BA%CE%B1%CE%B2%CE%B7%CF%84%CF%84%CE%BF%CF%8D":MAILTO:aisidro@otenet.gr
END:VEVENT
BEGIN:VEVENT
DTSTART;TZID=Europe/Athens:20220104T073000
DTEND;TZID=Europe/Athens:20220104T110000
DTSTAMP:20260419T223127
CREATED:20211229T173854Z
LAST-MODIFIED:20211229T173854Z
UID:4057-1641281400-1641294000@www.agioi-isidoroi.gr
SUMMARY:Οσίου Νικηφόρου του Λεπρού
DESCRIPTION:Όρθρος & Θεία Λειτουργία
URL:https://www.agioi-isidoroi.gr/leitourgia/osioy-nikiforoy-toy-leproy/
LOCATION:Ιερός Ναός Αγίων Ισιδώρων Λυκαβηττού\, Λυκαβηττός\, Αθήνα\, Αττική\, 10210\, Greece
CATEGORIES:Όρθρος Και Θεία Λειτουργία
ORGANIZER;CN="%CE%99%CE%B5%CF%81%CF%8C%CF%82 %CE%9D%CE%B1%CF%8C%CF%82 %CE%91%CE%B3%CE%AF%CF%89%CE%BD %CE%99%CF%83%CE%B9%CE%B4%CF%8E%CF%81%CF%89%CE%BD %CE%9B%CF%85%CE%BA%CE%B1%CE%B2%CE%B7%CF%84%CF%84%CE%BF%CF%8D":MAILTO:aisidro@otenet.gr
END:VEVENT
BEGIN:VEVENT
DTSTART;TZID=Europe/Athens:20220105T073000
DTEND;TZID=Europe/Athens:20220105T110000
DTSTAMP:20260419T223127
CREATED:20211229T174058Z
LAST-MODIFIED:20211229T174058Z
UID:4059-1641367800-1641380400@www.agioi-isidoroi.gr
SUMMARY:Αγίων Θεοπέμπτου & Θεωνά των μαρτύρων (Νηστεία)
DESCRIPTION:Μεγάλες Ώρες & Θεία Λειτουργία Μ. Βασιλείου \nΑΓΙΑΣΜΟΣ
URL:https://www.agioi-isidoroi.gr/leitourgia/agion-theopemptoy-amp-theona-ton-martyron-nisteia/
LOCATION:Ιερός Ναός Αγίων Ισιδώρων Λυκαβηττού\, Λυκαβηττός\, Αθήνα\, Αττική\, 10210\, Greece
CATEGORIES:Θεία Λειτουργία
ORGANIZER;CN="%CE%99%CE%B5%CF%81%CF%8C%CF%82 %CE%9D%CE%B1%CF%8C%CF%82 %CE%91%CE%B3%CE%AF%CF%89%CE%BD %CE%99%CF%83%CE%B9%CE%B4%CF%8E%CF%81%CF%89%CE%BD %CE%9B%CF%85%CE%BA%CE%B1%CE%B2%CE%B7%CF%84%CF%84%CE%BF%CF%8D":MAILTO:aisidro@otenet.gr
END:VEVENT
BEGIN:VEVENT
DTSTART;TZID=Europe/Athens:20220105T183000
DTEND;TZID=Europe/Athens:20220105T210000
DTSTAMP:20260419T223127
CREATED:20211229T174224Z
LAST-MODIFIED:20211229T174224Z
UID:4061-1641407400-1641416400@www.agioi-isidoroi.gr
SUMMARY:Μέγας Εσπερινός των Θεοφανίων
DESCRIPTION:
URL:https://www.agioi-isidoroi.gr/leitourgia/megas-esperinos-ton-theofanion/
LOCATION:Ιερός Ναός Αγίων Ισιδώρων Λυκαβηττού\, Λυκαβηττός\, Αθήνα\, Αττική\, 10210\, Greece
CATEGORIES:Εσπερινός
ORGANIZER;CN="%CE%99%CE%B5%CF%81%CF%8C%CF%82 %CE%9D%CE%B1%CF%8C%CF%82 %CE%91%CE%B3%CE%AF%CF%89%CE%BD %CE%99%CF%83%CE%B9%CE%B4%CF%8E%CF%81%CF%89%CE%BD %CE%9B%CF%85%CE%BA%CE%B1%CE%B2%CE%B7%CF%84%CF%84%CE%BF%CF%8D":MAILTO:aisidro@otenet.gr
END:VEVENT
BEGIN:VEVENT
DTSTART;TZID=Europe/Athens:20220106T073000
DTEND;TZID=Europe/Athens:20220106T110000
DTSTAMP:20260419T223127
CREATED:20211229T174448Z
LAST-MODIFIED:20211229T174448Z
UID:4063-1641454200-1641466800@www.agioi-isidoroi.gr
SUMMARY:ΤΑ ΑΓΙΑ ΘΕΟΦΑΝΙΑ ΤΟΥ ΚΥΡΙΟΥ
DESCRIPTION:Όρθρος & Θεία Λειτουργία \nΗ ΑΚΟΛΟΥΘΙΑ ΤΟΥ ΜΕΓΑΛΟΥ ΑΓΙΑΣΜΟΥ\n+ Φωνή Κυρίου επί των υδάτων βοά λέγουσα· Δεύτε λάβετε πάντες\,\nΠνεύμα σοφίας\, Πνεύμα συνέσεως\, Πνεύμα φόβου Θεού\,\nτου επιφανέντος Χριστού \n* Έχει γίνει πλέον παράδοση στον ναό μας την ημέρα αυτή να ρίχνεται ένας μικρός\nσταυρός στην κάθε κολυμβήθρα και να βουτούν τα χέρια τους τα παιδιά στη μία και\nοι μεγάλοι στην δεύτερη για να τον πιάσουν κατά τρόπο ανάλογο όπως γίνεται στα\nλιμάνια και σε παραθαλάσσιες περιοχές. Στους ασημένιους Σταυρούς τοποθετούνται\nευλογίες\, με την πίστη ότι θα λάβουν ξεχωριστή ευλογία και χάρη για όλη τη χρονιά.
URL:https://www.agioi-isidoroi.gr/leitourgia/ta-agia-theofania-toy-kyrioy/
LOCATION:Ιερός Ναός Αγίων Ισιδώρων Λυκαβηττού\, Λυκαβηττός\, Αθήνα\, Αττική\, 10210\, Greece
CATEGORIES:Όρθρος Και Θεία Λειτουργία
ORGANIZER;CN="%CE%99%CE%B5%CF%81%CF%8C%CF%82 %CE%9D%CE%B1%CF%8C%CF%82 %CE%91%CE%B3%CE%AF%CF%89%CE%BD %CE%99%CF%83%CE%B9%CE%B4%CF%8E%CF%81%CF%89%CE%BD %CE%9B%CF%85%CE%BA%CE%B1%CE%B2%CE%B7%CF%84%CF%84%CE%BF%CF%8D":MAILTO:aisidro@otenet.gr
END:VEVENT
BEGIN:VEVENT
DTSTART;TZID=Europe/Athens:20220106T183000
DTEND;TZID=Europe/Athens:20220106T210000
DTSTAMP:20260419T223127
CREATED:20211229T174623Z
LAST-MODIFIED:20211229T174623Z
UID:4065-1641493800-1641502800@www.agioi-isidoroi.gr
SUMMARY:Εσπερινός του Αγίου Ιωάννου
DESCRIPTION:
URL:https://www.agioi-isidoroi.gr/leitourgia/esperinos-toy-agioy-ioannoy/
LOCATION:Ιερός Ναός Αγίων Ισιδώρων Λυκαβηττού\, Λυκαβηττός\, Αθήνα\, Αττική\, 10210\, Greece
CATEGORIES:Εσπερινός
ORGANIZER;CN="%CE%99%CE%B5%CF%81%CF%8C%CF%82 %CE%9D%CE%B1%CF%8C%CF%82 %CE%91%CE%B3%CE%AF%CF%89%CE%BD %CE%99%CF%83%CE%B9%CE%B4%CF%8E%CF%81%CF%89%CE%BD %CE%9B%CF%85%CE%BA%CE%B1%CE%B2%CE%B7%CF%84%CF%84%CE%BF%CF%8D":MAILTO:aisidro@otenet.gr
END:VEVENT
BEGIN:VEVENT
DTSTART;TZID=Europe/Athens:20220107T073000
DTEND;TZID=Europe/Athens:20220107T110000
DTSTAMP:20260419T223127
CREATED:20211229T174746Z
LAST-MODIFIED:20211229T174746Z
UID:4067-1641540600-1641553200@www.agioi-isidoroi.gr
SUMMARY:Αγίου Ιωάννου του Προδρόμου & Βαπτιστού
DESCRIPTION:Όρθρος & Πανηγυρική Θεία Λειτουργία
URL:https://www.agioi-isidoroi.gr/leitourgia/agioy-ioannoy-toy-prodromoy-amp-vaptistoy/
LOCATION:Ιερός Ναός Αγίων Ισιδώρων Λυκαβηττού\, Λυκαβηττός\, Αθήνα\, Αττική\, 10210\, Greece
CATEGORIES:Όρθρος Και Θεία Λειτουργία
ORGANIZER;CN="%CE%99%CE%B5%CF%81%CF%8C%CF%82 %CE%9D%CE%B1%CF%8C%CF%82 %CE%91%CE%B3%CE%AF%CF%89%CE%BD %CE%99%CF%83%CE%B9%CE%B4%CF%8E%CF%81%CF%89%CE%BD %CE%9B%CF%85%CE%BA%CE%B1%CE%B2%CE%B7%CF%84%CF%84%CE%BF%CF%8D":MAILTO:aisidro@otenet.gr
END:VEVENT
BEGIN:VEVENT
DTSTART;TZID=Europe/Athens:20220107T183000
DTEND;TZID=Europe/Athens:20220107T210000
DTSTAMP:20260419T223127
CREATED:20211229T174832Z
LAST-MODIFIED:20211229T174832Z
UID:4069-1641580200-1641589200@www.agioi-isidoroi.gr
SUMMARY:Εσπερινός & Παράκληση του Αγίου Ιωάννου
DESCRIPTION:
URL:https://www.agioi-isidoroi.gr/leitourgia/esperinos-amp-paraklisi-toy-agioy-ioannoy/
LOCATION:Ιερός Ναός Αγίων Ισιδώρων Λυκαβηττού\, Λυκαβηττός\, Αθήνα\, Αττική\, 10210\, Greece
CATEGORIES:Εσπερινός & Παράκληση
ORGANIZER;CN="%CE%99%CE%B5%CF%81%CF%8C%CF%82 %CE%9D%CE%B1%CF%8C%CF%82 %CE%91%CE%B3%CE%AF%CF%89%CE%BD %CE%99%CF%83%CE%B9%CE%B4%CF%8E%CF%81%CF%89%CE%BD %CE%9B%CF%85%CE%BA%CE%B1%CE%B2%CE%B7%CF%84%CF%84%CE%BF%CF%8D":MAILTO:aisidro@otenet.gr
END:VEVENT
BEGIN:VEVENT
DTSTART;TZID=Europe/Athens:20220108T073000
DTEND;TZID=Europe/Athens:20220108T110000
DTSTAMP:20260419T223127
CREATED:20211229T174919Z
LAST-MODIFIED:20211229T174919Z
UID:4071-1641627000-1641639600@www.agioi-isidoroi.gr
SUMMARY:Αγίου Γεωργίου του Χοζεβίτου
DESCRIPTION:Όρθρος & Θεία Λειτουργία
URL:https://www.agioi-isidoroi.gr/leitourgia/agioy-georgioy-toy-chozevitoy/
LOCATION:Ιερός Ναός Αγίων Ισιδώρων Λυκαβηττού\, Λυκαβηττός\, Αθήνα\, Αττική\, 10210\, Greece
CATEGORIES:Όρθρος Και Θεία Λειτουργία
ORGANIZER;CN="%CE%99%CE%B5%CF%81%CF%8C%CF%82 %CE%9D%CE%B1%CF%8C%CF%82 %CE%91%CE%B3%CE%AF%CF%89%CE%BD %CE%99%CF%83%CE%B9%CE%B4%CF%8E%CF%81%CF%89%CE%BD %CE%9B%CF%85%CE%BA%CE%B1%CE%B2%CE%B7%CF%84%CF%84%CE%BF%CF%8D":MAILTO:aisidro@otenet.gr
END:VEVENT
BEGIN:VEVENT
DTSTART;TZID=Europe/Athens:20220108T183000
DTEND;TZID=Europe/Athens:20220108T210000
DTSTAMP:20260419T223127
CREATED:20211229T175004Z
LAST-MODIFIED:20211229T175004Z
UID:4073-1641666600-1641675600@www.agioi-isidoroi.gr
SUMMARY:Αναστάσιμος εσπερινός
DESCRIPTION:
URL:https://www.agioi-isidoroi.gr/leitourgia/anastasimos-esperinos-22/
LOCATION:Ιερός Ναός Αγίων Ισιδώρων Λυκαβηττού\, Λυκαβηττός\, Αθήνα\, Αττική\, 10210\, Greece
CATEGORIES:Αναστάσιμος Εσπερινός
ORGANIZER;CN="%CE%99%CE%B5%CF%81%CF%8C%CF%82 %CE%9D%CE%B1%CF%8C%CF%82 %CE%91%CE%B3%CE%AF%CF%89%CE%BD %CE%99%CF%83%CE%B9%CE%B4%CF%8E%CF%81%CF%89%CE%BD %CE%9B%CF%85%CE%BA%CE%B1%CE%B2%CE%B7%CF%84%CF%84%CE%BF%CF%8D":MAILTO:aisidro@otenet.gr
END:VEVENT
BEGIN:VEVENT
DTSTART;TZID=Europe/Athens:20220109T073000
DTEND;TZID=Europe/Athens:20220109T110000
DTSTAMP:20260419T223127
CREATED:20211229T175056Z
LAST-MODIFIED:20211229T175056Z
UID:4075-1641713400-1641726000@www.agioi-isidoroi.gr
SUMMARY:ΜΕΤΑ ΤΑ ΦΩΤΑ\, Αγίου μάρτυρος Πολυεύκτου
DESCRIPTION:Όρθρος & Θεία Λειτουργία
URL:https://www.agioi-isidoroi.gr/leitourgia/meta-ta-fota-agioy-martyros-polyeyktoy/
LOCATION:Ιερός Ναός Αγίων Ισιδώρων Λυκαβηττού\, Λυκαβηττός\, Αθήνα\, Αττική\, 10210\, Greece
CATEGORIES:Όρθρος Και Θεία Λειτουργία
ORGANIZER;CN="%CE%99%CE%B5%CF%81%CF%8C%CF%82 %CE%9D%CE%B1%CF%8C%CF%82 %CE%91%CE%B3%CE%AF%CF%89%CE%BD %CE%99%CF%83%CE%B9%CE%B4%CF%8E%CF%81%CF%89%CE%BD %CE%9B%CF%85%CE%BA%CE%B1%CE%B2%CE%B7%CF%84%CF%84%CE%BF%CF%8D":MAILTO:aisidro@otenet.gr
END:VEVENT
BEGIN:VEVENT
DTSTART;TZID=Europe/Athens:20220110T073000
DTEND;TZID=Europe/Athens:20220110T110000
DTSTAMP:20260419T223127
CREATED:20211229T175141Z
LAST-MODIFIED:20211229T175141Z
UID:4077-1641799800-1641812400@www.agioi-isidoroi.gr
SUMMARY:Αγίου Γρηγορίου Νύσσης
DESCRIPTION:Όρθρος & Θεία Λειτουργία
URL:https://www.agioi-isidoroi.gr/leitourgia/agioy-grigorioy-nyssis/
LOCATION:Ιερός Ναός Αγίων Ισιδώρων Λυκαβηττού\, Λυκαβηττός\, Αθήνα\, Αττική\, 10210\, Greece
CATEGORIES:Όρθρος Και Θεία Λειτουργία
ORGANIZER;CN="%CE%99%CE%B5%CF%81%CF%8C%CF%82 %CE%9D%CE%B1%CF%8C%CF%82 %CE%91%CE%B3%CE%AF%CF%89%CE%BD %CE%99%CF%83%CE%B9%CE%B4%CF%8E%CF%81%CF%89%CE%BD %CE%9B%CF%85%CE%BA%CE%B1%CE%B2%CE%B7%CF%84%CF%84%CE%BF%CF%8D":MAILTO:aisidro@otenet.gr
END:VEVENT
BEGIN:VEVENT
DTSTART;TZID=Europe/Athens:20220111T073000
DTEND;TZID=Europe/Athens:20220111T110000
DTSTAMP:20260419T223127
CREATED:20211229T175229Z
LAST-MODIFIED:20211229T175229Z
UID:4079-1641886200-1641898800@www.agioi-isidoroi.gr
SUMMARY:Αγίου Θεοδοσίου του Κοινοβιάρχου
DESCRIPTION:Όρθρος & Θεία Λειτουργία
URL:https://www.agioi-isidoroi.gr/leitourgia/agioy-theodosioy-toy-koinoviarchoy/
LOCATION:Ιερός Ναός Αγίων Ισιδώρων Λυκαβηττού\, Λυκαβηττός\, Αθήνα\, Αττική\, 10210\, Greece
CATEGORIES:Όρθρος Και Θεία Λειτουργία
ORGANIZER;CN="%CE%99%CE%B5%CF%81%CF%8C%CF%82 %CE%9D%CE%B1%CF%8C%CF%82 %CE%91%CE%B3%CE%AF%CF%89%CE%BD %CE%99%CF%83%CE%B9%CE%B4%CF%8E%CF%81%CF%89%CE%BD %CE%9B%CF%85%CE%BA%CE%B1%CE%B2%CE%B7%CF%84%CF%84%CE%BF%CF%8D":MAILTO:aisidro@otenet.gr
END:VEVENT
BEGIN:VEVENT
DTSTART;TZID=Europe/Athens:20220112T073000
DTEND;TZID=Europe/Athens:20220112T110000
DTSTAMP:20260419T223127
CREATED:20211229T175324Z
LAST-MODIFIED:20211229T175324Z
UID:4081-1641972600-1641985200@www.agioi-isidoroi.gr
SUMMARY:Αγίας Τατιανής
DESCRIPTION:Όρθρος & Θεία Λειτουργία
URL:https://www.agioi-isidoroi.gr/leitourgia/agias-tatianis/
LOCATION:Ιερός Ναός Αγίων Ισιδώρων Λυκαβηττού\, Λυκαβηττός\, Αθήνα\, Αττική\, 10210\, Greece
CATEGORIES:Όρθρος Και Θεία Λειτουργία
ORGANIZER;CN="%CE%99%CE%B5%CF%81%CF%8C%CF%82 %CE%9D%CE%B1%CF%8C%CF%82 %CE%91%CE%B3%CE%AF%CF%89%CE%BD %CE%99%CF%83%CE%B9%CE%B4%CF%8E%CF%81%CF%89%CE%BD %CE%9B%CF%85%CE%BA%CE%B1%CE%B2%CE%B7%CF%84%CF%84%CE%BF%CF%8D":MAILTO:aisidro@otenet.gr
END:VEVENT
BEGIN:VEVENT
DTSTART;TZID=Europe/Athens:20220113T073000
DTEND;TZID=Europe/Athens:20220113T110000
DTSTAMP:20260419T223127
CREATED:20211229T175414Z
LAST-MODIFIED:20211229T175414Z
UID:4083-1642059000-1642071600@www.agioi-isidoroi.gr
SUMMARY:Αγίων Αββάδων μονής Αγίου Θεοδοσίου
DESCRIPTION:Όρθρος & Θεία Λειτουργία
URL:https://www.agioi-isidoroi.gr/leitourgia/agion-avvadon-monis-agioy-theodosioy/
LOCATION:Ιερός Ναός Αγίων Ισιδώρων Λυκαβηττού\, Λυκαβηττός\, Αθήνα\, Αττική\, 10210\, Greece
CATEGORIES:Όρθρος Και Θεία Λειτουργία
ORGANIZER;CN="%CE%99%CE%B5%CF%81%CF%8C%CF%82 %CE%9D%CE%B1%CF%8C%CF%82 %CE%91%CE%B3%CE%AF%CF%89%CE%BD %CE%99%CF%83%CE%B9%CE%B4%CF%8E%CF%81%CF%89%CE%BD %CE%9B%CF%85%CE%BA%CE%B1%CE%B2%CE%B7%CF%84%CF%84%CE%BF%CF%8D":MAILTO:aisidro@otenet.gr
END:VEVENT
BEGIN:VEVENT
DTSTART;TZID=Europe/Athens:20220114T073000
DTEND;TZID=Europe/Athens:20220114T110000
DTSTAMP:20260419T223127
CREATED:20211229T175510Z
LAST-MODIFIED:20211229T175510Z
UID:4085-1642145400-1642158000@www.agioi-isidoroi.gr
SUMMARY:Απόδοση της εορτής των Θεοφανίων
DESCRIPTION:Όρθρος & Θεία Λειτουργία
URL:https://www.agioi-isidoroi.gr/leitourgia/apodosi-tis-eortis-ton-theofanion/
LOCATION:Ιερός Ναός Αγίων Ισιδώρων Λυκαβηττού\, Λυκαβηττός\, Αθήνα\, Αττική\, 10210\, Greece
CATEGORIES:Όρθρος Και Θεία Λειτουργία
ORGANIZER;CN="%CE%99%CE%B5%CF%81%CF%8C%CF%82 %CE%9D%CE%B1%CF%8C%CF%82 %CE%91%CE%B3%CE%AF%CF%89%CE%BD %CE%99%CF%83%CE%B9%CE%B4%CF%8E%CF%81%CF%89%CE%BD %CE%9B%CF%85%CE%BA%CE%B1%CE%B2%CE%B7%CF%84%CF%84%CE%BF%CF%8D":MAILTO:aisidro@otenet.gr
END:VEVENT
BEGIN:VEVENT
DTSTART;TZID=Europe/Athens:20220115T073000
DTEND;TZID=Europe/Athens:20220115T110000
DTSTAMP:20260419T223127
CREATED:20211229T175618Z
LAST-MODIFIED:20211229T175618Z
UID:4087-1642231800-1642244400@www.agioi-isidoroi.gr
SUMMARY:Αγίου Ιωάννου του Καλυβίτου
DESCRIPTION:* Επέτειος χειροτονίας εις Αρχιερέα του Αγίου Νεκταρίου \nΌρθρος & Θεία Λειτουργία \n 
URL:https://www.agioi-isidoroi.gr/leitourgia/agioy-ioannoy-toy-kalyvitoy/
LOCATION:Ιερός Ναός Αγίων Ισιδώρων Λυκαβηττού\, Λυκαβηττός\, Αθήνα\, Αττική\, 10210\, Greece
CATEGORIES:Όρθρος Και Θεία Λειτουργία
ORGANIZER;CN="%CE%99%CE%B5%CF%81%CF%8C%CF%82 %CE%9D%CE%B1%CF%8C%CF%82 %CE%91%CE%B3%CE%AF%CF%89%CE%BD %CE%99%CF%83%CE%B9%CE%B4%CF%8E%CF%81%CF%89%CE%BD %CE%9B%CF%85%CE%BA%CE%B1%CE%B2%CE%B7%CF%84%CF%84%CE%BF%CF%8D":MAILTO:aisidro@otenet.gr
END:VEVENT
BEGIN:VEVENT
DTSTART;TZID=Europe/Athens:20220115T183000
DTEND;TZID=Europe/Athens:20220115T210000
DTSTAMP:20260419T223127
CREATED:20211229T175710Z
LAST-MODIFIED:20211229T175710Z
UID:4089-1642271400-1642280400@www.agioi-isidoroi.gr
SUMMARY:Αναστάσιμος εσπερινός
DESCRIPTION:
URL:https://www.agioi-isidoroi.gr/leitourgia/anastasimos-esperinos-23/
LOCATION:Ιερός Ναός Αγίων Ισιδώρων Λυκαβηττού\, Λυκαβηττός\, Αθήνα\, Αττική\, 10210\, Greece
CATEGORIES:Αναστάσιμος Εσπερινός
ORGANIZER;CN="%CE%99%CE%B5%CF%81%CF%8C%CF%82 %CE%9D%CE%B1%CF%8C%CF%82 %CE%91%CE%B3%CE%AF%CF%89%CE%BD %CE%99%CF%83%CE%B9%CE%B4%CF%8E%CF%81%CF%89%CE%BD %CE%9B%CF%85%CE%BA%CE%B1%CE%B2%CE%B7%CF%84%CF%84%CE%BF%CF%8D":MAILTO:aisidro@otenet.gr
END:VEVENT
BEGIN:VEVENT
DTSTART;TZID=Europe/Athens:20220116T073000
DTEND;TZID=Europe/Athens:20220116T110000
DTSTAMP:20260419T223127
CREATED:20211229T175805Z
LAST-MODIFIED:20211229T175805Z
UID:4091-1642318200-1642330800@www.agioi-isidoroi.gr
SUMMARY:ΙΒ’ ΛΟΥΚΑ\, προσκύνησις αλύσεως Απ. Παύλου
DESCRIPTION:Όρθρος & Θεία Λειτουργία
URL:https://www.agioi-isidoroi.gr/leitourgia/iv-loyka-proskynisis-alyseos-ap-payloy/
LOCATION:Ιερός Ναός Αγίων Ισιδώρων Λυκαβηττού\, Λυκαβηττός\, Αθήνα\, Αττική\, 10210\, Greece
CATEGORIES:Όρθρος Και Θεία Λειτουργία
ORGANIZER;CN="%CE%99%CE%B5%CF%81%CF%8C%CF%82 %CE%9D%CE%B1%CF%8C%CF%82 %CE%91%CE%B3%CE%AF%CF%89%CE%BD %CE%99%CF%83%CE%B9%CE%B4%CF%8E%CF%81%CF%89%CE%BD %CE%9B%CF%85%CE%BA%CE%B1%CE%B2%CE%B7%CF%84%CF%84%CE%BF%CF%8D":MAILTO:aisidro@otenet.gr
END:VEVENT
BEGIN:VEVENT
DTSTART;TZID=Europe/Athens:20220117T073000
DTEND;TZID=Europe/Athens:20220117T110000
DTSTAMP:20260419T223127
CREATED:20211229T175849Z
LAST-MODIFIED:20211229T175849Z
UID:4093-1642404600-1642417200@www.agioi-isidoroi.gr
SUMMARY:Αγίου Αντωνίου του Μεγάλου
DESCRIPTION:Όρθρος & Θεία Λειτουργία
URL:https://www.agioi-isidoroi.gr/leitourgia/agioy-antonioy-toy-megaloy/
LOCATION:Ιερός Ναός Αγίων Ισιδώρων Λυκαβηττού\, Λυκαβηττός\, Αθήνα\, Αττική\, 10210\, Greece
CATEGORIES:Όρθρος Και Θεία Λειτουργία
ORGANIZER;CN="%CE%99%CE%B5%CF%81%CF%8C%CF%82 %CE%9D%CE%B1%CF%8C%CF%82 %CE%91%CE%B3%CE%AF%CF%89%CE%BD %CE%99%CF%83%CE%B9%CE%B4%CF%8E%CF%81%CF%89%CE%BD %CE%9B%CF%85%CE%BA%CE%B1%CE%B2%CE%B7%CF%84%CF%84%CE%BF%CF%8D":MAILTO:aisidro@otenet.gr
END:VEVENT
END:VCALENDAR