BEGIN:VCALENDAR
VERSION:2.0
PRODID:-//ΙΕΡΟΣ ΝΑΟΣ ΑΓΙΩΝ ΙΣΙΔΩΡΩΝ - ECPv6.15.17.1//NONSGML v1.0//EN
CALSCALE:GREGORIAN
METHOD:PUBLISH
X-WR-CALNAME:ΙΕΡΟΣ ΝΑΟΣ ΑΓΙΩΝ ΙΣΙΔΩΡΩΝ
X-ORIGINAL-URL:https://www.agioi-isidoroi.gr
X-WR-CALDESC:Events for ΙΕΡΟΣ ΝΑΟΣ ΑΓΙΩΝ ΙΣΙΔΩΡΩΝ
REFRESH-INTERVAL;VALUE=DURATION:PT1H
X-Robots-Tag:noindex
X-PUBLISHED-TTL:PT1H
BEGIN:VTIMEZONE
TZID:Europe/Athens
BEGIN:DAYLIGHT
TZOFFSETFROM:+0200
TZOFFSETTO:+0300
TZNAME:EEST
DTSTART:20200329T010000
END:DAYLIGHT
BEGIN:STANDARD
TZOFFSETFROM:+0300
TZOFFSETTO:+0200
TZNAME:EET
DTSTART:20201025T010000
END:STANDARD
BEGIN:DAYLIGHT
TZOFFSETFROM:+0200
TZOFFSETTO:+0300
TZNAME:EEST
DTSTART:20210328T010000
END:DAYLIGHT
BEGIN:STANDARD
TZOFFSETFROM:+0300
TZOFFSETTO:+0200
TZNAME:EET
DTSTART:20211031T010000
END:STANDARD
BEGIN:DAYLIGHT
TZOFFSETFROM:+0200
TZOFFSETTO:+0300
TZNAME:EEST
DTSTART:20220327T010000
END:DAYLIGHT
BEGIN:STANDARD
TZOFFSETFROM:+0300
TZOFFSETTO:+0200
TZNAME:EET
DTSTART:20221030T010000
END:STANDARD
END:VTIMEZONE
BEGIN:VEVENT
DTSTART;TZID=Europe/Athens:20211010T073000
DTEND;TZID=Europe/Athens:20211010T103000
DTSTAMP:20260419T211110
CREATED:20211002T180951Z
LAST-MODIFIED:20211002T180951Z
UID:3807-1633851000-1633861800@www.agioi-isidoroi.gr
SUMMARY:Γ’ ΛΟΥΚΑ\, Αγίων Ευλαμπίου & Ευλαμπίας
DESCRIPTION:Όρθρος και Θεία Λειτουργία
URL:https://www.agioi-isidoroi.gr/leitourgia/g-loyka-agion-eylampioy-amp-eylampias/
LOCATION:Ιερός Ναός Αγίων Ισιδώρων Λυκαβηττού\, Λυκαβηττός\, Αθήνα\, Αττική\, 10210\, Greece
CATEGORIES:Όρθρος Και Θεία Λειτουργία
ORGANIZER;CN="%CE%99%CE%B5%CF%81%CF%8C%CF%82 %CE%9D%CE%B1%CF%8C%CF%82 %CE%91%CE%B3%CE%AF%CF%89%CE%BD %CE%99%CF%83%CE%B9%CE%B4%CF%8E%CF%81%CF%89%CE%BD %CE%9B%CF%85%CE%BA%CE%B1%CE%B2%CE%B7%CF%84%CF%84%CE%BF%CF%8D":MAILTO:aisidro@otenet.gr
END:VEVENT
BEGIN:VEVENT
DTSTART;TZID=Europe/Athens:20211011T073000
DTEND;TZID=Europe/Athens:20211011T103000
DTSTAMP:20260419T211110
CREATED:20211002T181038Z
LAST-MODIFIED:20211002T181038Z
UID:3809-1633937400-1633948200@www.agioi-isidoroi.gr
SUMMARY:Αποστόλου Φιλίππου εκ των 7 διακόνων
DESCRIPTION:Όρθρος και Θεία Λειτουργία
URL:https://www.agioi-isidoroi.gr/leitourgia/apostoloy-filippoy-ek-ton-7-diakonon/
LOCATION:Ιερός Ναός Αγίων Ισιδώρων Λυκαβηττού\, Λυκαβηττός\, Αθήνα\, Αττική\, 10210\, Greece
CATEGORIES:Όρθρος Και Θεία Λειτουργία
ORGANIZER;CN="%CE%99%CE%B5%CF%81%CF%8C%CF%82 %CE%9D%CE%B1%CF%8C%CF%82 %CE%91%CE%B3%CE%AF%CF%89%CE%BD %CE%99%CF%83%CE%B9%CE%B4%CF%8E%CF%81%CF%89%CE%BD %CE%9B%CF%85%CE%BA%CE%B1%CE%B2%CE%B7%CF%84%CF%84%CE%BF%CF%8D":MAILTO:aisidro@otenet.gr
END:VEVENT
BEGIN:VEVENT
DTSTART;TZID=Europe/Athens:20211012T073000
DTEND;TZID=Europe/Athens:20211012T103000
DTSTAMP:20260419T211110
CREATED:20211002T181129Z
LAST-MODIFIED:20211002T181129Z
UID:3811-1634023800-1634034600@www.agioi-isidoroi.gr
SUMMARY:Συμεών του Ν. Θεολόγου
DESCRIPTION:Όρθρος και Θεία Λειτουργία
URL:https://www.agioi-isidoroi.gr/leitourgia/symeon-toy-n-theologoy/
LOCATION:Ιερός Ναός Αγίων Ισιδώρων Λυκαβηττού\, Λυκαβηττός\, Αθήνα\, Αττική\, 10210\, Greece
CATEGORIES:Όρθρος Και Θεία Λειτουργία
ORGANIZER;CN="%CE%99%CE%B5%CF%81%CF%8C%CF%82 %CE%9D%CE%B1%CF%8C%CF%82 %CE%91%CE%B3%CE%AF%CF%89%CE%BD %CE%99%CF%83%CE%B9%CE%B4%CF%8E%CF%81%CF%89%CE%BD %CE%9B%CF%85%CE%BA%CE%B1%CE%B2%CE%B7%CF%84%CF%84%CE%BF%CF%8D":MAILTO:aisidro@otenet.gr
END:VEVENT
BEGIN:VEVENT
DTSTART;TZID=Europe/Athens:20211013T073000
DTEND;TZID=Europe/Athens:20211013T103000
DTSTAMP:20260419T211110
CREATED:20211002T181209Z
LAST-MODIFIED:20211002T181209Z
UID:3813-1634110200-1634121000@www.agioi-isidoroi.gr
SUMMARY:Αγίας νεομάρτ. Χρυσής
DESCRIPTION:Όρθρος και Θεία Λειτουργία
URL:https://www.agioi-isidoroi.gr/leitourgia/agias-neomart-chrysis/
LOCATION:Ιερός Ναός Αγίων Ισιδώρων Λυκαβηττού\, Λυκαβηττός\, Αθήνα\, Αττική\, 10210\, Greece
CATEGORIES:Όρθρος Και Θεία Λειτουργία
ORGANIZER;CN="%CE%99%CE%B5%CF%81%CF%8C%CF%82 %CE%9D%CE%B1%CF%8C%CF%82 %CE%91%CE%B3%CE%AF%CF%89%CE%BD %CE%99%CF%83%CE%B9%CE%B4%CF%8E%CF%81%CF%89%CE%BD %CE%9B%CF%85%CE%BA%CE%B1%CE%B2%CE%B7%CF%84%CF%84%CE%BF%CF%8D":MAILTO:aisidro@otenet.gr
END:VEVENT
BEGIN:VEVENT
DTSTART;TZID=Europe/Athens:20211014T073000
DTEND;TZID=Europe/Athens:20211014T103000
DTSTAMP:20260419T211110
CREATED:20211002T181308Z
LAST-MODIFIED:20211002T181308Z
UID:3815-1634196600-1634207400@www.agioi-isidoroi.gr
SUMMARY:Οσίου Κοσμά του Μελωδού
DESCRIPTION:Όρθρος και Θεία Λειτουργία
URL:https://www.agioi-isidoroi.gr/leitourgia/osioy-kosma-toy-melodoy/
LOCATION:Ιερός Ναός Αγίων Ισιδώρων Λυκαβηττού\, Λυκαβηττός\, Αθήνα\, Αττική\, 10210\, Greece
CATEGORIES:Όρθρος Και Θεία Λειτουργία
ORGANIZER;CN="%CE%99%CE%B5%CF%81%CF%8C%CF%82 %CE%9D%CE%B1%CF%8C%CF%82 %CE%91%CE%B3%CE%AF%CF%89%CE%BD %CE%99%CF%83%CE%B9%CE%B4%CF%8E%CF%81%CF%89%CE%BD %CE%9B%CF%85%CE%BA%CE%B1%CE%B2%CE%B7%CF%84%CF%84%CE%BF%CF%8D":MAILTO:aisidro@otenet.gr
END:VEVENT
BEGIN:VEVENT
DTSTART;TZID=Europe/Athens:20211015T073000
DTEND;TZID=Europe/Athens:20211015T103000
DTSTAMP:20260419T211110
CREATED:20211002T181352Z
LAST-MODIFIED:20211002T181352Z
UID:3817-1634283000-1634293800@www.agioi-isidoroi.gr
SUMMARY:Αγίου ιερομάρτυρος Λουκιανού
DESCRIPTION:Όρθρος και Θεία Λειτουργία
URL:https://www.agioi-isidoroi.gr/leitourgia/agioy-ieromartyros-loykianoy/
LOCATION:Ιερός Ναός Αγίων Ισιδώρων Λυκαβηττού\, Λυκαβηττός\, Αθήνα\, Αττική\, 10210\, Greece
CATEGORIES:Όρθρος Και Θεία Λειτουργία
ORGANIZER;CN="%CE%99%CE%B5%CF%81%CF%8C%CF%82 %CE%9D%CE%B1%CF%8C%CF%82 %CE%91%CE%B3%CE%AF%CF%89%CE%BD %CE%99%CF%83%CE%B9%CE%B4%CF%8E%CF%81%CF%89%CE%BD %CE%9B%CF%85%CE%BA%CE%B1%CE%B2%CE%B7%CF%84%CF%84%CE%BF%CF%8D":MAILTO:aisidro@otenet.gr
END:VEVENT
BEGIN:VEVENT
DTSTART;TZID=Europe/Athens:20211015T183000
DTEND;TZID=Europe/Athens:20211015T213000
DTSTAMP:20260419T211110
CREATED:20211002T181515Z
LAST-MODIFIED:20211002T181515Z
UID:3819-1634322600-1634333400@www.agioi-isidoroi.gr
SUMMARY:Πανηγυρικός Εσπερινός
DESCRIPTION:
URL:https://www.agioi-isidoroi.gr/leitourgia/panigyrikos-esperinos-11/
LOCATION:Ιερός Ναός Αγίων Ισιδώρων Λυκαβηττού\, Λυκαβηττός\, Αθήνα\, Αττική\, 10210\, Greece
CATEGORIES:Εσπερινός
ORGANIZER;CN="%CE%99%CE%B5%CF%81%CF%8C%CF%82 %CE%9D%CE%B1%CF%8C%CF%82 %CE%91%CE%B3%CE%AF%CF%89%CE%BD %CE%99%CF%83%CE%B9%CE%B4%CF%8E%CF%81%CF%89%CE%BD %CE%9B%CF%85%CE%BA%CE%B1%CE%B2%CE%B7%CF%84%CF%84%CE%BF%CF%8D":MAILTO:aisidro@otenet.gr
END:VEVENT
BEGIN:VEVENT
DTSTART;TZID=Europe/Athens:20211016T073000
DTEND;TZID=Europe/Athens:20211016T103000
DTSTAMP:20260419T211110
CREATED:20211002T181649Z
LAST-MODIFIED:20211002T181649Z
UID:3821-1634369400-1634380200@www.agioi-isidoroi.gr
SUMMARY:ΙΕΡΑ ΠΑΝΗΓΥΡΙΣ ΤΟΥ ΑΓΙΟΥ ΛΟΓΓΙΝΟΥ ΤΟΥ ΕΚΑΤΟΝΤΑΡΧΟΥ
DESCRIPTION:Όρθρος & Πανηγυρική Θεία Λειτουργία \n• Θα τεθεί σε προσκύνηση ιερό λείψανο του Αγίου Λογγίνου.
URL:https://www.agioi-isidoroi.gr/leitourgia/iera-panigyris-toy-agioy-logginoy-toy-ekatontarchoy/
LOCATION:Ιερός Ναός Αγίων Ισιδώρων Λυκαβηττού\, Λυκαβηττός\, Αθήνα\, Αττική\, 10210\, Greece
CATEGORIES:Όρθρος Και Θεία Λειτουργία
ORGANIZER;CN="%CE%99%CE%B5%CF%81%CF%8C%CF%82 %CE%9D%CE%B1%CF%8C%CF%82 %CE%91%CE%B3%CE%AF%CF%89%CE%BD %CE%99%CF%83%CE%B9%CE%B4%CF%8E%CF%81%CF%89%CE%BD %CE%9B%CF%85%CE%BA%CE%B1%CE%B2%CE%B7%CF%84%CF%84%CE%BF%CF%8D":MAILTO:aisidro@otenet.gr
END:VEVENT
BEGIN:VEVENT
DTSTART;TZID=Europe/Athens:20211016T183000
DTEND;TZID=Europe/Athens:20211016T213000
DTSTAMP:20260419T211110
CREATED:20211002T181736Z
LAST-MODIFIED:20211002T181736Z
UID:3823-1634409000-1634419800@www.agioi-isidoroi.gr
SUMMARY:Αναστάσιμος Εσπερινός
DESCRIPTION:
URL:https://www.agioi-isidoroi.gr/leitourgia/anastasimos-esperinos-17/
LOCATION:Ιερός Ναός Αγίων Ισιδώρων Λυκαβηττού\, Λυκαβηττός\, Αθήνα\, Αττική\, 10210\, Greece
CATEGORIES:Αναστάσιμος Εσπερινός
ORGANIZER;CN="%CE%99%CE%B5%CF%81%CF%8C%CF%82 %CE%9D%CE%B1%CF%8C%CF%82 %CE%91%CE%B3%CE%AF%CF%89%CE%BD %CE%99%CF%83%CE%B9%CE%B4%CF%8E%CF%81%CF%89%CE%BD %CE%9B%CF%85%CE%BA%CE%B1%CE%B2%CE%B7%CF%84%CF%84%CE%BF%CF%8D":MAILTO:aisidro@otenet.gr
END:VEVENT
BEGIN:VEVENT
DTSTART;TZID=Europe/Athens:20211017T073000
DTEND;TZID=Europe/Athens:20211017T103000
DTSTAMP:20260419T211110
CREATED:20211002T181850Z
LAST-MODIFIED:20211002T181850Z
UID:3825-1634455800-1634466600@www.agioi-isidoroi.gr
SUMMARY:Δ’ ΛΟΥΚΑ\, Ανακ. Λειψ. Αγίου Λαζάρου
DESCRIPTION:Αγ. Πατ. Ζ’ Οικ. Συνόδου\, Σύναξη των Αγίων Αναργύρων \nΌρθρος και Θεία Λειτουργία
URL:https://www.agioi-isidoroi.gr/leitourgia/d-loyka-anak-leips-agioy-lazaroy/
LOCATION:Ιερός Ναός Αγίων Ισιδώρων Λυκαβηττού\, Λυκαβηττός\, Αθήνα\, Αττική\, 10210\, Greece
CATEGORIES:Όρθρος Και Θεία Λειτουργία
ORGANIZER;CN="%CE%99%CE%B5%CF%81%CF%8C%CF%82 %CE%9D%CE%B1%CF%8C%CF%82 %CE%91%CE%B3%CE%AF%CF%89%CE%BD %CE%99%CF%83%CE%B9%CE%B4%CF%8E%CF%81%CF%89%CE%BD %CE%9B%CF%85%CE%BA%CE%B1%CE%B2%CE%B7%CF%84%CF%84%CE%BF%CF%8D":MAILTO:aisidro@otenet.gr
END:VEVENT
BEGIN:VEVENT
DTSTART;TZID=Europe/Athens:20211018T073000
DTEND;TZID=Europe/Athens:20211018T103000
DTSTAMP:20260419T211110
CREATED:20211002T181957Z
LAST-MODIFIED:20211002T181957Z
UID:3827-1634542200-1634553000@www.agioi-isidoroi.gr
SUMMARY:Αγίου Λουκά του Ευαγγελιστού
DESCRIPTION:Αγίου Ισιδώρου του εν Βαλή Κρήτης και των τέκνων Γεωργίου & Ειρήνης \nΌρθρος και Θεία Λειτουργία
URL:https://www.agioi-isidoroi.gr/leitourgia/agioy-loyka-toy-eyaggelistoy/
LOCATION:Ιερός Ναός Αγίων Ισιδώρων Λυκαβηττού\, Λυκαβηττός\, Αθήνα\, Αττική\, 10210\, Greece
CATEGORIES:Όρθρος Και Θεία Λειτουργία
ORGANIZER;CN="%CE%99%CE%B5%CF%81%CF%8C%CF%82 %CE%9D%CE%B1%CF%8C%CF%82 %CE%91%CE%B3%CE%AF%CF%89%CE%BD %CE%99%CF%83%CE%B9%CE%B4%CF%8E%CF%81%CF%89%CE%BD %CE%9B%CF%85%CE%BA%CE%B1%CE%B2%CE%B7%CF%84%CF%84%CE%BF%CF%8D":MAILTO:aisidro@otenet.gr
END:VEVENT
BEGIN:VEVENT
DTSTART;TZID=Europe/Athens:20211019T073000
DTEND;TZID=Europe/Athens:20211019T103000
DTSTAMP:20260419T211110
CREATED:20211002T182041Z
LAST-MODIFIED:20211002T182041Z
UID:3829-1634628600-1634639400@www.agioi-isidoroi.gr
SUMMARY:Προφήτου Ιωήλ
DESCRIPTION:Όρθρος & Θεία Λειτουργία
URL:https://www.agioi-isidoroi.gr/leitourgia/profitoy-ioil/
LOCATION:Ιερός Ναός Αγίων Ισιδώρων Λυκαβηττού\, Λυκαβηττός\, Αθήνα\, Αττική\, 10210\, Greece
CATEGORIES:Όρθρος Και Θεία Λειτουργία
ORGANIZER;CN="%CE%99%CE%B5%CF%81%CF%8C%CF%82 %CE%9D%CE%B1%CF%8C%CF%82 %CE%91%CE%B3%CE%AF%CF%89%CE%BD %CE%99%CF%83%CE%B9%CE%B4%CF%8E%CF%81%CF%89%CE%BD %CE%9B%CF%85%CE%BA%CE%B1%CE%B2%CE%B7%CF%84%CF%84%CE%BF%CF%8D":MAILTO:aisidro@otenet.gr
END:VEVENT
BEGIN:VEVENT
DTSTART;TZID=Europe/Athens:20211019T183000
DTEND;TZID=Europe/Athens:20211019T213000
DTSTAMP:20260419T211110
CREATED:20211002T182202Z
LAST-MODIFIED:20211002T182202Z
UID:3831-1634668200-1634679000@www.agioi-isidoroi.gr
SUMMARY:ΠΑΝΗΓΥΡΙΚΟΣ ΕΣΠΕΡΙΝΟΣ
DESCRIPTION:
URL:https://www.agioi-isidoroi.gr/leitourgia/panigyrikos-esperinos-12/
LOCATION:Ιερός Ναός Αγίων Ισιδώρων Λυκαβηττού\, Λυκαβηττός\, Αθήνα\, Αττική\, 10210\, Greece
CATEGORIES:Εσπερινός
ORGANIZER;CN="%CE%99%CE%B5%CF%81%CF%8C%CF%82 %CE%9D%CE%B1%CF%8C%CF%82 %CE%91%CE%B3%CE%AF%CF%89%CE%BD %CE%99%CF%83%CE%B9%CE%B4%CF%8E%CF%81%CF%89%CE%BD %CE%9B%CF%85%CE%BA%CE%B1%CE%B2%CE%B7%CF%84%CF%84%CE%BF%CF%8D":MAILTO:aisidro@otenet.gr
END:VEVENT
BEGIN:VEVENT
DTSTART;TZID=Europe/Athens:20211020T073000
DTEND;TZID=Europe/Athens:20211020T103000
DTSTAMP:20260419T211110
CREATED:20211002T182349Z
LAST-MODIFIED:20211002T182349Z
UID:3833-1634715000-1634725800@www.agioi-isidoroi.gr
SUMMARY:ΙΕΡΑ ΠΑΝΗΓΥΡΙΣ ΤΟΥ ΑΓΙΟΥ ΓΕΡΑΣΙΜΟΥ ΤΟΥ ΕΝ ΚΕΦΑΛΛΗΝΙΑ
DESCRIPTION:εορτάζει το αριστερό κλίτος του Ιερού Ναού \nΑΓΙΟΥ ΓΕΡΑΣΙΜΟΥ ΤΟΥ ΝΕΟΥ ΑΣΚΗΤΟΥ \nΌρθρος& ΠΑΝΗΓΥΡΙΚΗ ΘΕΙΑ ΛΕΙΤΟΥΡΓΙΑ \n•Ο Άγιος Γεράσιμος κατά την περιοδεία του στην Αθήνα επισκέφθηκε τον ιερό ναό των Αγίων Ισιδώρων\nγια να πάρει την ευλογία & την χάρη απ’ όπου πέρασαν & προσεύχοντο οι Μεγάλοι Άγιοι Πατέρες\,\nΒασίλειος ο Μέγας & Γρηγόριος ο Θεολόγος. \n•Τη αυτή ημέρα μνήμη και του Αγίου μεγαλομάρτυρος Αρτεμίου
URL:https://www.agioi-isidoroi.gr/leitourgia/iera-panigyris-toy-agioy-gerasimoy-toy-en-kefallinia/
LOCATION:Ιερός Ναός Αγίων Ισιδώρων Λυκαβηττού\, Λυκαβηττός\, Αθήνα\, Αττική\, 10210\, Greece
CATEGORIES:Όρθρος Και Θεία Λειτουργία
ORGANIZER;CN="%CE%99%CE%B5%CF%81%CF%8C%CF%82 %CE%9D%CE%B1%CF%8C%CF%82 %CE%91%CE%B3%CE%AF%CF%89%CE%BD %CE%99%CF%83%CE%B9%CE%B4%CF%8E%CF%81%CF%89%CE%BD %CE%9B%CF%85%CE%BA%CE%B1%CE%B2%CE%B7%CF%84%CF%84%CE%BF%CF%8D":MAILTO:aisidro@otenet.gr
END:VEVENT
BEGIN:VEVENT
DTSTART;TZID=Europe/Athens:20211020T183000
DTEND;TZID=Europe/Athens:20211020T213000
DTSTAMP:20260419T211110
CREATED:20211002T182431Z
LAST-MODIFIED:20211002T182431Z
UID:3835-1634754600-1634765400@www.agioi-isidoroi.gr
SUMMARY:Εσπερινός & Παράκληση του Αγίου Γερασίμου
DESCRIPTION:
URL:https://www.agioi-isidoroi.gr/leitourgia/esperinos-amp-paraklisi-toy-agioy-gerasimoy/
LOCATION:Ιερός Ναός Αγίων Ισιδώρων Λυκαβηττού\, Λυκαβηττός\, Αθήνα\, Αττική\, 10210\, Greece
CATEGORIES:Εσπερινός & Παράκληση
ORGANIZER;CN="%CE%99%CE%B5%CF%81%CF%8C%CF%82 %CE%9D%CE%B1%CF%8C%CF%82 %CE%91%CE%B3%CE%AF%CF%89%CE%BD %CE%99%CF%83%CE%B9%CE%B4%CF%8E%CF%81%CF%89%CE%BD %CE%9B%CF%85%CE%BA%CE%B1%CE%B2%CE%B7%CF%84%CF%84%CE%BF%CF%8D":MAILTO:aisidro@otenet.gr
END:VEVENT
BEGIN:VEVENT
DTSTART;TZID=Europe/Athens:20211021T073000
DTEND;TZID=Europe/Athens:20211021T103000
DTSTAMP:20260419T211110
CREATED:20211002T183029Z
LAST-MODIFIED:20211002T183029Z
UID:3837-1634801400-1634812200@www.agioi-isidoroi.gr
SUMMARY:Ιλαρίωνος του Μεγάλου\, Χριστοδούλου εν Πάτμω
DESCRIPTION:Όρθρος και Θεία Λειτουργία
URL:https://www.agioi-isidoroi.gr/leitourgia/ilarionos-toy-megaloy-christodoyloy-en-patmo/
LOCATION:Ιερός Ναός Αγίων Ισιδώρων Λυκαβηττού\, Λυκαβηττός\, Αθήνα\, Αττική\, 10210\, Greece
CATEGORIES:Όρθρος Και Θεία Λειτουργία
ORGANIZER;CN="%CE%99%CE%B5%CF%81%CF%8C%CF%82 %CE%9D%CE%B1%CF%8C%CF%82 %CE%91%CE%B3%CE%AF%CF%89%CE%BD %CE%99%CF%83%CE%B9%CE%B4%CF%8E%CF%81%CF%89%CE%BD %CE%9B%CF%85%CE%BA%CE%B1%CE%B2%CE%B7%CF%84%CF%84%CE%BF%CF%8D":MAILTO:aisidro@otenet.gr
END:VEVENT
BEGIN:VEVENT
DTSTART;TZID=Europe/Athens:20211022T073000
DTEND;TZID=Europe/Athens:20211022T103000
DTSTAMP:20260419T211110
CREATED:20211002T183118Z
LAST-MODIFIED:20211002T183118Z
UID:3839-1634887800-1634898600@www.agioi-isidoroi.gr
SUMMARY:Αβερκίου επίσκ. Ιεραπόλεως
DESCRIPTION:Όρθρος και Θεία Λειτουργία
URL:https://www.agioi-isidoroi.gr/leitourgia/averkioy-episk-ierapoleos/
LOCATION:Ιερός Ναός Αγίων Ισιδώρων Λυκαβηττού\, Λυκαβηττός\, Αθήνα\, Αττική\, 10210\, Greece
CATEGORIES:Όρθρος Και Θεία Λειτουργία
ORGANIZER;CN="%CE%99%CE%B5%CF%81%CF%8C%CF%82 %CE%9D%CE%B1%CF%8C%CF%82 %CE%91%CE%B3%CE%AF%CF%89%CE%BD %CE%99%CF%83%CE%B9%CE%B4%CF%8E%CF%81%CF%89%CE%BD %CE%9B%CF%85%CE%BA%CE%B1%CE%B2%CE%B7%CF%84%CF%84%CE%BF%CF%8D":MAILTO:aisidro@otenet.gr
END:VEVENT
BEGIN:VEVENT
DTSTART;TZID=Europe/Athens:20211023T073000
DTEND;TZID=Europe/Athens:20211023T103000
DTSTAMP:20260419T211110
CREATED:20211002T183206Z
LAST-MODIFIED:20211002T183206Z
UID:3841-1634974200-1634985000@www.agioi-isidoroi.gr
SUMMARY:Αγίου Ιακώβου του αδελφοθέου
DESCRIPTION:Όρθρος και Θεία Λειτουργία
URL:https://www.agioi-isidoroi.gr/leitourgia/agioy-iakovoy-toy-adelfotheoy/
LOCATION:Ιερός Ναός Αγίων Ισιδώρων Λυκαβηττού\, Λυκαβηττός\, Αθήνα\, Αττική\, 10210\, Greece
CATEGORIES:Όρθρος Και Θεία Λειτουργία
ORGANIZER;CN="%CE%99%CE%B5%CF%81%CF%8C%CF%82 %CE%9D%CE%B1%CF%8C%CF%82 %CE%91%CE%B3%CE%AF%CF%89%CE%BD %CE%99%CF%83%CE%B9%CE%B4%CF%8E%CF%81%CF%89%CE%BD %CE%9B%CF%85%CE%BA%CE%B1%CE%B2%CE%B7%CF%84%CF%84%CE%BF%CF%8D":MAILTO:aisidro@otenet.gr
END:VEVENT
BEGIN:VEVENT
DTSTART;TZID=Europe/Athens:20211024T073000
DTEND;TZID=Europe/Athens:20211024T103000
DTSTAMP:20260419T211110
CREATED:20211002T183250Z
LAST-MODIFIED:20211002T183250Z
UID:3843-1635060600-1635071400@www.agioi-isidoroi.gr
SUMMARY:ΣΤ’ ΛΟΥΚΑ\, Αγίου μάρτ. Αρέθα
DESCRIPTION:Όρθρος και Θεία Λειτουργία
URL:https://www.agioi-isidoroi.gr/leitourgia/st-loyka-agioy-mart-aretha/
LOCATION:Ιερός Ναός Αγίων Ισιδώρων Λυκαβηττού\, Λυκαβηττός\, Αθήνα\, Αττική\, 10210\, Greece
CATEGORIES:Όρθρος Και Θεία Λειτουργία
ORGANIZER;CN="%CE%99%CE%B5%CF%81%CF%8C%CF%82 %CE%9D%CE%B1%CF%8C%CF%82 %CE%91%CE%B3%CE%AF%CF%89%CE%BD %CE%99%CF%83%CE%B9%CE%B4%CF%8E%CF%81%CF%89%CE%BD %CE%9B%CF%85%CE%BA%CE%B1%CE%B2%CE%B7%CF%84%CF%84%CE%BF%CF%8D":MAILTO:aisidro@otenet.gr
END:VEVENT
BEGIN:VEVENT
DTSTART;TZID=Europe/Athens:20211025T073000
DTEND;TZID=Europe/Athens:20211025T103000
DTSTAMP:20260419T211110
CREATED:20211002T183347Z
LAST-MODIFIED:20211002T183347Z
UID:3845-1635147000-1635157800@www.agioi-isidoroi.gr
SUMMARY:Οσίου Αρσενίου του Καππαδόκου
DESCRIPTION:Όρθρος και Θεία Λειτουργία
URL:https://www.agioi-isidoroi.gr/leitourgia/osioy-arsenioy-toy-kappadokoy/
LOCATION:Ιερός Ναός Αγίων Ισιδώρων Λυκαβηττού\, Λυκαβηττός\, Αθήνα\, Αττική\, 10210\, Greece
CATEGORIES:Όρθρος Και Θεία Λειτουργία
ORGANIZER;CN="%CE%99%CE%B5%CF%81%CF%8C%CF%82 %CE%9D%CE%B1%CF%8C%CF%82 %CE%91%CE%B3%CE%AF%CF%89%CE%BD %CE%99%CF%83%CE%B9%CE%B4%CF%8E%CF%81%CF%89%CE%BD %CE%9B%CF%85%CE%BA%CE%B1%CE%B2%CE%B7%CF%84%CF%84%CE%BF%CF%8D":MAILTO:aisidro@otenet.gr
END:VEVENT
BEGIN:VEVENT
DTSTART;TZID=Europe/Athens:20211025T183000
DTEND;TZID=Europe/Athens:20211025T213000
DTSTAMP:20260419T211110
CREATED:20211002T183652Z
LAST-MODIFIED:20211002T183652Z
UID:3849-1635186600-1635197400@www.agioi-isidoroi.gr
SUMMARY:ΠΑΝΗΓΥΡΙΚΟΣ ΕΣΠΕΡΙΝΟΣ
DESCRIPTION:
URL:https://www.agioi-isidoroi.gr/leitourgia/panigyrikos-esperinos-13/
LOCATION:Ιερός Ναός Αγίων Ισιδώρων Λυκαβηττού\, Λυκαβηττός\, Αθήνα\, Αττική\, 10210\, Greece
CATEGORIES:Εσπερινός
ORGANIZER;CN="%CE%99%CE%B5%CF%81%CF%8C%CF%82 %CE%9D%CE%B1%CF%8C%CF%82 %CE%91%CE%B3%CE%AF%CF%89%CE%BD %CE%99%CF%83%CE%B9%CE%B4%CF%8E%CF%81%CF%89%CE%BD %CE%9B%CF%85%CE%BA%CE%B1%CE%B2%CE%B7%CF%84%CF%84%CE%BF%CF%8D":MAILTO:aisidro@otenet.gr
END:VEVENT
BEGIN:VEVENT
DTSTART;TZID=Europe/Athens:20211026T073000
DTEND;TZID=Europe/Athens:20211026T103000
DTSTAMP:20260419T211110
CREATED:20211002T183611Z
LAST-MODIFIED:20211002T183611Z
UID:3847-1635233400-1635244200@www.agioi-isidoroi.gr
SUMMARY:ΑΓΙΟΥ ΜΕΓΑΛΟΜΑΡΤΥΡΟΣ ΔΗΜΗΤΡΙΟΥ ΤΟΥ ΜΥΡΟΒΛΗΤΟΥ
DESCRIPTION:ΙΕΡΑ ΠΑΝΗΓΥΡΙΣ\nΣΤΑ ΧΑΝΙΑ ΤΗΣ ΚΡΗΤΗΣ \n• Εορτάζει το ιδιόκτητο εκκλησάκι του Αγίου Δημητρίου στα Χανιά.\nπου βρίσκεται στην οδό Μουρνιδών 18 πλησίον της κλινικής Τσεπέτη. \nΌρθρος& ΠΑΝΗΓΥΡΙΚΗ ΘΕΙΑ ΛΕΙΤΟΥΡΓΙΑ
URL:https://www.agioi-isidoroi.gr/leitourgia/agioy-megalomartyros-dimitrioy-toy-myrovlitoy/
LOCATION:Ιερός Ναός Αγίων Ισιδώρων Λυκαβηττού\, Λυκαβηττός\, Αθήνα\, Αττική\, 10210\, Greece
CATEGORIES:Όρθρος Και Θεία Λειτουργία
ORGANIZER;CN="%CE%99%CE%B5%CF%81%CF%8C%CF%82 %CE%9D%CE%B1%CF%8C%CF%82 %CE%91%CE%B3%CE%AF%CF%89%CE%BD %CE%99%CF%83%CE%B9%CE%B4%CF%8E%CF%81%CF%89%CE%BD %CE%9B%CF%85%CE%BA%CE%B1%CE%B2%CE%B7%CF%84%CF%84%CE%BF%CF%8D":MAILTO:aisidro@otenet.gr
END:VEVENT
BEGIN:VEVENT
DTSTART;TZID=Europe/Athens:20211026T180000
DTEND;TZID=Europe/Athens:20211026T210000
DTSTAMP:20260419T211110
CREATED:20211002T183813Z
LAST-MODIFIED:20211002T183813Z
UID:3851-1635271200-1635282000@www.agioi-isidoroi.gr
SUMMARY:Μεθέορτος Εσπερινός\, Παράκληση & Εγκώμια του Αγίου Δημητρίου
DESCRIPTION:
URL:https://www.agioi-isidoroi.gr/leitourgia/metheortos-esperinos-paraklisi-amp-egkomia-toy-agioy-dimitrioy/
LOCATION:Ιερός Ναός Αγίων Ισιδώρων Λυκαβηττού\, Λυκαβηττός\, Αθήνα\, Αττική\, 10210\, Greece
CATEGORIES:Εσπερινός & Παράκληση
ORGANIZER;CN="%CE%99%CE%B5%CF%81%CF%8C%CF%82 %CE%9D%CE%B1%CF%8C%CF%82 %CE%91%CE%B3%CE%AF%CF%89%CE%BD %CE%99%CF%83%CE%B9%CE%B4%CF%8E%CF%81%CF%89%CE%BD %CE%9B%CF%85%CE%BA%CE%B1%CE%B2%CE%B7%CF%84%CF%84%CE%BF%CF%8D":MAILTO:aisidro@otenet.gr
END:VEVENT
BEGIN:VEVENT
DTSTART;TZID=Europe/Athens:20211027T073000
DTEND;TZID=Europe/Athens:20211027T103000
DTSTAMP:20260419T211110
CREATED:20211002T183923Z
LAST-MODIFIED:20211002T183923Z
UID:3853-1635319800-1635330600@www.agioi-isidoroi.gr
SUMMARY:ΑΓΙΟΥ ΜΑΡΤΥΡΟΣ ΝΕΣΤΟΡΟΣ
DESCRIPTION:Όρθρος & Πανηγυρική Θεία Λειτουργία \n θα τεθεί για προσκύνημα ιερά εικόνα & ιερό λείψανο του Αγίου Δημητρίου.\n οι ιερές ακολουθίες θα μεταδοθούν ζωντανά μέσω διαδικτύου από την σελίδα του ναού\nμας στο FB & το YOUTUBE.
URL:https://www.agioi-isidoroi.gr/leitourgia/agioy-martyros-nestoros/
LOCATION:Ιερός Ναός Αγίων Ισιδώρων Λυκαβηττού\, Λυκαβηττός\, Αθήνα\, Αττική\, 10210\, Greece
CATEGORIES:Όρθρος Και Θεία Λειτουργία
ORGANIZER;CN="%CE%99%CE%B5%CF%81%CF%8C%CF%82 %CE%9D%CE%B1%CF%8C%CF%82 %CE%91%CE%B3%CE%AF%CF%89%CE%BD %CE%99%CF%83%CE%B9%CE%B4%CF%8E%CF%81%CF%89%CE%BD %CE%9B%CF%85%CE%BA%CE%B1%CE%B2%CE%B7%CF%84%CF%84%CE%BF%CF%8D":MAILTO:aisidro@otenet.gr
END:VEVENT
BEGIN:VEVENT
DTSTART;TZID=Europe/Athens:20211028T073000
DTEND;TZID=Europe/Athens:20211028T103000
DTSTAMP:20260419T211110
CREATED:20211002T184005Z
LAST-MODIFIED:20211002T184005Z
UID:3855-1635406200-1635417000@www.agioi-isidoroi.gr
SUMMARY:Αγίας Σκέπης\, ΕΘΝΙΚΗ ΕΠΕΤΕΙΟΣ ΤΟΥ ΟΧΙ
DESCRIPTION:Όρθρος και Θεία Λειτουργία
URL:https://www.agioi-isidoroi.gr/leitourgia/agias-skepis-ethniki-epeteios-toy-ochi/
LOCATION:Ιερός Ναός Αγίων Ισιδώρων Λυκαβηττού\, Λυκαβηττός\, Αθήνα\, Αττική\, 10210\, Greece
CATEGORIES:Όρθρος Και Θεία Λειτουργία
ORGANIZER;CN="%CE%99%CE%B5%CF%81%CF%8C%CF%82 %CE%9D%CE%B1%CF%8C%CF%82 %CE%91%CE%B3%CE%AF%CF%89%CE%BD %CE%99%CF%83%CE%B9%CE%B4%CF%8E%CF%81%CF%89%CE%BD %CE%9B%CF%85%CE%BA%CE%B1%CE%B2%CE%B7%CF%84%CF%84%CE%BF%CF%8D":MAILTO:aisidro@otenet.gr
END:VEVENT
BEGIN:VEVENT
DTSTART;TZID=Europe/Athens:20211029T073000
DTEND;TZID=Europe/Athens:20211029T103000
DTSTAMP:20260419T211110
CREATED:20211002T184948Z
LAST-MODIFIED:20211002T184948Z
UID:3857-1635492600-1635503400@www.agioi-isidoroi.gr
SUMMARY:Αγίας Αναστασίας της Ρωμαίας
DESCRIPTION:Όρθρος και Θεία Λειτουργία
URL:https://www.agioi-isidoroi.gr/leitourgia/agias-anastasias-tis-romaias/
LOCATION:Ιερός Ναός Αγίων Ισιδώρων Λυκαβηττού\, Λυκαβηττός\, Αθήνα\, Αττική\, 10210\, Greece
CATEGORIES:Όρθρος Και Θεία Λειτουργία
ORGANIZER;CN="%CE%99%CE%B5%CF%81%CF%8C%CF%82 %CE%9D%CE%B1%CF%8C%CF%82 %CE%91%CE%B3%CE%AF%CF%89%CE%BD %CE%99%CF%83%CE%B9%CE%B4%CF%8E%CF%81%CF%89%CE%BD %CE%9B%CF%85%CE%BA%CE%B1%CE%B2%CE%B7%CF%84%CF%84%CE%BF%CF%8D":MAILTO:aisidro@otenet.gr
END:VEVENT
BEGIN:VEVENT
DTSTART;TZID=Europe/Athens:20211030T073000
DTEND;TZID=Europe/Athens:20211030T103000
DTSTAMP:20260419T211110
CREATED:20211002T185029Z
LAST-MODIFIED:20211002T185029Z
UID:3859-1635579000-1635589800@www.agioi-isidoroi.gr
SUMMARY:Ζηνοβίου & Ζηνοβίας μαρτύρων
DESCRIPTION:Όρθρος και Θεία Λειτουργία
URL:https://www.agioi-isidoroi.gr/leitourgia/zinovioy-amp-zinovias-martyron/
LOCATION:Ιερός Ναός Αγίων Ισιδώρων Λυκαβηττού\, Λυκαβηττός\, Αθήνα\, Αττική\, 10210\, Greece
CATEGORIES:Όρθρος Και Θεία Λειτουργία
ORGANIZER;CN="%CE%99%CE%B5%CF%81%CF%8C%CF%82 %CE%9D%CE%B1%CF%8C%CF%82 %CE%91%CE%B3%CE%AF%CF%89%CE%BD %CE%99%CF%83%CE%B9%CE%B4%CF%8E%CF%81%CF%89%CE%BD %CE%9B%CF%85%CE%BA%CE%B1%CE%B2%CE%B7%CF%84%CF%84%CE%BF%CF%8D":MAILTO:aisidro@otenet.gr
END:VEVENT
BEGIN:VEVENT
DTSTART;TZID=Europe/Athens:20211031T073000
DTEND;TZID=Europe/Athens:20211031T103000
DTSTAMP:20260419T211110
CREATED:20211002T185137Z
LAST-MODIFIED:20211002T185137Z
UID:3861-1635665400-1635676200@www.agioi-isidoroi.gr
SUMMARY:Ε΄ΛΟΥΚΑ\, Αγ. Στάχυος\, Απελλού εκ των 70 αποστόλων
DESCRIPTION:Όρθρος και Θεία Λειτουργία \n ΘΑ ΕΟΡΤΑΣΤΕΙ Η ΜΝΗΜΗ ΤΟΥ ΑΓΙΟΥ ΜΕΓΑΛΟΜΑΡΤΥΡΟΣ ΔΗΜΗΤΡΙΟΥ\n Θα τεθεί για προσκύνηση η ιερά εικόνα & ιερό λείψανο του Αγίου Δημητρίου.
URL:https://www.agioi-isidoroi.gr/leitourgia/e-loyka-ag-stachyos-apelloy-ek-ton-70-apostolon/
LOCATION:Ιερός Ναός Αγίων Ισιδώρων Λυκαβηττού\, Λυκαβηττός\, Αθήνα\, Αττική\, 10210\, Greece
CATEGORIES:Όρθρος Και Θεία Λειτουργία
ORGANIZER;CN="%CE%99%CE%B5%CF%81%CF%8C%CF%82 %CE%9D%CE%B1%CF%8C%CF%82 %CE%91%CE%B3%CE%AF%CF%89%CE%BD %CE%99%CF%83%CE%B9%CE%B4%CF%8E%CF%81%CF%89%CE%BD %CE%9B%CF%85%CE%BA%CE%B1%CE%B2%CE%B7%CF%84%CF%84%CE%BF%CF%8D":MAILTO:aisidro@otenet.gr
END:VEVENT
BEGIN:VEVENT
DTSTART;TZID=Europe/Athens:20211101T073000
DTEND;TZID=Europe/Athens:20211101T103000
DTSTAMP:20260419T211110
CREATED:20211002T185240Z
LAST-MODIFIED:20211002T185240Z
UID:3863-1635751800-1635762600@www.agioi-isidoroi.gr
SUMMARY:Αγίων Αναργύρων Κοσμά & Δαμιανού
DESCRIPTION:Όρθρος και Θεία Λειτουργία-Αγιασμός
URL:https://www.agioi-isidoroi.gr/leitourgia/agion-anargyron-kosma-amp-damianoy/
LOCATION:Ιερός Ναός Αγίων Ισιδώρων Λυκαβηττού\, Λυκαβηττός\, Αθήνα\, Αττική\, 10210\, Greece
CATEGORIES:Όρθρος Και Θεία Λειτουργία
ORGANIZER;CN="%CE%99%CE%B5%CF%81%CF%8C%CF%82 %CE%9D%CE%B1%CF%8C%CF%82 %CE%91%CE%B3%CE%AF%CF%89%CE%BD %CE%99%CF%83%CE%B9%CE%B4%CF%8E%CF%81%CF%89%CE%BD %CE%9B%CF%85%CE%BA%CE%B1%CE%B2%CE%B7%CF%84%CF%84%CE%BF%CF%8D":MAILTO:aisidro@otenet.gr
END:VEVENT
BEGIN:VEVENT
DTSTART;TZID=Europe/Athens:20211101T183000
DTEND;TZID=Europe/Athens:20211101T210000
DTSTAMP:20260419T211110
CREATED:20211029T190849Z
LAST-MODIFIED:20211029T190849Z
UID:3868-1635791400-1635800400@www.agioi-isidoroi.gr
SUMMARY:Εσπερινός & Νυχτερινή Θεία Λειτουργία
DESCRIPTION:
URL:https://www.agioi-isidoroi.gr/leitourgia/esperinos-amp-nychterini-theia-leitoyrgia-8/
LOCATION:Ιερός Ναός Αγίων Ισιδώρων Λυκαβηττού\, Λυκαβηττός\, Αθήνα\, Αττική\, 10210\, Greece
CATEGORIES:Εσπερινός,Θεία Λειτουργία
ORGANIZER;CN="%CE%99%CE%B5%CF%81%CF%8C%CF%82 %CE%9D%CE%B1%CF%8C%CF%82 %CE%91%CE%B3%CE%AF%CF%89%CE%BD %CE%99%CF%83%CE%B9%CE%B4%CF%8E%CF%81%CF%89%CE%BD %CE%9B%CF%85%CE%BA%CE%B1%CE%B2%CE%B7%CF%84%CF%84%CE%BF%CF%8D":MAILTO:aisidro@otenet.gr
END:VEVENT
END:VCALENDAR