BEGIN:VCALENDAR
VERSION:2.0
PRODID:-//ΙΕΡΟΣ ΝΑΟΣ ΑΓΙΩΝ ΙΣΙΔΩΡΩΝ - ECPv6.15.17.1//NONSGML v1.0//EN
CALSCALE:GREGORIAN
METHOD:PUBLISH
X-WR-CALNAME:ΙΕΡΟΣ ΝΑΟΣ ΑΓΙΩΝ ΙΣΙΔΩΡΩΝ
X-ORIGINAL-URL:https://www.agioi-isidoroi.gr
X-WR-CALDESC:Events for ΙΕΡΟΣ ΝΑΟΣ ΑΓΙΩΝ ΙΣΙΔΩΡΩΝ
REFRESH-INTERVAL;VALUE=DURATION:PT1H
X-Robots-Tag:noindex
X-PUBLISHED-TTL:PT1H
BEGIN:VTIMEZONE
TZID:Europe/Athens
BEGIN:DAYLIGHT
TZOFFSETFROM:+0200
TZOFFSETTO:+0300
TZNAME:EEST
DTSTART:20200329T010000
END:DAYLIGHT
BEGIN:STANDARD
TZOFFSETFROM:+0300
TZOFFSETTO:+0200
TZNAME:EET
DTSTART:20201025T010000
END:STANDARD
BEGIN:DAYLIGHT
TZOFFSETFROM:+0200
TZOFFSETTO:+0300
TZNAME:EEST
DTSTART:20210328T010000
END:DAYLIGHT
BEGIN:STANDARD
TZOFFSETFROM:+0300
TZOFFSETTO:+0200
TZNAME:EET
DTSTART:20211031T010000
END:STANDARD
BEGIN:DAYLIGHT
TZOFFSETFROM:+0200
TZOFFSETTO:+0300
TZNAME:EEST
DTSTART:20220327T010000
END:DAYLIGHT
BEGIN:STANDARD
TZOFFSETFROM:+0300
TZOFFSETTO:+0200
TZNAME:EET
DTSTART:20221030T010000
END:STANDARD
END:VTIMEZONE
BEGIN:VEVENT
DTSTART;TZID=Europe/Athens:20210405T073000
DTEND;TZID=Europe/Athens:20210405T120000
DTSTAMP:20260423T015515
CREATED:20210404T184147Z
LAST-MODIFIED:20210405T063731Z
UID:2840-1617607800-1617624000@www.agioi-isidoroi.gr
SUMMARY:Ευτυχίου πατρ. Κων/πόλεως
DESCRIPTION:Προηγιασμένη Θεία Λειτουργία
URL:https://www.agioi-isidoroi.gr/leitourgia/eytychioy-patr-kon-poleos/
LOCATION:Ιερός Ναός Αγίων Ισιδώρων Λυκαβηττού\, Λυκαβηττός\, Αθήνα\, Αττική\, 10210\, Greece
CATEGORIES:Θεία Λειτουργία
ORGANIZER;CN="%CE%99%CE%B5%CF%81%CF%8C%CF%82 %CE%9D%CE%B1%CF%8C%CF%82 %CE%91%CE%B3%CE%AF%CF%89%CE%BD %CE%99%CF%83%CE%B9%CE%B4%CF%8E%CF%81%CF%89%CE%BD %CE%9B%CF%85%CE%BA%CE%B1%CE%B2%CE%B7%CF%84%CF%84%CE%BF%CF%8D":MAILTO:aisidro@otenet.gr
END:VEVENT
BEGIN:VEVENT
DTSTART;TZID=Europe/Athens:20210404T190000
DTEND;TZID=Europe/Athens:20210404T213000
DTSTAMP:20260423T015515
CREATED:20210404T183857Z
LAST-MODIFIED:20210404T183857Z
UID:2834-1617562800-1617571800@www.agioi-isidoroi.gr
SUMMARY:Κατανυκτικός Εσπερινός
DESCRIPTION:
URL:https://www.agioi-isidoroi.gr/leitourgia/katanyktikos-esperinos-3/
LOCATION:Ιερός Ναός Αγίων Ισιδώρων Λυκαβηττού\, Λυκαβηττός\, Αθήνα\, Αττική\, 10210\, Greece
ORGANIZER;CN="%CE%99%CE%B5%CF%81%CF%8C%CF%82 %CE%9D%CE%B1%CF%8C%CF%82 %CE%91%CE%B3%CE%AF%CF%89%CE%BD %CE%99%CF%83%CE%B9%CE%B4%CF%8E%CF%81%CF%89%CE%BD %CE%9B%CF%85%CE%BA%CE%B1%CE%B2%CE%B7%CF%84%CF%84%CE%BF%CF%8D":MAILTO:aisidro@otenet.gr
END:VEVENT
BEGIN:VEVENT
DTSTART;TZID=Europe/Athens:20210404T183000
DTEND;TZID=Europe/Athens:20210404T223000
DTSTAMP:20260423T015515
CREATED:20210404T190105Z
LAST-MODIFIED:20210404T190105Z
UID:2875-1617561000-1617575400@www.agioi-isidoroi.gr
SUMMARY:Προηγιασμένη Θεία Λειτουργία
DESCRIPTION:Προηγιασμένη Θεία Λειτουργία
URL:https://www.agioi-isidoroi.gr/leitourgia/proigiasmeni-theia-leitoyrgia-11/
LOCATION:Ιερός Ναός Αγίων Ισιδώρων Λυκαβηττού\, Λυκαβηττός\, Αθήνα\, Αττική\, 10210\, Greece
CATEGORIES:Θεία Λειτουργία
ORGANIZER;CN="%CE%99%CE%B5%CF%81%CF%8C%CF%82 %CE%9D%CE%B1%CF%8C%CF%82 %CE%91%CE%B3%CE%AF%CF%89%CE%BD %CE%99%CF%83%CE%B9%CE%B4%CF%8E%CF%81%CF%89%CE%BD %CE%9B%CF%85%CE%BA%CE%B1%CE%B2%CE%B7%CF%84%CF%84%CE%BF%CF%8D":MAILTO:aisidro@otenet.gr
END:VEVENT
BEGIN:VEVENT
DTSTART;TZID=Europe/Athens:20210404T183000
DTEND;TZID=Europe/Athens:20210404T190000
DTSTAMP:20260423T015515
CREATED:20210404T183821Z
LAST-MODIFIED:20210404T183821Z
UID:2832-1617561000-1617562800@www.agioi-isidoroi.gr
SUMMARY:Εγκώμια Τιμίου Σταυρού
DESCRIPTION:Εγκώμια Τιμίου Σταυρού
URL:https://www.agioi-isidoroi.gr/leitourgia/egkomia-timioy-stayroy/
LOCATION:Αττική
END:VEVENT
BEGIN:VEVENT
DTSTART;TZID=Europe/Athens:20210404T073000
DTEND;TZID=Europe/Athens:20210404T120000
DTSTAMP:20260423T015515
CREATED:20210404T194938Z
LAST-MODIFIED:20210404T194938Z
UID:2949-1617521400-1617537600@www.agioi-isidoroi.gr
SUMMARY:Αγίων Ραφαήλ Νικολάου & Ειρήνης
DESCRIPTION:Όρθρος & Θεία Λειτουργία \n*Η Θεία Λειτουργία θα τελεστεί στο εικονοστάσιο του Σωτήρος Χριστού.\n*Θα τεθεί για προσκύνημα ιερό λείψανο του Αγίου Ραφαήλ.
URL:https://www.agioi-isidoroi.gr/leitourgia/agion-rafail-nikolaoy-amp-eirinis/
LOCATION:Αττική
END:VEVENT
BEGIN:VEVENT
DTSTART;TZID=Europe/Athens:20210404T073000
DTEND;TZID=Europe/Athens:20210404T113000
DTSTAMP:20260423T015515
CREATED:20210404T183725Z
LAST-MODIFIED:20210404T183740Z
UID:2829-1617521400-1617535800@www.agioi-isidoroi.gr
SUMMARY:Γ’ ΝΗΣΤΕΙΩΝ\, ΤΗΣ  ΣΤΑΥΡΟΠΡΟΣΚΥΝΗΣΕΩΣ
DESCRIPTION:Όρθρος & Πανηγυρική Θεία Λειτουργία \nΤΕΛΕΤΗ ΠΡΟΣΚΥΝΗΣΕΩΣ ΤΟΥ ΤΙΜΙΟΥ ΣΤΑΥΡΟΥ
URL:https://www.agioi-isidoroi.gr/leitourgia/g-nisteion-tis-stayroproskyniseos/
LOCATION:Αττική
CATEGORIES:Όρθρος Και Θεία Λειτουργία
END:VEVENT
BEGIN:VEVENT
DTSTART;VALUE=DATE:20210404
DTEND;VALUE=DATE:20210405
DTSTAMP:20260423T015515
CREATED:20210404T183403Z
LAST-MODIFIED:20210404T183403Z
UID:2823-1617494400-1617580799@www.agioi-isidoroi.gr
SUMMARY:ΘΑΥΜΑΣΤΗ  ΙΕΡΑ  ΠΑΝΗΓΥΡΙΣ ΤΗΣ  ΣΤΑΥΡΟΠΡΟΣΚΥΝΗΣΕΩΣ - ΤΙΜΙΟΥ  ΣΤΑΥΡΟΥ
DESCRIPTION:+Καθ’ όλη τη διάρκεια της ημέρας θα βρίσκεται προς ευλογία ο ΤΙΜΙΟΣ ΣΤΑΥΡΟΣ \n* Θα τεθεί σε προσκύνηση τεμάχιο ΤΙΜΙΟΥ ΞΥΛΟΥ.\n* Στους προσκυνητές θα δοθούν ως ευλογία σταυρολούλουδα και σταυρουλάκια.
URL:https://www.agioi-isidoroi.gr/leitourgia/thaymasti-iera-panigyris-tis-stayroproskyniseos-timioy-stayroy/
LOCATION:Ιερός Ναός Αγίων Ισιδώρων Λυκαβηττού\, Λυκαβηττός\, Αθήνα\, Αττική\, 10210\, Greece
ORGANIZER;CN="%CE%99%CE%B5%CF%81%CF%8C%CF%82 %CE%9D%CE%B1%CF%8C%CF%82 %CE%91%CE%B3%CE%AF%CF%89%CE%BD %CE%99%CF%83%CE%B9%CE%B4%CF%8E%CF%81%CF%89%CE%BD %CE%9B%CF%85%CE%BA%CE%B1%CE%B2%CE%B7%CF%84%CF%84%CE%BF%CF%8D":MAILTO:aisidro@otenet.gr
END:VEVENT
BEGIN:VEVENT
DTSTART;TZID=Europe/Athens:20210403T213000
DTEND;TZID=Europe/Athens:20210404T070000
DTSTAMP:20260423T015515
CREATED:20210404T183629Z
LAST-MODIFIED:20210404T183629Z
UID:2827-1617485400-1617519600@www.agioi-isidoroi.gr
SUMMARY:ΙΕΡΑ  ΑΓΡΥΠΝΙΑ
DESCRIPTION:ΙΕΡΑ ΑΓΡΥΠΝΙΑ
URL:https://www.agioi-isidoroi.gr/leitourgia/iera-agrypnia/
LOCATION:Ιερός Ναός Αγίων Ισιδώρων Λυκαβηττού\, Λυκαβηττός\, Αθήνα\, Αττική\, 10210\, Greece
CATEGORIES:Ιερά Αγρυπνία
ORGANIZER;CN="%CE%99%CE%B5%CF%81%CF%8C%CF%82 %CE%9D%CE%B1%CF%8C%CF%82 %CE%91%CE%B3%CE%AF%CF%89%CE%BD %CE%99%CF%83%CE%B9%CE%B4%CF%8E%CF%81%CF%89%CE%BD %CE%9B%CF%85%CE%BA%CE%B1%CE%B2%CE%B7%CF%84%CF%84%CE%BF%CF%8D":MAILTO:aisidro@otenet.gr
END:VEVENT
BEGIN:VEVENT
DTSTART;TZID=Europe/Athens:20210403T183000
DTEND;TZID=Europe/Athens:20210403T193000
DTSTAMP:20260423T015515
CREATED:20210404T183512Z
LAST-MODIFIED:20210404T183512Z
UID:2825-1617474600-1617478200@www.agioi-isidoroi.gr
SUMMARY:Πανηγυρικός Εσπερινός
DESCRIPTION:
URL:https://www.agioi-isidoroi.gr/leitourgia/panigyrikos-esperinos/
LOCATION:Ιερός Ναός Αγίων Ισιδώρων Λυκαβηττού\, Λυκαβηττός\, Αθήνα\, Αττική\, 10210\, Greece
CATEGORIES:Εσπερινός
ORGANIZER;CN="%CE%99%CE%B5%CF%81%CF%8C%CF%82 %CE%9D%CE%B1%CF%8C%CF%82 %CE%91%CE%B3%CE%AF%CF%89%CE%BD %CE%99%CF%83%CE%B9%CE%B4%CF%8E%CF%81%CF%89%CE%BD %CE%9B%CF%85%CE%BA%CE%B1%CE%B2%CE%B7%CF%84%CF%84%CE%BF%CF%8D":MAILTO:aisidro@otenet.gr
END:VEVENT
BEGIN:VEVENT
DTSTART;TZID=Europe/Athens:20210403T073000
DTEND;TZID=Europe/Athens:20210403T113000
DTSTAMP:20260423T015515
CREATED:20210404T183248Z
LAST-MODIFIED:20210404T183248Z
UID:2821-1617435000-1617449400@www.agioi-isidoroi.gr
SUMMARY:Οσίου Νικήτα και Ιωσήφ του υμνογράφου
DESCRIPTION:Όρθρος & Θεία Λειτουργία
URL:https://www.agioi-isidoroi.gr/leitourgia/osioy-nikita-kai-iosif-toy-ymnografoy/
LOCATION:Ιερός Ναός Αγίων Ισιδώρων Λυκαβηττού\, Λυκαβηττός\, Αθήνα\, Αττική\, 10210\, Greece
CATEGORIES:Όρθρος Και Θεία Λειτουργία
ORGANIZER;CN="%CE%99%CE%B5%CF%81%CF%8C%CF%82 %CE%9D%CE%B1%CF%8C%CF%82 %CE%91%CE%B3%CE%AF%CF%89%CE%BD %CE%99%CF%83%CE%B9%CE%B4%CF%8E%CF%81%CF%89%CE%BD %CE%9B%CF%85%CE%BA%CE%B1%CE%B2%CE%B7%CF%84%CF%84%CE%BF%CF%8D":MAILTO:aisidro@otenet.gr
END:VEVENT
BEGIN:VEVENT
DTSTART;TZID=Europe/Athens:20210402T193000
DTEND;TZID=Europe/Athens:20210402T213000
DTSTAMP:20260423T015515
CREATED:20210404T183146Z
LAST-MODIFIED:20210404T183146Z
UID:2819-1617391800-1617399000@www.agioi-isidoroi.gr
SUMMARY:Γ’ ΧΑΙΡΕΤΙΣΜΟΙ ΤΗΣ ΠΑΝΑΓΙΑΣ
DESCRIPTION:Γ’ ΧΑΙΡΕΤΙΣΜΟΙ ΤΗΣ ΠΑΝΑΓΙΑΣ
URL:https://www.agioi-isidoroi.gr/leitourgia/g-chairetismoi-tis-panagias/
LOCATION:Αττική
CATEGORIES:Χαιρετισμοί της Παναγίας
END:VEVENT
BEGIN:VEVENT
DTSTART;TZID=Europe/Athens:20210402T073000
DTEND;TZID=Europe/Athens:20210402T110000
DTSTAMP:20260423T015515
CREATED:20210402T183004Z
LAST-MODIFIED:20210404T183104Z
UID:2816-1617348600-1617361200@www.agioi-isidoroi.gr
SUMMARY:Οσίου Τίτου
DESCRIPTION:Προηγιασμένη Θεία Λειτουργία
URL:https://www.agioi-isidoroi.gr/leitourgia/osioy-titoy/
LOCATION:Ιερός Ναός Αγίων Ισιδώρων Λυκαβηττού\, Λυκαβηττός\, Αθήνα\, Αττική\, 10210\, Greece
CATEGORIES:Θεία Λειτουργία
ORGANIZER;CN="%CE%99%CE%B5%CF%81%CF%8C%CF%82 %CE%9D%CE%B1%CF%8C%CF%82 %CE%91%CE%B3%CE%AF%CF%89%CE%BD %CE%99%CF%83%CE%B9%CE%B4%CF%8E%CF%81%CF%89%CE%BD %CE%9B%CF%85%CE%BA%CE%B1%CE%B2%CE%B7%CF%84%CF%84%CE%BF%CF%8D":MAILTO:aisidro@otenet.gr
END:VEVENT
BEGIN:VEVENT
DTSTART;TZID=Europe/Athens:20210401T073000
DTEND;TZID=Europe/Athens:20210401T123000
DTSTAMP:20260423T015515
CREATED:20210302T172450Z
LAST-MODIFIED:20210302T172450Z
UID:2813-1617262200-1617280200@www.agioi-isidoroi.gr
SUMMARY:Οσίας Μαρίας της Αιγυπτίας
DESCRIPTION:Προηγιασμένη Θεία Λειτουργία
URL:https://www.agioi-isidoroi.gr/leitourgia/osias-marias-tis-aigyptias/
LOCATION:Ιερός Ναός Αγίων Ισιδώρων Λυκαβηττού\, Λυκαβηττός\, Αθήνα\, Αττική\, 10210\, Greece
CATEGORIES:Θεία Λειτουργία
ORGANIZER;CN="%CE%99%CE%B5%CF%81%CF%8C%CF%82 %CE%9D%CE%B1%CF%8C%CF%82 %CE%91%CE%B3%CE%AF%CF%89%CE%BD %CE%99%CF%83%CE%B9%CE%B4%CF%8E%CF%81%CF%89%CE%BD %CE%9B%CF%85%CE%BA%CE%B1%CE%B2%CE%B7%CF%84%CF%84%CE%BF%CF%8D":MAILTO:aisidro@otenet.gr
END:VEVENT
BEGIN:VEVENT
DTSTART;TZID=Europe/Athens:20210331T183000
DTEND;TZID=Europe/Athens:20210331T213000
DTSTAMP:20260423T015515
CREATED:20210302T172416Z
LAST-MODIFIED:20210302T172416Z
UID:2811-1617215400-1617226200@www.agioi-isidoroi.gr
SUMMARY:Προηγιασμένη Θεία Λειτουργία
DESCRIPTION:
URL:https://www.agioi-isidoroi.gr/leitourgia/proigiasmeni-theia-leitoyrgia-7/
LOCATION:Ιερός Ναός Αγίων Ισιδώρων Λυκαβηττού\, Λυκαβηττός\, Αθήνα\, Αττική\, 10210\, Greece
CATEGORIES:Θεία Λειτουργία
ORGANIZER;CN="%CE%99%CE%B5%CF%81%CF%8C%CF%82 %CE%9D%CE%B1%CF%8C%CF%82 %CE%91%CE%B3%CE%AF%CF%89%CE%BD %CE%99%CF%83%CE%B9%CE%B4%CF%8E%CF%81%CF%89%CE%BD %CE%9B%CF%85%CE%BA%CE%B1%CE%B2%CE%B7%CF%84%CF%84%CE%BF%CF%8D":MAILTO:aisidro@otenet.gr
END:VEVENT
BEGIN:VEVENT
DTSTART;TZID=Europe/Athens:20210331T073000
DTEND;TZID=Europe/Athens:20210331T123000
DTSTAMP:20260423T015515
CREATED:20210302T172343Z
LAST-MODIFIED:20210302T172350Z
UID:2808-1617175800-1617193800@www.agioi-isidoroi.gr
SUMMARY:Αγίου Κυρίλλου Ιεροσολύμων
DESCRIPTION:Προηγιασμένη Θεία Λειτουργία
URL:https://www.agioi-isidoroi.gr/leitourgia/agioy-kyrilloy-ierosolymon/
LOCATION:Ιερός Ναός Αγίων Ισιδώρων Λυκαβηττού\, Λυκαβηττός\, Αθήνα\, Αττική\, 10210\, Greece
CATEGORIES:Θεία Λειτουργία
ORGANIZER;CN="%CE%99%CE%B5%CF%81%CF%8C%CF%82 %CE%9D%CE%B1%CF%8C%CF%82 %CE%91%CE%B3%CE%AF%CF%89%CE%BD %CE%99%CF%83%CE%B9%CE%B4%CF%8E%CF%81%CF%89%CE%BD %CE%9B%CF%85%CE%BA%CE%B1%CE%B2%CE%B7%CF%84%CF%84%CE%BF%CF%8D":MAILTO:aisidro@otenet.gr
END:VEVENT
BEGIN:VEVENT
DTSTART;TZID=Europe/Athens:20210330T183000
DTEND;TZID=Europe/Athens:20210330T203000
DTSTAMP:20260423T015515
CREATED:20210302T172314Z
LAST-MODIFIED:20210302T172314Z
UID:2806-1617129000-1617136200@www.agioi-isidoroi.gr
SUMMARY:Προηγιασμένη Θεία Λειτουργία
DESCRIPTION:
URL:https://www.agioi-isidoroi.gr/leitourgia/proigiasmeni-theia-leitoyrgia-6/
LOCATION:Ιερός Ναός Αγίων Ισιδώρων Λυκαβηττού\, Λυκαβηττός\, Αθήνα\, Αττική\, 10210\, Greece
CATEGORIES:Θεία Λειτουργία
ORGANIZER;CN="%CE%99%CE%B5%CF%81%CF%8C%CF%82 %CE%9D%CE%B1%CF%8C%CF%82 %CE%91%CE%B3%CE%AF%CF%89%CE%BD %CE%99%CF%83%CE%B9%CE%B4%CF%8E%CF%81%CF%89%CE%BD %CE%9B%CF%85%CE%BA%CE%B1%CE%B2%CE%B7%CF%84%CF%84%CE%BF%CF%8D":MAILTO:aisidro@otenet.gr
END:VEVENT
BEGIN:VEVENT
DTSTART;TZID=Europe/Athens:20210330T073000
DTEND;TZID=Europe/Athens:20210330T123000
DTSTAMP:20260423T015515
CREATED:20210302T172241Z
LAST-MODIFIED:20210302T172241Z
UID:2804-1617089400-1617107400@www.agioi-isidoroi.gr
SUMMARY:Οσίου Ιωάννου της Κλίμακος
DESCRIPTION:Προηγιασμένη Θεία Λειτουργία
URL:https://www.agioi-isidoroi.gr/leitourgia/osioy-ioannoy-tis-klimakos/
LOCATION:Ιερός Ναός Αγίων Ισιδώρων Λυκαβηττού\, Λυκαβηττός\, Αθήνα\, Αττική\, 10210\, Greece
CATEGORIES:Θεία Λειτουργία
ORGANIZER;CN="%CE%99%CE%B5%CF%81%CF%8C%CF%82 %CE%9D%CE%B1%CF%8C%CF%82 %CE%91%CE%B3%CE%AF%CF%89%CE%BD %CE%99%CF%83%CE%B9%CE%B4%CF%8E%CF%81%CF%89%CE%BD %CE%9B%CF%85%CE%BA%CE%B1%CE%B2%CE%B7%CF%84%CF%84%CE%BF%CF%8D":MAILTO:aisidro@otenet.gr
END:VEVENT
BEGIN:VEVENT
DTSTART;TZID=Europe/Athens:20210329T180000
DTEND;TZID=Europe/Athens:20210329T223000
DTSTAMP:20260423T015515
CREATED:20210302T172158Z
LAST-MODIFIED:20210302T172158Z
UID:2802-1617040800-1617057000@www.agioi-isidoroi.gr
SUMMARY:Προηγιασμένη Θεία Λειτουργία
DESCRIPTION:
URL:https://www.agioi-isidoroi.gr/leitourgia/proigiasmeni-theia-leitoyrgia-5/
LOCATION:Αττική
CATEGORIES:Θεία Λειτουργία
END:VEVENT
BEGIN:VEVENT
DTSTART;TZID=Europe/Athens:20210329T073000
DTEND;TZID=Europe/Athens:20210329T123000
DTSTAMP:20260423T015515
CREATED:20210302T172129Z
LAST-MODIFIED:20210302T172129Z
UID:2800-1617003000-1617021000@www.agioi-isidoroi.gr
SUMMARY:Μάρκου επίσκ. Αρεθουσίων
DESCRIPTION:Προηγιασμένη Θεία Λειτουργία
URL:https://www.agioi-isidoroi.gr/leitourgia/markoy-episk-arethoysion/
LOCATION:Ιερός Ναός Αγίων Ισιδώρων Λυκαβηττού\, Λυκαβηττός\, Αθήνα\, Αττική\, 10210\, Greece
CATEGORIES:Θεία Λειτουργία
ORGANIZER;CN="%CE%99%CE%B5%CF%81%CF%8C%CF%82 %CE%9D%CE%B1%CF%8C%CF%82 %CE%91%CE%B3%CE%AF%CF%89%CE%BD %CE%99%CF%83%CE%B9%CE%B4%CF%8E%CF%81%CF%89%CE%BD %CE%9B%CF%85%CE%BA%CE%B1%CE%B2%CE%B7%CF%84%CF%84%CE%BF%CF%8D":MAILTO:aisidro@otenet.gr
END:VEVENT
BEGIN:VEVENT
DTSTART;TZID=Europe/Athens:20210328T190000
DTEND;TZID=Europe/Athens:20210328T230000
DTSTAMP:20260423T015515
CREATED:20210302T172049Z
LAST-MODIFIED:20210302T172049Z
UID:2798-1616958000-1616972400@www.agioi-isidoroi.gr
SUMMARY:Κατανυκτικός Εσπερινός
DESCRIPTION:
URL:https://www.agioi-isidoroi.gr/leitourgia/katanyktikos-esperinos-2/
LOCATION:Ιερός Ναός Αγίων Ισιδώρων Λυκαβηττού\, Λυκαβηττός\, Αθήνα\, Αττική\, 10210\, Greece
CATEGORIES:Εσπερινός
ORGANIZER;CN="%CE%99%CE%B5%CF%81%CF%8C%CF%82 %CE%9D%CE%B1%CF%8C%CF%82 %CE%91%CE%B3%CE%AF%CF%89%CE%BD %CE%99%CF%83%CE%B9%CE%B4%CF%8E%CF%81%CF%89%CE%BD %CE%9B%CF%85%CE%BA%CE%B1%CE%B2%CE%B7%CF%84%CF%84%CE%BF%CF%8D":MAILTO:aisidro@otenet.gr
END:VEVENT
BEGIN:VEVENT
DTSTART;TZID=Europe/Athens:20210328T073000
DTEND;TZID=Europe/Athens:20210328T123000
DTSTAMP:20260423T015515
CREATED:20210302T172016Z
LAST-MODIFIED:20210302T172016Z
UID:2796-1616916600-1616934600@www.agioi-isidoroi.gr
SUMMARY:Β’ ΝΗΣΤΕΙΩΝ\, Γρηγορίου του Παλαμά
DESCRIPTION:Όρθρος & Θεία Λειτουργία
URL:https://www.agioi-isidoroi.gr/leitourgia/v-nisteion-grigorioy-toy-palama/
LOCATION:Ιερός Ναός Αγίων Ισιδώρων Λυκαβηττού\, Λυκαβηττός\, Αθήνα\, Αττική\, 10210\, Greece
CATEGORIES:Όρθρος Και Θεία Λειτουργία
ORGANIZER;CN="%CE%99%CE%B5%CF%81%CF%8C%CF%82 %CE%9D%CE%B1%CF%8C%CF%82 %CE%91%CE%B3%CE%AF%CF%89%CE%BD %CE%99%CF%83%CE%B9%CE%B4%CF%8E%CF%81%CF%89%CE%BD %CE%9B%CF%85%CE%BA%CE%B1%CE%B2%CE%B7%CF%84%CF%84%CE%BF%CF%8D":MAILTO:aisidro@otenet.gr
END:VEVENT
BEGIN:VEVENT
DTSTART;TZID=Europe/Athens:20210327T183000
DTEND;TZID=Europe/Athens:20210327T210000
DTSTAMP:20260423T015515
CREATED:20210302T171940Z
LAST-MODIFIED:20210302T171940Z
UID:2794-1616869800-1616878800@www.agioi-isidoroi.gr
SUMMARY:Εσπερινός Β’ Νηστειών
DESCRIPTION:
URL:https://www.agioi-isidoroi.gr/leitourgia/esperinos-v-nisteion/
LOCATION:Ιερός Ναός Αγίων Ισιδώρων Λυκαβηττού\, Λυκαβηττός\, Αθήνα\, Αττική\, 10210\, Greece
CATEGORIES:Εσπερινός
ORGANIZER;CN="%CE%99%CE%B5%CF%81%CF%8C%CF%82 %CE%9D%CE%B1%CF%8C%CF%82 %CE%91%CE%B3%CE%AF%CF%89%CE%BD %CE%99%CF%83%CE%B9%CE%B4%CF%8E%CF%81%CF%89%CE%BD %CE%9B%CF%85%CE%BA%CE%B1%CE%B2%CE%B7%CF%84%CF%84%CE%BF%CF%8D":MAILTO:aisidro@otenet.gr
END:VEVENT
BEGIN:VEVENT
DTSTART;TZID=Europe/Athens:20210327T073000
DTEND;TZID=Europe/Athens:20210327T113000
DTSTAMP:20260423T015515
CREATED:20210302T171907Z
LAST-MODIFIED:20210302T171907Z
UID:2792-1616830200-1616844600@www.agioi-isidoroi.gr
SUMMARY:Ματρώνης εν Θεσσαλονίκη
DESCRIPTION:
URL:https://www.agioi-isidoroi.gr/leitourgia/matronis-en-thessaloniki/
LOCATION:Ιερός Ναός Αγίων Ισιδώρων Λυκαβηττού\, Λυκαβηττός\, Αθήνα\, Αττική\, 10210\, Greece
CATEGORIES:Όρθρος Και Θεία Λειτουργία
ORGANIZER;CN="%CE%99%CE%B5%CF%81%CF%8C%CF%82 %CE%9D%CE%B1%CF%8C%CF%82 %CE%91%CE%B3%CE%AF%CF%89%CE%BD %CE%99%CF%83%CE%B9%CE%B4%CF%8E%CF%81%CF%89%CE%BD %CE%9B%CF%85%CE%BA%CE%B1%CE%B2%CE%B7%CF%84%CF%84%CE%BF%CF%8D":MAILTO:aisidro@otenet.gr
END:VEVENT
BEGIN:VEVENT
DTSTART;TZID=Europe/Athens:20210326T193000
DTEND;TZID=Europe/Athens:20210326T213000
DTSTAMP:20260423T015515
CREATED:20210302T171831Z
LAST-MODIFIED:20210302T171831Z
UID:2790-1616787000-1616794200@www.agioi-isidoroi.gr
SUMMARY:Β’ ΧΑΙΡΕΤΙΣΜΟΙ ΤΗΣ ΠΑΝΑΓΙΑΣ
DESCRIPTION:
URL:https://www.agioi-isidoroi.gr/leitourgia/v-chairetismoi-tis-panagias/
LOCATION:Ιερός Ναός Αγίων Ισιδώρων Λυκαβηττού\, Λυκαβηττός\, Αθήνα\, Αττική\, 10210\, Greece
CATEGORIES:Χαιρετισμοί της Παναγίας
ORGANIZER;CN="%CE%99%CE%B5%CF%81%CF%8C%CF%82 %CE%9D%CE%B1%CF%8C%CF%82 %CE%91%CE%B3%CE%AF%CF%89%CE%BD %CE%99%CF%83%CE%B9%CE%B4%CF%8E%CF%81%CF%89%CE%BD %CE%9B%CF%85%CE%BA%CE%B1%CE%B2%CE%B7%CF%84%CF%84%CE%BF%CF%8D":MAILTO:aisidro@otenet.gr
END:VEVENT
BEGIN:VEVENT
DTSTART;TZID=Europe/Athens:20210326T073000
DTEND;TZID=Europe/Athens:20210326T123000
DTSTAMP:20260423T015515
CREATED:20210302T171802Z
LAST-MODIFIED:20210302T171802Z
UID:2788-1616743800-1616761800@www.agioi-isidoroi.gr
SUMMARY:Σύναξις Αρχαγγέλου Γαβριήλ
DESCRIPTION:Προηγιασμένη Θεία Λειτουργία
URL:https://www.agioi-isidoroi.gr/leitourgia/synaxis-archaggeloy-gavriil/
LOCATION:Ιερός Ναός Αγίων Ισιδώρων Λυκαβηττού\, Λυκαβηττός\, Αθήνα\, Αττική\, 10210\, Greece
CATEGORIES:Θεία Λειτουργία
ORGANIZER;CN="%CE%99%CE%B5%CF%81%CF%8C%CF%82 %CE%9D%CE%B1%CF%8C%CF%82 %CE%91%CE%B3%CE%AF%CF%89%CE%BD %CE%99%CF%83%CE%B9%CE%B4%CF%8E%CF%81%CF%89%CE%BD %CE%9B%CF%85%CE%BA%CE%B1%CE%B2%CE%B7%CF%84%CF%84%CE%BF%CF%8D":MAILTO:aisidro@otenet.gr
END:VEVENT
BEGIN:VEVENT
DTSTART;TZID=Europe/Athens:20210325T183000
DTEND;TZID=Europe/Athens:20210325T213000
DTSTAMP:20260423T015515
CREATED:20210302T171711Z
LAST-MODIFIED:20210302T171711Z
UID:2786-1616697000-1616707800@www.agioi-isidoroi.gr
SUMMARY:Εσπερινός & η Μεγάλη Παράκληση στην Παναγία
DESCRIPTION:
URL:https://www.agioi-isidoroi.gr/leitourgia/esperinos-amp-i-megali-paraklisi-stin-panagia/
LOCATION:Ιερός Ναός Αγίων Ισιδώρων Λυκαβηττού\, Λυκαβηττός\, Αθήνα\, Αττική\, 10210\, Greece
CATEGORIES:Εσπερινός & Παράκληση
ORGANIZER;CN="%CE%99%CE%B5%CF%81%CF%8C%CF%82 %CE%9D%CE%B1%CF%8C%CF%82 %CE%91%CE%B3%CE%AF%CF%89%CE%BD %CE%99%CF%83%CE%B9%CE%B4%CF%8E%CF%81%CF%89%CE%BD %CE%9B%CF%85%CE%BA%CE%B1%CE%B2%CE%B7%CF%84%CF%84%CE%BF%CF%8D":MAILTO:aisidro@otenet.gr
END:VEVENT
BEGIN:VEVENT
DTSTART;TZID=Europe/Athens:20210325T073000
DTEND;TZID=Europe/Athens:20210325T130000
DTSTAMP:20260423T015515
CREATED:20210302T171613Z
LAST-MODIFIED:20210302T171613Z
UID:2784-1616657400-1616677200@www.agioi-isidoroi.gr
SUMMARY:ΕΥΑΓΓΕΛΙΣΜΟΣ ΤΗΣ ΘΕΟΤΟΚΟΥ
DESCRIPTION:Όρθρος & Πανηγυρική Θεία Λειτουργία – Δοξολογία
URL:https://www.agioi-isidoroi.gr/leitourgia/eyaggelismos-tis-theotokoy/
LOCATION:Ιερός Ναός Αγίων Ισιδώρων Λυκαβηττού\, Λυκαβηττός\, Αθήνα\, Αττική\, 10210\, Greece
CATEGORIES:Δοξολογία,Όρθρος Και Θεία Λειτουργία
ORGANIZER;CN="%CE%99%CE%B5%CF%81%CF%8C%CF%82 %CE%9D%CE%B1%CF%8C%CF%82 %CE%91%CE%B3%CE%AF%CF%89%CE%BD %CE%99%CF%83%CE%B9%CE%B4%CF%8E%CF%81%CF%89%CE%BD %CE%9B%CF%85%CE%BA%CE%B1%CE%B2%CE%B7%CF%84%CF%84%CE%BF%CF%8D":MAILTO:aisidro@otenet.gr
END:VEVENT
BEGIN:VEVENT
DTSTART;TZID=Europe/Athens:20210324T183000
DTEND;TZID=Europe/Athens:20210324T220000
DTSTAMP:20260423T015515
CREATED:20210302T171525Z
LAST-MODIFIED:20210302T171525Z
UID:2782-1616610600-1616623200@www.agioi-isidoroi.gr
SUMMARY:Εσπερινός του Ευαγγελισμού της Παναγίας
DESCRIPTION:
URL:https://www.agioi-isidoroi.gr/leitourgia/esperinos-toy-eyaggelismoy-tis-panagias/
LOCATION:Ιερός Ναός Αγίων Ισιδώρων Λυκαβηττού\, Λυκαβηττός\, Αθήνα\, Αττική\, 10210\, Greece
CATEGORIES:Εσπερινός
ORGANIZER;CN="%CE%99%CE%B5%CF%81%CF%8C%CF%82 %CE%9D%CE%B1%CF%8C%CF%82 %CE%91%CE%B3%CE%AF%CF%89%CE%BD %CE%99%CF%83%CE%B9%CE%B4%CF%8E%CF%81%CF%89%CE%BD %CE%9B%CF%85%CE%BA%CE%B1%CE%B2%CE%B7%CF%84%CF%84%CE%BF%CF%8D":MAILTO:aisidro@otenet.gr
END:VEVENT
BEGIN:VEVENT
DTSTART;TZID=Europe/Athens:20210324T073000
DTEND;TZID=Europe/Athens:20210324T113000
DTSTAMP:20260423T015515
CREATED:20210302T171451Z
LAST-MODIFIED:20210302T171451Z
UID:2780-1616571000-1616585400@www.agioi-isidoroi.gr
SUMMARY:Προεόρτια Ευαγγελισμού
DESCRIPTION:(δεν τελείται Θεία Λειτουργία)
URL:https://www.agioi-isidoroi.gr/leitourgia/proeortia-eyaggelismoy/
LOCATION:Αττική
CATEGORIES:Όρθρος,Ώρες
END:VEVENT
BEGIN:VEVENT
DTSTART;TZID=Europe/Athens:20210323T183000
DTEND;TZID=Europe/Athens:20210323T183000
DTSTAMP:20260423T015515
CREATED:20210302T171407Z
LAST-MODIFIED:20210302T171407Z
UID:2778-1616524200-1616524200@www.agioi-isidoroi.gr
SUMMARY:Προηγιασμένη Θεία Λειτουργία
DESCRIPTION:
URL:https://www.agioi-isidoroi.gr/leitourgia/proigiasmeni-theia-leitoyrgia-4/
LOCATION:Ιερός Ναός Αγίων Ισιδώρων Λυκαβηττού\, Λυκαβηττός\, Αθήνα\, Αττική\, 10210\, Greece
CATEGORIES:Θεία Λειτουργία
ORGANIZER;CN="%CE%99%CE%B5%CF%81%CF%8C%CF%82 %CE%9D%CE%B1%CF%8C%CF%82 %CE%91%CE%B3%CE%AF%CF%89%CE%BD %CE%99%CF%83%CE%B9%CE%B4%CF%8E%CF%81%CF%89%CE%BD %CE%9B%CF%85%CE%BA%CE%B1%CE%B2%CE%B7%CF%84%CF%84%CE%BF%CF%8D":MAILTO:aisidro@otenet.gr
END:VEVENT
END:VCALENDAR