BEGIN:VCALENDAR
VERSION:2.0
PRODID:-//ΙΕΡΟΣ ΝΑΟΣ ΑΓΙΩΝ ΙΣΙΔΩΡΩΝ - ECPv6.15.17.1//NONSGML v1.0//EN
CALSCALE:GREGORIAN
METHOD:PUBLISH
X-WR-CALNAME:ΙΕΡΟΣ ΝΑΟΣ ΑΓΙΩΝ ΙΣΙΔΩΡΩΝ
X-ORIGINAL-URL:https://www.agioi-isidoroi.gr
X-WR-CALDESC:Events for ΙΕΡΟΣ ΝΑΟΣ ΑΓΙΩΝ ΙΣΙΔΩΡΩΝ
REFRESH-INTERVAL;VALUE=DURATION:PT1H
X-Robots-Tag:noindex
X-PUBLISHED-TTL:PT1H
BEGIN:VTIMEZONE
TZID:Europe/Athens
BEGIN:DAYLIGHT
TZOFFSETFROM:+0200
TZOFFSETTO:+0300
TZNAME:EEST
DTSTART:20200329T010000
END:DAYLIGHT
BEGIN:STANDARD
TZOFFSETFROM:+0300
TZOFFSETTO:+0200
TZNAME:EET
DTSTART:20201025T010000
END:STANDARD
BEGIN:DAYLIGHT
TZOFFSETFROM:+0200
TZOFFSETTO:+0300
TZNAME:EEST
DTSTART:20210328T010000
END:DAYLIGHT
BEGIN:STANDARD
TZOFFSETFROM:+0300
TZOFFSETTO:+0200
TZNAME:EET
DTSTART:20211031T010000
END:STANDARD
BEGIN:DAYLIGHT
TZOFFSETFROM:+0200
TZOFFSETTO:+0300
TZNAME:EEST
DTSTART:20220327T010000
END:DAYLIGHT
BEGIN:STANDARD
TZOFFSETFROM:+0300
TZOFFSETTO:+0200
TZNAME:EET
DTSTART:20221030T010000
END:STANDARD
END:VTIMEZONE
BEGIN:VEVENT
DTSTART;TZID=Europe/Athens:20210504T193000
DTEND;TZID=Europe/Athens:20210504T220000
DTSTAMP:20260423T015415
CREATED:20210404T195620Z
LAST-MODIFIED:20210404T195620Z
UID:2957-1620156600-1620165600@www.agioi-isidoroi.gr
SUMMARY:Πανηγυρικός εσπερινός
DESCRIPTION:Πανηγυρικός εσπερινός
URL:https://www.agioi-isidoroi.gr/leitourgia/panigyrikos-esperinos-4/
LOCATION:Αττική
CATEGORIES:Εσπερινός
END:VEVENT
BEGIN:VEVENT
DTSTART;TZID=Europe/Athens:20210504T073000
DTEND;TZID=Europe/Athens:20210504T123000
DTSTAMP:20260423T015415
CREATED:20210404T195305Z
LAST-MODIFIED:20210404T195305Z
UID:2953-1620113400-1620131400@www.agioi-isidoroi.gr
SUMMARY:Αγίων Ραφαήλ Νικολάου & Ειρήνης
DESCRIPTION:Όρθρος & Θεία Λειτουργία \n*Η Θεία Λειτουργία θα τελεστεί στο εικονοστάσιο του Σωτήρος Χριστού.\n*Θα τεθεί για προσκύνημα ιερό λείψανο του Αγίου Ραφαήλ.
URL:https://www.agioi-isidoroi.gr/leitourgia/agion-rafail-nikolaoy-amp-eirinis-2/
LOCATION:Αττική
CATEGORIES:Όρθρος Και Θεία Λειτουργία
END:VEVENT
BEGIN:VEVENT
DTSTART;TZID=Europe/Athens:20210503T073000
DTEND;TZID=Europe/Athens:20210503T123000
DTSTAMP:20260423T015415
CREATED:20210404T194702Z
LAST-MODIFIED:20210404T194702Z
UID:2947-1620027000-1620045000@www.agioi-isidoroi.gr
SUMMARY:Αγίου Γεωργίου του Τροπαιοφόρου
DESCRIPTION:Όρθρος & Πανηγυρική Θεία Λειτουργία \n*Θα τεθεί για προσκύνημα ιερό λείψανο του Αγίου Γεωργίου.
URL:https://www.agioi-isidoroi.gr/leitourgia/agioy-georgioy-toy-tropaioforoy/
LOCATION:Ιερός Ναός Αγίων Ισιδώρων Λυκαβηττού\, Λυκαβηττός\, Αθήνα\, Αττική\, 10210\, Greece
CATEGORIES:Όρθρος Και Θεία Λειτουργία
ORGANIZER;CN="%CE%99%CE%B5%CF%81%CF%8C%CF%82 %CE%9D%CE%B1%CF%8C%CF%82 %CE%91%CE%B3%CE%AF%CF%89%CE%BD %CE%99%CF%83%CE%B9%CE%B4%CF%8E%CF%81%CF%89%CE%BD %CE%9B%CF%85%CE%BA%CE%B1%CE%B2%CE%B7%CF%84%CF%84%CE%BF%CF%8D":MAILTO:aisidro@otenet.gr
END:VEVENT
BEGIN:VEVENT
DTSTART;TZID=Europe/Athens:20210502T210000
DTEND;TZID=Europe/Athens:20210502T230000
DTSTAMP:20260423T015415
CREATED:20210404T194320Z
LAST-MODIFIED:20210501T101411Z
UID:2943-1619989200-1619996400@www.agioi-isidoroi.gr
SUMMARY:ΚΥΡΙΑΚΗ ΤΟΥ ΠΑΣΧΑ - ΑΝΑΣΤΑΣΗ
DESCRIPTION:Εορτάζομεν την Ζωηφόρον Ανάσταση Του Κυρίου και Θεού και Σωτήρος Ημών Ιησού Χριστού.\nΘεία Λειτουργία Αγίου Ιωάννου του Χρυσοστόμου\n\n\n«Αναστάσεως ημέρα λαμπρυνθώμεν Λαοί\, Πάσχα Κυρίου\, Πάσχα• εκ γαρ θανάτου προς ζωήν\, και εκ γης\nπρος ουρανόν\, Χριστός ο Θεός\, ημάς διεβίβασεν\, επινίκιον άδοντας»\n\n*Μετά το πέρας της Αναστάσιμης Θείας Λειτουργίας θα μοιραστούν Αυγά\, Τυρί και Κουλουράκια.
URL:https://www.agioi-isidoroi.gr/leitourgia/kyriaki-toy-pascha-anastasi/
LOCATION:Ιερός Ναός Αγίων Ισιδώρων Λυκαβηττού\, Λυκαβηττός\, Αθήνα\, Αττική\, 10210\, Greece
CATEGORIES:Θεία Λειτουργία
ORGANIZER;CN="%CE%99%CE%B5%CF%81%CF%8C%CF%82 %CE%9D%CE%B1%CF%8C%CF%82 %CE%91%CE%B3%CE%AF%CF%89%CE%BD %CE%99%CF%83%CE%B9%CE%B4%CF%8E%CF%81%CF%89%CE%BD %CE%9B%CF%85%CE%BA%CE%B1%CE%B2%CE%B7%CF%84%CF%84%CE%BF%CF%8D":MAILTO:aisidro@otenet.gr
END:VEVENT
BEGIN:VEVENT
DTSTART;TZID=Europe/Athens:20210502T110000
DTEND;TZID=Europe/Athens:20210502T150000
DTSTAMP:20260423T015415
CREATED:20210404T194536Z
LAST-MODIFIED:20210404T194536Z
UID:2945-1619953200-1619967600@www.agioi-isidoroi.gr
SUMMARY:Ο ΕΣΠΕΡΙΝΟΣ ΤΗΣ ΑΓΑΠΗΣ
DESCRIPTION:«Χριστός Ανέστη εκ νεκρών\, θανάτῳ θάνατον πατήσας και τοις εν τοις μνήμασι ζωήν χαρισάμενος»\n* Στους προσκυνητές θα προσφέρονται εικονάκια της Αναστάσεως\, αυγά και διάφορα γλυκίσματα
URL:https://www.agioi-isidoroi.gr/leitourgia/o-esperinos-tis-agapis/
LOCATION:Ιερός Ναός Αγίων Ισιδώρων Λυκαβηττού\, Λυκαβηττός\, Αθήνα\, Αττική\, 10210\, Greece
CATEGORIES:Εσπερινός
ORGANIZER;CN="%CE%99%CE%B5%CF%81%CF%8C%CF%82 %CE%9D%CE%B1%CF%8C%CF%82 %CE%91%CE%B3%CE%AF%CF%89%CE%BD %CE%99%CF%83%CE%B9%CE%B4%CF%8E%CF%81%CF%89%CE%BD %CE%9B%CF%85%CE%BA%CE%B1%CE%B2%CE%B7%CF%84%CF%84%CE%BF%CF%8D":MAILTO:aisidro@otenet.gr
END:VEVENT
BEGIN:VEVENT
DTSTART;TZID=Europe/Athens:20210501T210000
DTEND;TZID=Europe/Athens:20210501T230000
DTSTAMP:20260423T015415
CREATED:20210404T194129Z
LAST-MODIFIED:20210501T101450Z
UID:2941-1619902800-1619910000@www.agioi-isidoroi.gr
SUMMARY:ΧΡΙΣΤΟΣ ΑΝΕΣΤΗ – ΑΛΗΘΩΣ ΑΝΕΣΤΗ
DESCRIPTION:ΧΡΙΣΤΟΣ ΑΝΕΣΤΗ – ΑΛΗΘΩΣ ΑΝΕΣΤΗ
URL:https://www.agioi-isidoroi.gr/leitourgia/christos-anesti-alithos-anesti/
LOCATION:Ιερός Ναός Αγίων Ισιδώρων Λυκαβηττού\, Λυκαβηττός\, Αθήνα\, Αττική\, 10210\, Greece
ORGANIZER;CN="%CE%99%CE%B5%CF%81%CF%8C%CF%82 %CE%9D%CE%B1%CF%8C%CF%82 %CE%91%CE%B3%CE%AF%CF%89%CE%BD %CE%99%CF%83%CE%B9%CE%B4%CF%8E%CF%81%CF%89%CE%BD %CE%9B%CF%85%CE%BA%CE%B1%CE%B2%CE%B7%CF%84%CF%84%CE%BF%CF%8D":MAILTO:aisidro@otenet.gr
END:VEVENT
BEGIN:VEVENT
DTSTART;TZID=Europe/Athens:20210501T200000
DTEND;TZID=Europe/Athens:20210501T210000
DTSTAMP:20260423T015415
CREATED:20210404T194009Z
LAST-MODIFIED:20210501T101534Z
UID:2939-1619899200-1619902800@www.agioi-isidoroi.gr
SUMMARY:Παννυχίδα της Αναστάσεως – Υποδοχή του Αγίου Φωτός
DESCRIPTION:Παννυχίδα της Αναστάσεως – Υποδοχή του Αγίου Φωτός
URL:https://www.agioi-isidoroi.gr/leitourgia/pannychida-tis-anastaseos-ypodochi-toy-agioy-fotos/
LOCATION:Αττική
END:VEVENT
BEGIN:VEVENT
DTSTART;TZID=Europe/Athens:20210501T080000
DTEND;TZID=Europe/Athens:20210501T120000
DTSTAMP:20260423T015415
CREATED:20210404T193913Z
LAST-MODIFIED:20210404T193944Z
UID:2936-1619856000-1619870400@www.agioi-isidoroi.gr
SUMMARY:ΜΕΓΑΛΟ ΣΑΒΒΑΤΟ - ΘΕΙΑ ΛΕΙΤΟΥΡΓΙΑ
DESCRIPTION:Την θεόσωμον Ταφήν και την εις Άδου Κάθοδον Του Κυρίου\nκαι Σωτήρος Ημών Ιησού Χριστού εορτάζομεν\, δι’ ων της φθοράς το υμέτερον γένος\nανακληθέν\, προς αιωνίαν ζωήν μεταβέβηκε.\n\n\nΗ Θεία Λειτουργία του Μεγάλου Βασιλείου\nθα γίνει επάνω στον Επιτάφιο του Κυρίου\n†Ανάστα ο Θεός κρίνων την γην\, ότι συ κατακληρονομήσεις εν πάσι τοις έθνεσι.
URL:https://www.agioi-isidoroi.gr/leitourgia/megalo-savvato-theia-leitoyrgia/
LOCATION:Αττική
CATEGORIES:Θεία Λειτουργία
END:VEVENT
BEGIN:VEVENT
DTSTART;TZID=Europe/Athens:20210430T190000
DTEND;TZID=Europe/Athens:20210430T230000
DTSTAMP:20260423T015415
CREATED:20210404T193713Z
LAST-MODIFIED:20210404T193713Z
UID:2934-1619809200-1619823600@www.agioi-isidoroi.gr
SUMMARY:ΑΚΟΛΟΥΘΙΑ ΤΟΥ ΕΠΙΤΑΦΙΟΥ - ΤΑ ΕΓΚΩΜΙΑ
DESCRIPTION:«Ω γλυκύ μου έαρ\, γλυκύτατόν μου Τέκνον\, πού έδυ σου το κάλλος; Έρραναν τον τάφον αι Μυροφόροι μύρα\,\nλίαν πρωί ελθούσαι. Ω Τριάς Θεέ μου\, Πατήρ Υιός και Πνεύμα\, ελέησον τον κόσμον.»\n*Θα γίνει η περιφορά του Επιταφίου επί των οδών Σαρανταπήχου & Δοξαπατρή.
URL:https://www.agioi-isidoroi.gr/leitourgia/akoloythia-toy-epitafioy-ta-egkomia/
LOCATION:Ιερός Ναός Αγίων Ισιδώρων Λυκαβηττού\, Λυκαβηττός\, Αθήνα\, Αττική\, 10210\, Greece
ORGANIZER;CN="%CE%99%CE%B5%CF%81%CF%8C%CF%82 %CE%9D%CE%B1%CF%8C%CF%82 %CE%91%CE%B3%CE%AF%CF%89%CE%BD %CE%99%CF%83%CE%B9%CE%B4%CF%8E%CF%81%CF%89%CE%BD %CE%9B%CF%85%CE%BA%CE%B1%CE%B2%CE%B7%CF%84%CF%84%CE%BF%CF%8D":MAILTO:aisidro@otenet.gr
END:VEVENT
BEGIN:VEVENT
DTSTART;TZID=Europe/Athens:20210430T113000
DTEND;TZID=Europe/Athens:20210430T130000
DTSTAMP:20260423T015415
CREATED:20210404T193601Z
LAST-MODIFIED:20210404T193601Z
UID:2932-1619782200-1619787600@www.agioi-isidoroi.gr
SUMMARY:Εσπερινός της Αποκαθηλώσεως
DESCRIPTION:Εσπερινός της Αποκαθηλώσεως \n*Μετά το πέρας της ακολουθίας θα ψαλεί τρισάγιο υπέρ αναπαύσεως των ψυχών
URL:https://www.agioi-isidoroi.gr/leitourgia/esperinos-tis-apokathiloseos/
LOCATION:Ιερός Ναός Αγίων Ισιδώρων Λυκαβηττού\, Λυκαβηττός\, Αθήνα\, Αττική\, 10210\, Greece
ORGANIZER;CN="%CE%99%CE%B5%CF%81%CF%8C%CF%82 %CE%9D%CE%B1%CF%8C%CF%82 %CE%91%CE%B3%CE%AF%CF%89%CE%BD %CE%99%CF%83%CE%B9%CE%B4%CF%8E%CF%81%CF%89%CE%BD %CE%9B%CF%85%CE%BA%CE%B1%CE%B2%CE%B7%CF%84%CF%84%CE%BF%CF%8D":MAILTO:aisidro@otenet.gr
END:VEVENT
BEGIN:VEVENT
DTSTART;TZID=Europe/Athens:20210430T093000
DTEND;TZID=Europe/Athens:20210430T113000
DTSTAMP:20260423T015415
CREATED:20210404T193454Z
LAST-MODIFIED:20210404T193454Z
UID:2930-1619775000-1619782200@www.agioi-isidoroi.gr
SUMMARY:ΜΕΓΑΛΗ ΠΑΡΑΣΚΕΥΗ - ΤΑ ΑΓΙΑ ΠΑΘΗ ΤΟΥ ΚΥΡΙΟΥ
DESCRIPTION:ΑΚΟΛΟΥΘΙΑ ΤΩΝ ΜΕΓΑΛΩΝ ΩΡΩΝ
URL:https://www.agioi-isidoroi.gr/leitourgia/megali-paraskeyi-ta-agia-pathi-toy-kyrioy/
LOCATION:Αττική
END:VEVENT
BEGIN:VEVENT
DTSTART;TZID=Europe/Athens:20210429T193000
DTEND;TZID=Europe/Athens:20210429T223000
DTSTAMP:20260423T015415
CREATED:20210404T193344Z
LAST-MODIFIED:20210404T193344Z
UID:2928-1619724600-1619735400@www.agioi-isidoroi.gr
SUMMARY:ΑΚΟΛΟΥΘΙΑ ΤΩΝ ΑΧΡΑΝΤΩΝ ΠΑΘΩΝ
DESCRIPTION:*Τα άγια και σωτήρια και φρικτά Πάθη Του Κυρίου και Θεού Σωτήρος ημών Ιησού Χριστού\, τους\nεμπτυσμούς\, τα ραπίσματα\, τα κολαφίσματα\, τας ύβρεις\, τους γέλωτας\, την πορφυράν χλαίναν\, τον κάλαμον\, τον\nσπόγγον\, το όξος\, τους ήλους\, την λόγχην και προ πάντων\, τον σταυρόν\, και τον θάνατον\, α δι’ ημάς εκών\nκατεδέξατο\, έτι δε και την του ευγνώμονος ληστού\, του συσταυρωθέντος αυτώ\, σωτήριον εν τω Σταυρώ\nομολογίαν.\n\n«Σήμερον κρεμάται επί ξύλου\, ο εν ύδασι την γην κρεμάσας. Στέφανον εξ ακανθών περιτίθεται\, ο των\nαγγέλων βασιλεύς. Ψευδή πορφύραν περιβάλλεται\, ο περιβάλλων τον ουρανόν εν νεφέλαις. Ράπισμα\nκατεδέξατο\, ο εν Ιορδάνη ελευθερώσας τον Αδάμ. Προσηλώθη\, ο νυμφίος της Εκκλησίας. Λόγχη εκεντήθη\, ο\nυιός της Παρθένου. Προσκυνούμεν σου τα Πάθη\, Χριστέ. Δείξον ημίν και την ένδοξόν σου Ανάστασιν.»\n\n*Θα τεθεί για προσκύνημα Τεμάχιο Τιμίου Ξύλου & Πέτρα εκ του Φρικτού Γολγοθά.\n\n*Μετά το πέρας της ακολουθίας θα γίνει ο στολισμός του Επιταφίου.\n\n*Ο Ναός θα παραμείνει ανοιχτός όλη την νύχτα.
URL:https://www.agioi-isidoroi.gr/leitourgia/akoloythia-ton-achranton-pathon/
LOCATION:Αττική
END:VEVENT
BEGIN:VEVENT
DTSTART;TZID=Europe/Athens:20210429T080000
DTEND;TZID=Europe/Athens:20210429T113000
DTSTAMP:20260423T015415
CREATED:20210404T193247Z
LAST-MODIFIED:20210404T193247Z
UID:2926-1619683200-1619695800@www.agioi-isidoroi.gr
SUMMARY:ΜΕΓΑΛΗ ΠΕΜΠΤΗ - Ο Μυστικός Δείπνος
DESCRIPTION:Θεία Λειτουργία του Μεγάλου Βασιλείου
URL:https://www.agioi-isidoroi.gr/leitourgia/megali-pempti-o-mystikos-deipnos/
LOCATION:Ιερός Ναός Αγίων Ισιδώρων Λυκαβηττού\, Λυκαβηττός\, Αθήνα\, Αττική\, 10210\, Greece
ORGANIZER;CN="%CE%99%CE%B5%CF%81%CF%8C%CF%82 %CE%9D%CE%B1%CF%8C%CF%82 %CE%91%CE%B3%CE%AF%CF%89%CE%BD %CE%99%CF%83%CE%B9%CE%B4%CF%8E%CF%81%CF%89%CE%BD %CE%9B%CF%85%CE%BA%CE%B1%CE%B2%CE%B7%CF%84%CF%84%CE%BF%CF%8D":MAILTO:aisidro@otenet.gr
END:VEVENT
BEGIN:VEVENT
DTSTART;TZID=Europe/Athens:20210428T193000
DTEND;TZID=Europe/Athens:20210428T223000
DTSTAMP:20260423T015415
CREATED:20210404T192934Z
LAST-MODIFIED:20210404T192934Z
UID:2921-1619638200-1619649000@www.agioi-isidoroi.gr
SUMMARY:Ακολουθία του Νιπτήρος
DESCRIPTION:«Ότε η ένδοξοι μαθηταί εν τω νιπτήρι εφωτίζοντο\, τότε Ιούδας ο δυσεβής\, φιλαργυρίαν νοσήσας\, εκοτίζετο·και\nανόμοις κριταίς σε τον δίκαιον κριτήν παραδίδωσι. Βλέπε\, χρημάτων εραστά\, τον δια ταύτα αγχόνη χρησάμενον·\nφεύγε ακόρεστον ψυχήν την διδασκάλω τοιαύτα τολμήσασαν. Ο περί πάντων αγαθός\, Κύριε\, δόξα σοι.»
URL:https://www.agioi-isidoroi.gr/leitourgia/akoloythia-toy-niptiros/
LOCATION:Ιερός Ναός Αγίων Ισιδώρων Λυκαβηττού\, Λυκαβηττός\, Αθήνα\, Αττική\, 10210\, Greece
ORGANIZER;CN="%CE%99%CE%B5%CF%81%CF%8C%CF%82 %CE%9D%CE%B1%CF%8C%CF%82 %CE%91%CE%B3%CE%AF%CF%89%CE%BD %CE%99%CF%83%CE%B9%CE%B4%CF%8E%CF%81%CF%89%CE%BD %CE%9B%CF%85%CE%BA%CE%B1%CE%B2%CE%B7%CF%84%CF%84%CE%BF%CF%8D":MAILTO:aisidro@otenet.gr
END:VEVENT
BEGIN:VEVENT
DTSTART;TZID=Europe/Athens:20210428T180000
DTEND;TZID=Europe/Athens:20210428T213000
DTSTAMP:20260423T015415
CREATED:20210404T192826Z
LAST-MODIFIED:20210404T192826Z
UID:2919-1619632800-1619645400@www.agioi-isidoroi.gr
SUMMARY:ΑΚΟΛΟΥΘΙΑ ΤΟΥ ΙΕΡΟΥ ΕΥΧΕΛΑΙΟΥ
DESCRIPTION:Με την ευλογία του ΤΙΜΙΟΥ ΞΥΛΟΥ
URL:https://www.agioi-isidoroi.gr/leitourgia/akoloythia-toy-ieroy-eychelaioy/
LOCATION:Ιερός Ναός Αγίων Ισιδώρων Λυκαβηττού\, Λυκαβηττός\, Αθήνα\, Αττική\, 10210\, Greece
ORGANIZER;CN="%CE%99%CE%B5%CF%81%CF%8C%CF%82 %CE%9D%CE%B1%CF%8C%CF%82 %CE%91%CE%B3%CE%AF%CF%89%CE%BD %CE%99%CF%83%CE%B9%CE%B4%CF%8E%CF%81%CF%89%CE%BD %CE%9B%CF%85%CE%BA%CE%B1%CE%B2%CE%B7%CF%84%CF%84%CE%BF%CF%8D":MAILTO:aisidro@otenet.gr
END:VEVENT
BEGIN:VEVENT
DTSTART;TZID=Europe/Athens:20210428T073000
DTEND;TZID=Europe/Athens:20210428T170000
DTSTAMP:20260423T015415
CREATED:20210404T192708Z
LAST-MODIFIED:20210404T193102Z
UID:2917-1619595000-1619629200@www.agioi-isidoroi.gr
SUMMARY:ΜΕΓΑΛΗ ΤΕΤΑΡΤΗ - Της αλειψάσης του Κυρίου Μύρω
DESCRIPTION:Προηγιασμένη Θεία Λειτουργία
URL:https://www.agioi-isidoroi.gr/leitourgia/megali-tetarti-tis-aleipsasis-toy-kyrioy-myro/
LOCATION:Αττική
CATEGORIES:Θεία Λειτουργία
END:VEVENT
BEGIN:VEVENT
DTSTART;TZID=Europe/Athens:20210427T193000
DTEND;TZID=Europe/Athens:20210427T213000
DTSTAMP:20260423T015415
CREATED:20210404T192540Z
LAST-MODIFIED:20210404T192540Z
UID:2915-1619551800-1619559000@www.agioi-isidoroi.gr
SUMMARY:Ακολουθία του Νυμφίου Χριστού
DESCRIPTION:Ακολουθία του Νυμφίου Χριστού\n\n(Το Τροπάριο της Κασσιανής)\n«Ότε η αμαρτωλός προσέφερε το μύρον\, τότε ο μαθητής συνεφώνει τοις παρανόμοις η μεν έχαιρε κενούσα το\nπολύτιμον\, ο δε έσπευδε πωλήσαι τον ατίμητον αύτη τον Δεσπότην επεγίνωσκεν\, ούτος του Δεσπότου εχωρίζετο\nαύτη τον Δεσπότην επεγίνωσκεν\, ούτος του Δεσπότου εχωρίζετο˙ αύτη ηλευθερούτο\, και ο Ιούδας δούλος\nεγεγόνει του εχθρού. Δεινόν η ραθυμία! Μεγάλη η μετάνοια\, ήν μοι δώρησαι\, Σωτήρ\, ο παθών υπέρ ημών\, και\nσώσον ημάς»
URL:https://www.agioi-isidoroi.gr/leitourgia/akoloythia-toy-nymfioy-christoy-3/
LOCATION:Αττική
CATEGORIES:Ακολουθία του Νυμφίου Χριστού
END:VEVENT
BEGIN:VEVENT
DTSTART;TZID=Europe/Athens:20210427T073000
DTEND;TZID=Europe/Athens:20210427T110000
DTSTAMP:20260423T015415
CREATED:20210404T192428Z
LAST-MODIFIED:20210404T193040Z
UID:2913-1619508600-1619521200@www.agioi-isidoroi.gr
SUMMARY:ΜΕΓΑΛΗ ΤΡΙΤΗ - Των 10 Παρθένων
DESCRIPTION:Προηγιασμένη Θεία Λειτουργία
URL:https://www.agioi-isidoroi.gr/leitourgia/ton-10-parthenon/
LOCATION:Ιερός Ναός Αγίων Ισιδώρων Λυκαβηττού\, Λυκαβηττός\, Αθήνα\, Αττική\, 10210\, Greece
CATEGORIES:Θεία Λειτουργία
ORGANIZER;CN="%CE%99%CE%B5%CF%81%CF%8C%CF%82 %CE%9D%CE%B1%CF%8C%CF%82 %CE%91%CE%B3%CE%AF%CF%89%CE%BD %CE%99%CF%83%CE%B9%CE%B4%CF%8E%CF%81%CF%89%CE%BD %CE%9B%CF%85%CE%BA%CE%B1%CE%B2%CE%B7%CF%84%CF%84%CE%BF%CF%8D":MAILTO:aisidro@otenet.gr
END:VEVENT
BEGIN:VEVENT
DTSTART;TZID=Europe/Athens:20210426T193000
DTEND;TZID=Europe/Athens:20210426T220000
DTSTAMP:20260423T015415
CREATED:20210404T192211Z
LAST-MODIFIED:20210404T192254Z
UID:2910-1619465400-1619474400@www.agioi-isidoroi.gr
SUMMARY:Ακολουθία του Νυμφίου Χριστού
DESCRIPTION:Ακολουθία του Νυμφίου Χριστού \n«Tον νυμφώνα σου βλέπω\, Σωτήρ μου\, κεκοσμημένον και ένδυμα ουκ έχω\, ίνα εισέλθω εν αυτώ λάμπρυνόν μου την στολήν της ψυχής\, φωτοδότα\, και σώσον με.»\n\n*Κατά την διάρκεια της Μεγάλης Εβδομάδος στους προσκυνητές θα μοιραστεί ως ευλογία εικονίτσα με\nκόκκινη κορδέλα που ακούμπησε στην Αγία Κολόνα του Κυρίου που σε αυτήν ο Κύριος μαστιγώθηκε\,\nχλευάστηκε και του έβαλαν το Ακάνθινο στέφανο. Το παρεκκλήσιο αυτό βρίσκεται εντός του Ναού της\nΑναστάσεως και ονομάσθη του Ακανθίνου Στεφάνου.
URL:https://www.agioi-isidoroi.gr/leitourgia/akoloythia-toy-nymfioy-christoy-2/
LOCATION:Ιερός Ναός Αγίων Ισιδώρων Λυκαβηττού\, Λυκαβηττός\, Αθήνα\, Αττική\, 10210\, Greece
CATEGORIES:Ακολουθία του Νυμφίου Χριστού
ORGANIZER;CN="%CE%99%CE%B5%CF%81%CF%8C%CF%82 %CE%9D%CE%B1%CF%8C%CF%82 %CE%91%CE%B3%CE%AF%CF%89%CE%BD %CE%99%CF%83%CE%B9%CE%B4%CF%8E%CF%81%CF%89%CE%BD %CE%9B%CF%85%CE%BA%CE%B1%CE%B2%CE%B7%CF%84%CF%84%CE%BF%CF%8D":MAILTO:aisidro@otenet.gr
END:VEVENT
BEGIN:VEVENT
DTSTART;TZID=Europe/Athens:20210426T073000
DTEND;TZID=Europe/Athens:20210426T113000
DTSTAMP:20260423T015415
CREATED:20210404T192132Z
LAST-MODIFIED:20210404T192132Z
UID:2908-1619422200-1619436600@www.agioi-isidoroi.gr
SUMMARY:ΜΕΓΑΛΗ ΔΕΥΤΕΡΑ - Ιωσήφ του Παγκάλου
DESCRIPTION:Προηγιασμένη Θεία Λειτουργία
URL:https://www.agioi-isidoroi.gr/leitourgia/megali-deytera-iosif-toy-pagkaloy/
LOCATION:Ιερός Ναός Αγίων Ισιδώρων Λυκαβηττού\, Λυκαβηττός\, Αθήνα\, Αττική\, 10210\, Greece
CATEGORIES:Θεία Λειτουργία
ORGANIZER;CN="%CE%99%CE%B5%CF%81%CF%8C%CF%82 %CE%9D%CE%B1%CF%8C%CF%82 %CE%91%CE%B3%CE%AF%CF%89%CE%BD %CE%99%CF%83%CE%B9%CE%B4%CF%8E%CF%81%CF%89%CE%BD %CE%9B%CF%85%CE%BA%CE%B1%CE%B2%CE%B7%CF%84%CF%84%CE%BF%CF%8D":MAILTO:aisidro@otenet.gr
END:VEVENT
BEGIN:VEVENT
DTSTART;TZID=Europe/Athens:20210425T200000
DTEND;TZID=Europe/Athens:20210425T220000
DTSTAMP:20260423T015415
CREATED:20210404T191913Z
LAST-MODIFIED:20210404T191931Z
UID:2906-1619380800-1619388000@www.agioi-isidoroi.gr
SUMMARY:Ακολουθία του Νυμφίου Χριστού
DESCRIPTION:Ακολουθία του Νυμφίου Χριστού \n*Περιφορά της εικόνος του Νυμφίου από τον κήπο του Ναού έως την εκκλησία.\n«Ιδού\, ο Νυμφίος έρχεται εν τω μέσω της νυκτός\, και μακάριος ο δούλος\, ον ευρήσει γρηγορούντα. Ανάξιος\nδε πάλιν ον ευρήσει ραθυμούντα. Βλέπε ούν\, ψυχή μου\, μη τω ύπνω κατενεχθείς\, ίνα μη τω θανάτω παραδοθείς\nκαι της βασιλείας έξω κλεισθείς. Αλλά ανάνηψον κράζουσα· Άγιος\, Άγιος\, Άγιος ει ο Θεός ημών\, διά της\nΘεοτόκου ελέησον ημάς».
URL:https://www.agioi-isidoroi.gr/leitourgia/akoloythia-toy-nymfioy-christoy/
LOCATION:Ιερός Ναός Αγίων Ισιδώρων Λυκαβηττού\, Λυκαβηττός\, Αθήνα\, Αττική\, 10210\, Greece
ORGANIZER;CN="%CE%99%CE%B5%CF%81%CF%8C%CF%82 %CE%9D%CE%B1%CF%8C%CF%82 %CE%91%CE%B3%CE%AF%CF%89%CE%BD %CE%99%CF%83%CE%B9%CE%B4%CF%8E%CF%81%CF%89%CE%BD %CE%9B%CF%85%CE%BA%CE%B1%CE%B2%CE%B7%CF%84%CF%84%CE%BF%CF%8D":MAILTO:aisidro@otenet.gr
END:VEVENT
BEGIN:VEVENT
DTSTART;TZID=Europe/Athens:20210425T073000
DTEND;TZID=Europe/Athens:20210425T113000
DTSTAMP:20260423T015415
CREATED:20210404T191735Z
LAST-MODIFIED:20210404T191735Z
UID:2904-1619335800-1619350200@www.agioi-isidoroi.gr
SUMMARY:ΤΩΝ ΒΑΙΩΝ
DESCRIPTION:Όρθρος & Πανηγυρική Θεία Λειτουργία \n*Η εις Ιερουσαλήμ είσοδος του Κυρίου ημών Ιησού Χριστού \n* Στους προσκυνητές θα μοιραστούν βάϊα και σταυρουλάκια.
URL:https://www.agioi-isidoroi.gr/leitourgia/ton-vaion/
LOCATION:Ιερός Ναός Αγίων Ισιδώρων Λυκαβηττού\, Λυκαβηττός\, Αθήνα\, Αττική\, 10210\, Greece
CATEGORIES:Όρθρος Και Θεία Λειτουργία
ORGANIZER;CN="%CE%99%CE%B5%CF%81%CF%8C%CF%82 %CE%9D%CE%B1%CF%8C%CF%82 %CE%91%CE%B3%CE%AF%CF%89%CE%BD %CE%99%CF%83%CE%B9%CE%B4%CF%8E%CF%81%CF%89%CE%BD %CE%9B%CF%85%CE%BA%CE%B1%CE%B2%CE%B7%CF%84%CF%84%CE%BF%CF%8D":MAILTO:aisidro@otenet.gr
END:VEVENT
BEGIN:VEVENT
DTSTART;TZID=Europe/Athens:20210424T183000
DTEND;TZID=Europe/Athens:20210424T220000
DTSTAMP:20260423T015415
CREATED:20210404T191614Z
LAST-MODIFIED:20210404T191614Z
UID:2902-1619289000-1619301600@www.agioi-isidoroi.gr
SUMMARY:Εσπερινός των Βαΐων
DESCRIPTION:Η Ανάσταση του Λαζάρου \nΕσπερινός των Βαΐων
URL:https://www.agioi-isidoroi.gr/leitourgia/esperinos-ton-va-on/
LOCATION:Ιερός Ναός Αγίων Ισιδώρων Λυκαβηττού\, Λυκαβηττός\, Αθήνα\, Αττική\, 10210\, Greece
CATEGORIES:Εσπερινός των Βαΐων
ORGANIZER;CN="%CE%99%CE%B5%CF%81%CF%8C%CF%82 %CE%9D%CE%B1%CF%8C%CF%82 %CE%91%CE%B3%CE%AF%CF%89%CE%BD %CE%99%CF%83%CE%B9%CE%B4%CF%8E%CF%81%CF%89%CE%BD %CE%9B%CF%85%CE%BA%CE%B1%CE%B2%CE%B7%CF%84%CF%84%CE%BF%CF%8D":MAILTO:aisidro@otenet.gr
END:VEVENT
BEGIN:VEVENT
DTSTART;TZID=Europe/Athens:20210424T073000
DTEND;TZID=Europe/Athens:20210424T113000
DTSTAMP:20260423T015415
CREATED:20210404T191509Z
LAST-MODIFIED:20210404T191509Z
UID:2900-1619249400-1619263800@www.agioi-isidoroi.gr
SUMMARY:Η Ανάσταση του Λαζάρου
DESCRIPTION:Όρθρος & Θεία Λειτουργία
URL:https://www.agioi-isidoroi.gr/leitourgia/i-anastasi-toy-lazaroy/
LOCATION:Ιερός Ναός Αγίων Ισιδώρων Λυκαβηττού\, Λυκαβηττός\, Αθήνα\, Αττική\, 10210\, Greece
CATEGORIES:Όρθρος Και Θεία Λειτουργία
ORGANIZER;CN="%CE%99%CE%B5%CF%81%CF%8C%CF%82 %CE%9D%CE%B1%CF%8C%CF%82 %CE%91%CE%B3%CE%AF%CF%89%CE%BD %CE%99%CF%83%CE%B9%CE%B4%CF%8E%CF%81%CF%89%CE%BD %CE%9B%CF%85%CE%BA%CE%B1%CE%B2%CE%B7%CF%84%CF%84%CE%BF%CF%8D":MAILTO:aisidro@otenet.gr
END:VEVENT
BEGIN:VEVENT
DTSTART;TZID=Europe/Athens:20210423T183000
DTEND;TZID=Europe/Athens:20210423T223000
DTSTAMP:20260423T015415
CREATED:20210404T191406Z
LAST-MODIFIED:20210404T191406Z
UID:2898-1619202600-1619217000@www.agioi-isidoroi.gr
SUMMARY:Εσπερινός του Λαζάρου
DESCRIPTION:Εσπερινός του Λαζάρου
URL:https://www.agioi-isidoroi.gr/leitourgia/esperinos-toy-lazaroy/
LOCATION:Αττική
CATEGORIES:Εσπερινός του Λαζάρου
END:VEVENT
BEGIN:VEVENT
DTSTART;TZID=Europe/Athens:20210423T073000
DTEND;TZID=Europe/Athens:20210423T113000
DTSTAMP:20260423T015415
CREATED:20210404T191310Z
LAST-MODIFIED:20210404T191310Z
UID:2896-1619163000-1619177400@www.agioi-isidoroi.gr
SUMMARY:Αγίου Γεωργίου\, προ των Βαΐων
DESCRIPTION:Προηγιασμένη Θεία Λειτουργία
URL:https://www.agioi-isidoroi.gr/leitourgia/agioy-georgioy-pro-ton-va-on/
LOCATION:Ιερός Ναός Αγίων Ισιδώρων Λυκαβηττού\, Λυκαβηττός\, Αθήνα\, Αττική\, 10210\, Greece
CATEGORIES:Θεία Λειτουργία
ORGANIZER;CN="%CE%99%CE%B5%CF%81%CF%8C%CF%82 %CE%9D%CE%B1%CF%8C%CF%82 %CE%91%CE%B3%CE%AF%CF%89%CE%BD %CE%99%CF%83%CE%B9%CE%B4%CF%8E%CF%81%CF%89%CE%BD %CE%9B%CF%85%CE%BA%CE%B1%CE%B2%CE%B7%CF%84%CF%84%CE%BF%CF%8D":MAILTO:aisidro@otenet.gr
END:VEVENT
BEGIN:VEVENT
DTSTART;TZID=Europe/Athens:20210421T073000
DTEND;TZID=Europe/Athens:20210421T110000
DTSTAMP:20260423T015415
CREATED:20210404T191150Z
LAST-MODIFIED:20210404T191150Z
UID:2894-1618990200-1619002800@www.agioi-isidoroi.gr
SUMMARY:Αγίου επίσκ. Ιανουαρίου
DESCRIPTION:Προηγιασμένη Θεία Λειτουργία
URL:https://www.agioi-isidoroi.gr/leitourgia/agioy-episk-ianoyarioy/
LOCATION:Ιερός Ναός Αγίων Ισιδώρων Λυκαβηττού\, Λυκαβηττός\, Αθήνα\, Αττική\, 10210\, Greece
CATEGORIES:Θεία Λειτουργία
ORGANIZER;CN="%CE%99%CE%B5%CF%81%CF%8C%CF%82 %CE%9D%CE%B1%CF%8C%CF%82 %CE%91%CE%B3%CE%AF%CF%89%CE%BD %CE%99%CF%83%CE%B9%CE%B4%CF%8E%CF%81%CF%89%CE%BD %CE%9B%CF%85%CE%BA%CE%B1%CE%B2%CE%B7%CF%84%CF%84%CE%BF%CF%8D":MAILTO:aisidro@otenet.gr
END:VEVENT
BEGIN:VEVENT
DTSTART;TZID=Europe/Athens:20210418T190000
DTEND;TZID=Europe/Athens:20210418T223000
DTSTAMP:20260423T015415
CREATED:20210404T191031Z
LAST-MODIFIED:20210404T191031Z
UID:2892-1618772400-1618785000@www.agioi-isidoroi.gr
SUMMARY:Κατανυκτικός εσπερινός
DESCRIPTION:Κατανυκτικός εσπερινός
URL:https://www.agioi-isidoroi.gr/leitourgia/katanyktikos-esperinos-5/
LOCATION:Ιερός Ναός Αγίων Ισιδώρων Λυκαβηττού\, Λυκαβηττός\, Αθήνα\, Αττική\, 10210\, Greece
CATEGORIES:Εσπερινός
ORGANIZER;CN="%CE%99%CE%B5%CF%81%CF%8C%CF%82 %CE%9D%CE%B1%CF%8C%CF%82 %CE%91%CE%B3%CE%AF%CF%89%CE%BD %CE%99%CF%83%CE%B9%CE%B4%CF%8E%CF%81%CF%89%CE%BD %CE%9B%CF%85%CE%BA%CE%B1%CE%B2%CE%B7%CF%84%CF%84%CE%BF%CF%8D":MAILTO:aisidro@otenet.gr
END:VEVENT
BEGIN:VEVENT
DTSTART;TZID=Europe/Athens:20210418T073000
DTEND;TZID=Europe/Athens:20210418T113000
DTSTAMP:20260423T015415
CREATED:20210404T190933Z
LAST-MODIFIED:20210404T190933Z
UID:2890-1618731000-1618745400@www.agioi-isidoroi.gr
SUMMARY:Ε’ ΝΗΣΤΕΙΩΝ\, Οσίας Μαρίας της Αιγυπτίας
DESCRIPTION:Όρθρος & Πανηγυρική Θεία Λειτουργία
URL:https://www.agioi-isidoroi.gr/leitourgia/e-nisteion-osias-marias-tis-aigyptias/
LOCATION:Ιερός Ναός Αγίων Ισιδώρων Λυκαβηττού\, Λυκαβηττός\, Αθήνα\, Αττική\, 10210\, Greece
CATEGORIES:Όρθρος Και Θεία Λειτουργία
ORGANIZER;CN="%CE%99%CE%B5%CF%81%CF%8C%CF%82 %CE%9D%CE%B1%CF%8C%CF%82 %CE%91%CE%B3%CE%AF%CF%89%CE%BD %CE%99%CF%83%CE%B9%CE%B4%CF%8E%CF%81%CF%89%CE%BD %CE%9B%CF%85%CE%BA%CE%B1%CE%B2%CE%B7%CF%84%CF%84%CE%BF%CF%8D":MAILTO:aisidro@otenet.gr
END:VEVENT
BEGIN:VEVENT
DTSTART;TZID=Europe/Athens:20210417T183000
DTEND;TZID=Europe/Athens:20210417T220000
DTSTAMP:20260423T015415
CREATED:20210404T190838Z
LAST-MODIFIED:20210404T190838Z
UID:2888-1618684200-1618696800@www.agioi-isidoroi.gr
SUMMARY:Πανηγυρικός εσπερινός
DESCRIPTION:Πανηγυρικός εσπερινός
URL:https://www.agioi-isidoroi.gr/leitourgia/panigyrikos-esperinos-2/
LOCATION:Αττική
CATEGORIES:Εσπερινός
END:VEVENT
END:VCALENDAR