BEGIN:VCALENDAR
VERSION:2.0
PRODID:-//ΙΕΡΟΣ ΝΑΟΣ ΑΓΙΩΝ ΙΣΙΔΩΡΩΝ - ECPv6.15.17.1//NONSGML v1.0//EN
CALSCALE:GREGORIAN
METHOD:PUBLISH
X-WR-CALNAME:ΙΕΡΟΣ ΝΑΟΣ ΑΓΙΩΝ ΙΣΙΔΩΡΩΝ
X-ORIGINAL-URL:https://www.agioi-isidoroi.gr
X-WR-CALDESC:Events for ΙΕΡΟΣ ΝΑΟΣ ΑΓΙΩΝ ΙΣΙΔΩΡΩΝ
REFRESH-INTERVAL;VALUE=DURATION:PT1H
X-Robots-Tag:noindex
X-PUBLISHED-TTL:PT1H
BEGIN:VTIMEZONE
TZID:Europe/Athens
BEGIN:DAYLIGHT
TZOFFSETFROM:+0200
TZOFFSETTO:+0300
TZNAME:EEST
DTSTART:20200329T010000
END:DAYLIGHT
BEGIN:STANDARD
TZOFFSETFROM:+0300
TZOFFSETTO:+0200
TZNAME:EET
DTSTART:20201025T010000
END:STANDARD
BEGIN:DAYLIGHT
TZOFFSETFROM:+0200
TZOFFSETTO:+0300
TZNAME:EEST
DTSTART:20210328T010000
END:DAYLIGHT
BEGIN:STANDARD
TZOFFSETFROM:+0300
TZOFFSETTO:+0200
TZNAME:EET
DTSTART:20211031T010000
END:STANDARD
BEGIN:DAYLIGHT
TZOFFSETFROM:+0200
TZOFFSETTO:+0300
TZNAME:EEST
DTSTART:20220327T010000
END:DAYLIGHT
BEGIN:STANDARD
TZOFFSETFROM:+0300
TZOFFSETTO:+0200
TZNAME:EET
DTSTART:20221030T010000
END:STANDARD
END:VTIMEZONE
BEGIN:VEVENT
DTSTART;TZID=Europe/Athens:20210416T073000
DTEND;TZID=Europe/Athens:20210416T113000
DTSTAMP:20260423T005823
CREATED:20210404T190339Z
LAST-MODIFIED:20210404T190339Z
UID:2881-1618558200-1618572600@www.agioi-isidoroi.gr
SUMMARY:Αγίου Αμφιλοχίου εν Πάτμω
DESCRIPTION:Προηγιασμένη Θεία Λειτουργία
URL:https://www.agioi-isidoroi.gr/leitourgia/agioy-amfilochioy-en-patmo/
LOCATION:Ιερός Ναός Αγίων Ισιδώρων Λυκαβηττού\, Λυκαβηττός\, Αθήνα\, Αττική\, 10210\, Greece
CATEGORIES:Θεία Λειτουργία
ORGANIZER;CN="%CE%99%CE%B5%CF%81%CF%8C%CF%82 %CE%9D%CE%B1%CF%8C%CF%82 %CE%91%CE%B3%CE%AF%CF%89%CE%BD %CE%99%CF%83%CE%B9%CE%B4%CF%8E%CF%81%CF%89%CE%BD %CE%9B%CF%85%CE%BA%CE%B1%CE%B2%CE%B7%CF%84%CF%84%CE%BF%CF%8D":MAILTO:aisidro@otenet.gr
END:VEVENT
BEGIN:VEVENT
DTSTART;TZID=Europe/Athens:20210415T183000
DTEND;TZID=Europe/Athens:20210415T213000
DTSTAMP:20260423T005823
CREATED:20210404T190224Z
LAST-MODIFIED:20210404T190224Z
UID:2879-1618511400-1618522200@www.agioi-isidoroi.gr
SUMMARY:Μεγάλο  Απόδειπνο
DESCRIPTION:Μεγάλο Απόδειπνο
URL:https://www.agioi-isidoroi.gr/leitourgia/megalo-apodeipno-6/
LOCATION:Ιερός Ναός Αγίων Ισιδώρων Λυκαβηττού\, Λυκαβηττός\, Αθήνα\, Αττική\, 10210\, Greece
CATEGORIES:Μεγάλο Απόδειπνο
ORGANIZER;CN="%CE%99%CE%B5%CF%81%CF%8C%CF%82 %CE%9D%CE%B1%CF%8C%CF%82 %CE%91%CE%B3%CE%AF%CF%89%CE%BD %CE%99%CF%83%CE%B9%CE%B4%CF%8E%CF%81%CF%89%CE%BD %CE%9B%CF%85%CE%BA%CE%B1%CE%B2%CE%B7%CF%84%CF%84%CE%BF%CF%8D":MAILTO:aisidro@otenet.gr
END:VEVENT
BEGIN:VEVENT
DTSTART;TZID=Europe/Athens:20210415T073000
DTEND;TZID=Europe/Athens:20210415T113000
DTSTAMP:20260423T005823
CREATED:20210404T190148Z
LAST-MODIFIED:20210404T190148Z
UID:2877-1618471800-1618486200@www.agioi-isidoroi.gr
SUMMARY:Του Μεγάλου Κανόνος
DESCRIPTION:Προηγιασμένη Θεία Λειτουργία
URL:https://www.agioi-isidoroi.gr/leitourgia/toy-megaloy-kanonos/
LOCATION:Ιερός Ναός Αγίων Ισιδώρων Λυκαβηττού\, Λυκαβηττός\, Αθήνα\, Αττική\, 10210\, Greece
CATEGORIES:Θεία Λειτουργία
ORGANIZER;CN="%CE%99%CE%B5%CF%81%CF%8C%CF%82 %CE%9D%CE%B1%CF%8C%CF%82 %CE%91%CE%B3%CE%AF%CF%89%CE%BD %CE%99%CF%83%CE%B9%CE%B4%CF%8E%CF%81%CF%89%CE%BD %CE%9B%CF%85%CE%BA%CE%B1%CE%B2%CE%B7%CF%84%CF%84%CE%BF%CF%8D":MAILTO:aisidro@otenet.gr
END:VEVENT
BEGIN:VEVENT
DTSTART;TZID=Europe/Athens:20210414T073000
DTEND;TZID=Europe/Athens:20210414T110000
DTSTAMP:20260423T005823
CREATED:20210404T185929Z
LAST-MODIFIED:20210404T185929Z
UID:2873-1618385400-1618398000@www.agioi-isidoroi.gr
SUMMARY:Αγ. μάρτ. Θωμαΐδος\, Νεομάρτ. Δημητρίου
DESCRIPTION:Προηγιασμένη Θεία Λειτουργία
URL:https://www.agioi-isidoroi.gr/leitourgia/ag-mart-thoma-dos-neomart-dimitrioy/
LOCATION:Ιερός Ναός Αγίων Ισιδώρων Λυκαβηττού\, Λυκαβηττός\, Αθήνα\, Αττική\, 10210\, Greece
CATEGORIES:Θεία Λειτουργία
ORGANIZER;CN="%CE%99%CE%B5%CF%81%CF%8C%CF%82 %CE%9D%CE%B1%CF%8C%CF%82 %CE%91%CE%B3%CE%AF%CF%89%CE%BD %CE%99%CF%83%CE%B9%CE%B4%CF%8E%CF%81%CF%89%CE%BD %CE%9B%CF%85%CE%BA%CE%B1%CE%B2%CE%B7%CF%84%CF%84%CE%BF%CF%8D":MAILTO:aisidro@otenet.gr
END:VEVENT
BEGIN:VEVENT
DTSTART;TZID=Europe/Athens:20210413T183000
DTEND;TZID=Europe/Athens:20210413T213000
DTSTAMP:20260423T005823
CREATED:20210404T185841Z
LAST-MODIFIED:20210404T185841Z
UID:2871-1618338600-1618349400@www.agioi-isidoroi.gr
SUMMARY:Μεγάλο  Απόδειπνο
DESCRIPTION:Μεγάλο Απόδειπνο
URL:https://www.agioi-isidoroi.gr/leitourgia/megalo-apodeipno-5/
LOCATION:Ιερός Ναός Αγίων Ισιδώρων Λυκαβηττού\, Λυκαβηττός\, Αθήνα\, Αττική\, 10210\, Greece
CATEGORIES:Μεγάλο Απόδειπνο
ORGANIZER;CN="%CE%99%CE%B5%CF%81%CF%8C%CF%82 %CE%9D%CE%B1%CF%8C%CF%82 %CE%91%CE%B3%CE%AF%CF%89%CE%BD %CE%99%CF%83%CE%B9%CE%B4%CF%8E%CF%81%CF%89%CE%BD %CE%9B%CF%85%CE%BA%CE%B1%CE%B2%CE%B7%CF%84%CF%84%CE%BF%CF%8D":MAILTO:aisidro@otenet.gr
END:VEVENT
BEGIN:VEVENT
DTSTART;TZID=Europe/Athens:20210413T073000
DTEND;TZID=Europe/Athens:20210413T113000
DTSTAMP:20260423T005823
CREATED:20210404T185755Z
LAST-MODIFIED:20210404T185755Z
UID:2869-1618299000-1618313400@www.agioi-isidoroi.gr
SUMMARY:Μαρτίνου Πάπα Ρώμης
DESCRIPTION:Προηγιασμένη Θεία Λειτουργία
URL:https://www.agioi-isidoroi.gr/leitourgia/martinoy-papa-romis/
LOCATION:Ιερός Ναός Αγίων Ισιδώρων Λυκαβηττού\, Λυκαβηττός\, Αθήνα\, Αττική\, 10210\, Greece
CATEGORIES:Θεία Λειτουργία
ORGANIZER;CN="%CE%99%CE%B5%CF%81%CF%8C%CF%82 %CE%9D%CE%B1%CF%8C%CF%82 %CE%91%CE%B3%CE%AF%CF%89%CE%BD %CE%99%CF%83%CE%B9%CE%B4%CF%8E%CF%81%CF%89%CE%BD %CE%9B%CF%85%CE%BA%CE%B1%CE%B2%CE%B7%CF%84%CF%84%CE%BF%CF%8D":MAILTO:aisidro@otenet.gr
END:VEVENT
BEGIN:VEVENT
DTSTART;TZID=Europe/Athens:20210412T183000
DTEND;TZID=Europe/Athens:20210412T220000
DTSTAMP:20260423T005823
CREATED:20210404T185642Z
LAST-MODIFIED:20210404T185642Z
UID:2867-1618252200-1618264800@www.agioi-isidoroi.gr
SUMMARY:Προηγιασμένη Θεία Λειτουργία
DESCRIPTION:Προηγιασμένη Θεία Λειτουργία
URL:https://www.agioi-isidoroi.gr/leitourgia/proigiasmeni-theia-leitoyrgia-10/
LOCATION:Ιερός Ναός Αγίων Ισιδώρων Λυκαβηττού\, Λυκαβηττός\, Αθήνα\, Αττική\, 10210\, Greece
CATEGORIES:Θεία Λειτουργία
ORGANIZER;CN="%CE%99%CE%B5%CF%81%CF%8C%CF%82 %CE%9D%CE%B1%CF%8C%CF%82 %CE%91%CE%B3%CE%AF%CF%89%CE%BD %CE%99%CF%83%CE%B9%CE%B4%CF%8E%CF%81%CF%89%CE%BD %CE%9B%CF%85%CE%BA%CE%B1%CE%B2%CE%B7%CF%84%CF%84%CE%BF%CF%8D":MAILTO:aisidro@otenet.gr
END:VEVENT
BEGIN:VEVENT
DTSTART;TZID=Europe/Athens:20210412T073000
DTEND;TZID=Europe/Athens:20210412T113000
DTSTAMP:20260423T005823
CREATED:20210404T185604Z
LAST-MODIFIED:20210404T185604Z
UID:2865-1618212600-1618227000@www.agioi-isidoroi.gr
SUMMARY:Αγίου Βασιλείου επίσκ Παρίου
DESCRIPTION:Προηγιασμένη Θεία Λειτουργία
URL:https://www.agioi-isidoroi.gr/leitourgia/agioy-vasileioy-episk-parioy/
LOCATION:Αττική
CATEGORIES:Θεία Λειτουργία
END:VEVENT
BEGIN:VEVENT
DTSTART;TZID=Europe/Athens:20210411T190000
DTEND;TZID=Europe/Athens:20210411T223000
DTSTAMP:20260423T005823
CREATED:20210404T185500Z
LAST-MODIFIED:20210404T185500Z
UID:2863-1618167600-1618180200@www.agioi-isidoroi.gr
SUMMARY:Κατανυκτικός Εσπερινός
DESCRIPTION:Κατανυκτικός Εσπερινός
URL:https://www.agioi-isidoroi.gr/leitourgia/katanyktikos-esperinos-4/
LOCATION:Ιερός Ναός Αγίων Ισιδώρων Λυκαβηττού\, Λυκαβηττός\, Αθήνα\, Αττική\, 10210\, Greece
CATEGORIES:Εσπερινός
ORGANIZER;CN="%CE%99%CE%B5%CF%81%CF%8C%CF%82 %CE%9D%CE%B1%CF%8C%CF%82 %CE%91%CE%B3%CE%AF%CF%89%CE%BD %CE%99%CF%83%CE%B9%CE%B4%CF%8E%CF%81%CF%89%CE%BD %CE%9B%CF%85%CE%BA%CE%B1%CE%B2%CE%B7%CF%84%CF%84%CE%BF%CF%8D":MAILTO:aisidro@otenet.gr
END:VEVENT
BEGIN:VEVENT
DTSTART;TZID=Europe/Athens:20210411T073000
DTEND;TZID=Europe/Athens:20210411T113000
DTSTAMP:20260423T005823
CREATED:20210404T185413Z
LAST-MODIFIED:20210404T185413Z
UID:2861-1618126200-1618140600@www.agioi-isidoroi.gr
SUMMARY:Δ’ ΝΗΣΤΕΙΩΝ\, Ιωάννου της Κλίμακος
DESCRIPTION:Όρθρος & Θεία Λειτουργία
URL:https://www.agioi-isidoroi.gr/leitourgia/d-nisteion-ioannoy-tis-klimakos/
LOCATION:Ιερός Ναός Αγίων Ισιδώρων Λυκαβηττού\, Λυκαβηττός\, Αθήνα\, Αττική\, 10210\, Greece
CATEGORIES:Θεία Λειτουργία
ORGANIZER;CN="%CE%99%CE%B5%CF%81%CF%8C%CF%82 %CE%9D%CE%B1%CF%8C%CF%82 %CE%91%CE%B3%CE%AF%CF%89%CE%BD %CE%99%CF%83%CE%B9%CE%B4%CF%8E%CF%81%CF%89%CE%BD %CE%9B%CF%85%CE%BA%CE%B1%CE%B2%CE%B7%CF%84%CF%84%CE%BF%CF%8D":MAILTO:aisidro@otenet.gr
END:VEVENT
BEGIN:VEVENT
DTSTART;TZID=Europe/Athens:20210410T183000
DTEND;TZID=Europe/Athens:20210410T223000
DTSTAMP:20260423T005823
CREATED:20210404T185318Z
LAST-MODIFIED:20210404T185318Z
UID:2859-1618079400-1618093800@www.agioi-isidoroi.gr
SUMMARY:Εσπερινός Δ’ Νηστειών
DESCRIPTION:Εσπερινός Δ’ Νηστειών
URL:https://www.agioi-isidoroi.gr/leitourgia/esperinos-d-nisteion/
LOCATION:Ιερός Ναός Αγίων Ισιδώρων Λυκαβηττού\, Λυκαβηττός\, Αθήνα\, Αττική\, 10210\, Greece
CATEGORIES:Εσπερινός
ORGANIZER;CN="%CE%99%CE%B5%CF%81%CF%8C%CF%82 %CE%9D%CE%B1%CF%8C%CF%82 %CE%91%CE%B3%CE%AF%CF%89%CE%BD %CE%99%CF%83%CE%B9%CE%B4%CF%8E%CF%81%CF%89%CE%BD %CE%9B%CF%85%CE%BA%CE%B1%CE%B2%CE%B7%CF%84%CF%84%CE%BF%CF%8D":MAILTO:aisidro@otenet.gr
END:VEVENT
BEGIN:VEVENT
DTSTART;TZID=Europe/Athens:20210410T073000
DTEND;TZID=Europe/Athens:20210410T110000
DTSTAMP:20260423T005823
CREATED:20210404T185011Z
LAST-MODIFIED:20210404T185011Z
UID:2857-1618039800-1618052400@www.agioi-isidoroi.gr
SUMMARY:Γρηγορίου του Ε’ Πατριάρχου Κων/πόλεως
DESCRIPTION:
URL:https://www.agioi-isidoroi.gr/leitourgia/grigorioy-toy-e-patriarchoy-kon-poleos/
LOCATION:Ιερός Ναός Αγίων Ισιδώρων Λυκαβηττού\, Λυκαβηττός\, Αθήνα\, Αττική\, 10210\, Greece
CATEGORIES:Εσπερινός
ORGANIZER;CN="%CE%99%CE%B5%CF%81%CF%8C%CF%82 %CE%9D%CE%B1%CF%8C%CF%82 %CE%91%CE%B3%CE%AF%CF%89%CE%BD %CE%99%CF%83%CE%B9%CE%B4%CF%8E%CF%81%CF%89%CE%BD %CE%9B%CF%85%CE%BA%CE%B1%CE%B2%CE%B7%CF%84%CF%84%CE%BF%CF%8D":MAILTO:aisidro@otenet.gr
END:VEVENT
BEGIN:VEVENT
DTSTART;TZID=Europe/Athens:20210409T193000
DTEND;TZID=Europe/Athens:20210409T220000
DTSTAMP:20260423T005823
CREATED:20210404T184838Z
LAST-MODIFIED:20210404T185141Z
UID:2855-1617996600-1618005600@www.agioi-isidoroi.gr
SUMMARY:Δ’ ΧΑΙΡΕΤΙΣΜΟΙ ΤΗΣ ΠΑΝΑΓΙΑΣ
DESCRIPTION:Δ’ ΧΑΙΡΕΤΙΣΜΟΙ ΤΗΣ ΠΑΝΑΓΙΑΣ
URL:https://www.agioi-isidoroi.gr/leitourgia/d-chairetismoi-tis-panagias/
LOCATION:Ιερός Ναός Αγίων Ισιδώρων Λυκαβηττού\, Λυκαβηττός\, Αθήνα\, Αττική\, 10210\, Greece
CATEGORIES:Χαιρετισμοί της Παναγίας
ORGANIZER;CN="%CE%99%CE%B5%CF%81%CF%8C%CF%82 %CE%9D%CE%B1%CF%8C%CF%82 %CE%91%CE%B3%CE%AF%CF%89%CE%BD %CE%99%CF%83%CE%B9%CE%B4%CF%8E%CF%81%CF%89%CE%BD %CE%9B%CF%85%CE%BA%CE%B1%CE%B2%CE%B7%CF%84%CF%84%CE%BF%CF%8D":MAILTO:aisidro@otenet.gr
END:VEVENT
BEGIN:VEVENT
DTSTART;TZID=Europe/Athens:20210409T073000
DTEND;TZID=Europe/Athens:20210409T113000
DTSTAMP:20260423T005823
CREATED:20210404T184748Z
LAST-MODIFIED:20210404T185105Z
UID:2853-1617953400-1617967800@www.agioi-isidoroi.gr
SUMMARY:Αγίου μάρτυρος Ευψυχίου
DESCRIPTION:Προηγιασμένη Θεία Λειτουργία
URL:https://www.agioi-isidoroi.gr/leitourgia/agioy-martyros-eypsychioy/
LOCATION:Ιερός Ναός Αγίων Ισιδώρων Λυκαβηττού\, Λυκαβηττός\, Αθήνα\, Αττική\, 10210\, Greece
CATEGORIES:Θεία Λειτουργία
ORGANIZER;CN="%CE%99%CE%B5%CF%81%CF%8C%CF%82 %CE%9D%CE%B1%CF%8C%CF%82 %CE%91%CE%B3%CE%AF%CF%89%CE%BD %CE%99%CF%83%CE%B9%CE%B4%CF%8E%CF%81%CF%89%CE%BD %CE%9B%CF%85%CE%BA%CE%B1%CE%B2%CE%B7%CF%84%CF%84%CE%BF%CF%8D":MAILTO:aisidro@otenet.gr
END:VEVENT
BEGIN:VEVENT
DTSTART;TZID=Europe/Athens:20210408T183000
DTEND;TZID=Europe/Athens:20210408T213000
DTSTAMP:20260423T005823
CREATED:20210404T184559Z
LAST-MODIFIED:20210404T184559Z
UID:2851-1617906600-1617917400@www.agioi-isidoroi.gr
SUMMARY:Μεγάλο Απόδειπνο
DESCRIPTION:Μεγάλο Απόδειπνο
URL:https://www.agioi-isidoroi.gr/leitourgia/megalo-apodeipno-4/
LOCATION:Ιερός Ναός Αγίων Ισιδώρων Λυκαβηττού\, Λυκαβηττός\, Αθήνα\, Αττική\, 10210\, Greece
CATEGORIES:Μεγάλο Απόδειπνο
ORGANIZER;CN="%CE%99%CE%B5%CF%81%CF%8C%CF%82 %CE%9D%CE%B1%CF%8C%CF%82 %CE%91%CE%B3%CE%AF%CF%89%CE%BD %CE%99%CF%83%CE%B9%CE%B4%CF%8E%CF%81%CF%89%CE%BD %CE%9B%CF%85%CE%BA%CE%B1%CE%B2%CE%B7%CF%84%CF%84%CE%BF%CF%8D":MAILTO:aisidro@otenet.gr
END:VEVENT
BEGIN:VEVENT
DTSTART;TZID=Europe/Athens:20210408T073000
DTEND;TZID=Europe/Athens:20210408T113000
DTSTAMP:20260423T005823
CREATED:20210404T184508Z
LAST-MODIFIED:20210404T184508Z
UID:2848-1617867000-1617881400@www.agioi-isidoroi.gr
SUMMARY:Άγιοι Άγαβος\,Ρούφος\, Φλέγων\, Ασύγκριτος εκ των 70 αποστ.
DESCRIPTION:Προηγιασμένη Θεία Λειτουργία
URL:https://www.agioi-isidoroi.gr/leitourgia/agioi-agavos-royfos-flegon-asygkritos-ek-ton-70-apost/
LOCATION:Ιερός Ναός Αγίων Ισιδώρων Λυκαβηττού\, Λυκαβηττός\, Αθήνα\, Αττική\, 10210\, Greece
CATEGORIES:Θεία Λειτουργία
ORGANIZER;CN="%CE%99%CE%B5%CF%81%CF%8C%CF%82 %CE%9D%CE%B1%CF%8C%CF%82 %CE%91%CE%B3%CE%AF%CF%89%CE%BD %CE%99%CF%83%CE%B9%CE%B4%CF%8E%CF%81%CF%89%CE%BD %CE%9B%CF%85%CE%BA%CE%B1%CE%B2%CE%B7%CF%84%CF%84%CE%BF%CF%8D":MAILTO:aisidro@otenet.gr
END:VEVENT
BEGIN:VEVENT
DTSTART;TZID=Europe/Athens:20210407T183000
DTEND;TZID=Europe/Athens:20210407T213000
DTSTAMP:20260423T005823
CREATED:20210404T184354Z
LAST-MODIFIED:20210404T184354Z
UID:2846-1617820200-1617831000@www.agioi-isidoroi.gr
SUMMARY:Προηγιασμένη Θεία Λειτουργία
DESCRIPTION:Προηγιασμένη Θεία Λειτουργία
URL:https://www.agioi-isidoroi.gr/leitourgia/proigiasmeni-theia-leitoyrgia-9/
LOCATION:Ιερός Ναός Αγίων Ισιδώρων Λυκαβηττού\, Λυκαβηττός\, Αθήνα\, Αττική\, 10210\, Greece
CATEGORIES:Θεία Λειτουργία
ORGANIZER;CN="%CE%99%CE%B5%CF%81%CF%8C%CF%82 %CE%9D%CE%B1%CF%8C%CF%82 %CE%91%CE%B3%CE%AF%CF%89%CE%BD %CE%99%CF%83%CE%B9%CE%B4%CF%8E%CF%81%CF%89%CE%BD %CE%9B%CF%85%CE%BA%CE%B1%CE%B2%CE%B7%CF%84%CF%84%CE%BF%CF%8D":MAILTO:aisidro@otenet.gr
END:VEVENT
BEGIN:VEVENT
DTSTART;TZID=Europe/Athens:20210407T073000
DTEND;TZID=Europe/Athens:20210407T093000
DTSTAMP:20260423T005824
CREATED:20210404T184312Z
LAST-MODIFIED:20210404T200115Z
UID:2844-1617780600-1617787800@www.agioi-isidoroi.gr
SUMMARY:Οσίου Σάββα εν Καλύμνω
DESCRIPTION:Προηγιασμένη Θεία Λειτουργία
URL:https://www.agioi-isidoroi.gr/leitourgia/osioy-savva-en-kalymno/
LOCATION:Ιερός Ναός Αγίων Ισιδώρων Λυκαβηττού\, Λυκαβηττός\, Αθήνα\, Αττική\, 10210\, Greece
CATEGORIES:Θεία Λειτουργία
ORGANIZER;CN="%CE%99%CE%B5%CF%81%CF%8C%CF%82 %CE%9D%CE%B1%CF%8C%CF%82 %CE%91%CE%B3%CE%AF%CF%89%CE%BD %CE%99%CF%83%CE%B9%CE%B4%CF%8E%CF%81%CF%89%CE%BD %CE%9B%CF%85%CE%BA%CE%B1%CE%B2%CE%B7%CF%84%CF%84%CE%BF%CF%8D":MAILTO:aisidro@otenet.gr
END:VEVENT
BEGIN:VEVENT
DTSTART;TZID=Europe/Athens:20210406T183000
DTEND;TZID=Europe/Athens:20210406T210000
DTSTAMP:20260423T005824
CREATED:20210404T184225Z
LAST-MODIFIED:20210404T184225Z
UID:2842-1617733800-1617742800@www.agioi-isidoroi.gr
SUMMARY:Μεγάλο Απόδειπνο
DESCRIPTION:Μεγάλο Απόδειπνο
URL:https://www.agioi-isidoroi.gr/leitourgia/megalo-apodeipno-3/
LOCATION:Ιερός Ναός Αγίων Ισιδώρων Λυκαβηττού\, Λυκαβηττός\, Αθήνα\, Αττική\, 10210\, Greece
CATEGORIES:Μεγάλο Απόδειπνο
ORGANIZER;CN="%CE%99%CE%B5%CF%81%CF%8C%CF%82 %CE%9D%CE%B1%CF%8C%CF%82 %CE%91%CE%B3%CE%AF%CF%89%CE%BD %CE%99%CF%83%CE%B9%CE%B4%CF%8E%CF%81%CF%89%CE%BD %CE%9B%CF%85%CE%BA%CE%B1%CE%B2%CE%B7%CF%84%CF%84%CE%BF%CF%8D":MAILTO:aisidro@otenet.gr
END:VEVENT
BEGIN:VEVENT
DTSTART;TZID=Europe/Athens:20210406T073000
DTEND;TZID=Europe/Athens:20210406T110000
DTSTAMP:20260423T005824
CREATED:20210404T183956Z
LAST-MODIFIED:20210405T063801Z
UID:2836-1617694200-1617706800@www.agioi-isidoroi.gr
SUMMARY:Οσίας Θεοδώρας εν Θεσσαλονίκη
DESCRIPTION:Προηγιασμένη Θεία Λειτουργία
URL:https://www.agioi-isidoroi.gr/leitourgia/osias-theodoras-en-thessaloniki/
LOCATION:Ιερός Ναός Αγίων Ισιδώρων Λυκαβηττού\, Λυκαβηττός\, Αθήνα\, Αττική\, 10210\, Greece
CATEGORIES:Θεία Λειτουργία
ORGANIZER;CN="%CE%99%CE%B5%CF%81%CF%8C%CF%82 %CE%9D%CE%B1%CF%8C%CF%82 %CE%91%CE%B3%CE%AF%CF%89%CE%BD %CE%99%CF%83%CE%B9%CE%B4%CF%8E%CF%81%CF%89%CE%BD %CE%9B%CF%85%CE%BA%CE%B1%CE%B2%CE%B7%CF%84%CF%84%CE%BF%CF%8D":MAILTO:aisidro@otenet.gr
END:VEVENT
BEGIN:VEVENT
DTSTART;TZID=Europe/Athens:20210405T183000
DTEND;TZID=Europe/Athens:20210405T210000
DTSTAMP:20260423T005824
CREATED:20210404T184054Z
LAST-MODIFIED:20210404T184054Z
UID:2838-1617647400-1617656400@www.agioi-isidoroi.gr
SUMMARY:Προηγιασμένη Θεία Λειτουργία
DESCRIPTION:Οσίας Θεοδώρας εν Θεσσαλονίκη \nΠροηγιασμένη Θεία Λειτουργία
URL:https://www.agioi-isidoroi.gr/leitourgia/proigiasmeni-theia-leitoyrgia-8/
LOCATION:Ιερός Ναός Αγίων Ισιδώρων Λυκαβηττού\, Λυκαβηττός\, Αθήνα\, Αττική\, 10210\, Greece
CATEGORIES:Θεία Λειτουργία
ORGANIZER;CN="%CE%99%CE%B5%CF%81%CF%8C%CF%82 %CE%9D%CE%B1%CF%8C%CF%82 %CE%91%CE%B3%CE%AF%CF%89%CE%BD %CE%99%CF%83%CE%B9%CE%B4%CF%8E%CF%81%CF%89%CE%BD %CE%9B%CF%85%CE%BA%CE%B1%CE%B2%CE%B7%CF%84%CF%84%CE%BF%CF%8D":MAILTO:aisidro@otenet.gr
END:VEVENT
BEGIN:VEVENT
DTSTART;TZID=Europe/Athens:20210405T073000
DTEND;TZID=Europe/Athens:20210405T120000
DTSTAMP:20260423T005824
CREATED:20210404T184147Z
LAST-MODIFIED:20210405T063731Z
UID:2840-1617607800-1617624000@www.agioi-isidoroi.gr
SUMMARY:Ευτυχίου πατρ. Κων/πόλεως
DESCRIPTION:Προηγιασμένη Θεία Λειτουργία
URL:https://www.agioi-isidoroi.gr/leitourgia/eytychioy-patr-kon-poleos/
LOCATION:Ιερός Ναός Αγίων Ισιδώρων Λυκαβηττού\, Λυκαβηττός\, Αθήνα\, Αττική\, 10210\, Greece
CATEGORIES:Θεία Λειτουργία
ORGANIZER;CN="%CE%99%CE%B5%CF%81%CF%8C%CF%82 %CE%9D%CE%B1%CF%8C%CF%82 %CE%91%CE%B3%CE%AF%CF%89%CE%BD %CE%99%CF%83%CE%B9%CE%B4%CF%8E%CF%81%CF%89%CE%BD %CE%9B%CF%85%CE%BA%CE%B1%CE%B2%CE%B7%CF%84%CF%84%CE%BF%CF%8D":MAILTO:aisidro@otenet.gr
END:VEVENT
BEGIN:VEVENT
DTSTART;TZID=Europe/Athens:20210404T190000
DTEND;TZID=Europe/Athens:20210404T213000
DTSTAMP:20260423T005824
CREATED:20210404T183857Z
LAST-MODIFIED:20210404T183857Z
UID:2834-1617562800-1617571800@www.agioi-isidoroi.gr
SUMMARY:Κατανυκτικός Εσπερινός
DESCRIPTION:
URL:https://www.agioi-isidoroi.gr/leitourgia/katanyktikos-esperinos-3/
LOCATION:Ιερός Ναός Αγίων Ισιδώρων Λυκαβηττού\, Λυκαβηττός\, Αθήνα\, Αττική\, 10210\, Greece
ORGANIZER;CN="%CE%99%CE%B5%CF%81%CF%8C%CF%82 %CE%9D%CE%B1%CF%8C%CF%82 %CE%91%CE%B3%CE%AF%CF%89%CE%BD %CE%99%CF%83%CE%B9%CE%B4%CF%8E%CF%81%CF%89%CE%BD %CE%9B%CF%85%CE%BA%CE%B1%CE%B2%CE%B7%CF%84%CF%84%CE%BF%CF%8D":MAILTO:aisidro@otenet.gr
END:VEVENT
BEGIN:VEVENT
DTSTART;TZID=Europe/Athens:20210404T183000
DTEND;TZID=Europe/Athens:20210404T223000
DTSTAMP:20260423T005824
CREATED:20210404T190105Z
LAST-MODIFIED:20210404T190105Z
UID:2875-1617561000-1617575400@www.agioi-isidoroi.gr
SUMMARY:Προηγιασμένη Θεία Λειτουργία
DESCRIPTION:Προηγιασμένη Θεία Λειτουργία
URL:https://www.agioi-isidoroi.gr/leitourgia/proigiasmeni-theia-leitoyrgia-11/
LOCATION:Ιερός Ναός Αγίων Ισιδώρων Λυκαβηττού\, Λυκαβηττός\, Αθήνα\, Αττική\, 10210\, Greece
CATEGORIES:Θεία Λειτουργία
ORGANIZER;CN="%CE%99%CE%B5%CF%81%CF%8C%CF%82 %CE%9D%CE%B1%CF%8C%CF%82 %CE%91%CE%B3%CE%AF%CF%89%CE%BD %CE%99%CF%83%CE%B9%CE%B4%CF%8E%CF%81%CF%89%CE%BD %CE%9B%CF%85%CE%BA%CE%B1%CE%B2%CE%B7%CF%84%CF%84%CE%BF%CF%8D":MAILTO:aisidro@otenet.gr
END:VEVENT
BEGIN:VEVENT
DTSTART;TZID=Europe/Athens:20210404T183000
DTEND;TZID=Europe/Athens:20210404T190000
DTSTAMP:20260423T005824
CREATED:20210404T183821Z
LAST-MODIFIED:20210404T183821Z
UID:2832-1617561000-1617562800@www.agioi-isidoroi.gr
SUMMARY:Εγκώμια Τιμίου Σταυρού
DESCRIPTION:Εγκώμια Τιμίου Σταυρού
URL:https://www.agioi-isidoroi.gr/leitourgia/egkomia-timioy-stayroy/
LOCATION:Αττική
END:VEVENT
BEGIN:VEVENT
DTSTART;TZID=Europe/Athens:20210404T073000
DTEND;TZID=Europe/Athens:20210404T120000
DTSTAMP:20260423T005824
CREATED:20210404T194938Z
LAST-MODIFIED:20210404T194938Z
UID:2949-1617521400-1617537600@www.agioi-isidoroi.gr
SUMMARY:Αγίων Ραφαήλ Νικολάου & Ειρήνης
DESCRIPTION:Όρθρος & Θεία Λειτουργία \n*Η Θεία Λειτουργία θα τελεστεί στο εικονοστάσιο του Σωτήρος Χριστού.\n*Θα τεθεί για προσκύνημα ιερό λείψανο του Αγίου Ραφαήλ.
URL:https://www.agioi-isidoroi.gr/leitourgia/agion-rafail-nikolaoy-amp-eirinis/
LOCATION:Αττική
END:VEVENT
BEGIN:VEVENT
DTSTART;TZID=Europe/Athens:20210404T073000
DTEND;TZID=Europe/Athens:20210404T113000
DTSTAMP:20260423T005824
CREATED:20210404T183725Z
LAST-MODIFIED:20210404T183740Z
UID:2829-1617521400-1617535800@www.agioi-isidoroi.gr
SUMMARY:Γ’ ΝΗΣΤΕΙΩΝ\, ΤΗΣ  ΣΤΑΥΡΟΠΡΟΣΚΥΝΗΣΕΩΣ
DESCRIPTION:Όρθρος & Πανηγυρική Θεία Λειτουργία \nΤΕΛΕΤΗ ΠΡΟΣΚΥΝΗΣΕΩΣ ΤΟΥ ΤΙΜΙΟΥ ΣΤΑΥΡΟΥ
URL:https://www.agioi-isidoroi.gr/leitourgia/g-nisteion-tis-stayroproskyniseos/
LOCATION:Αττική
CATEGORIES:Όρθρος Και Θεία Λειτουργία
END:VEVENT
BEGIN:VEVENT
DTSTART;VALUE=DATE:20210404
DTEND;VALUE=DATE:20210405
DTSTAMP:20260423T005824
CREATED:20210404T183403Z
LAST-MODIFIED:20210404T183403Z
UID:2823-1617494400-1617580799@www.agioi-isidoroi.gr
SUMMARY:ΘΑΥΜΑΣΤΗ  ΙΕΡΑ  ΠΑΝΗΓΥΡΙΣ ΤΗΣ  ΣΤΑΥΡΟΠΡΟΣΚΥΝΗΣΕΩΣ - ΤΙΜΙΟΥ  ΣΤΑΥΡΟΥ
DESCRIPTION:+Καθ’ όλη τη διάρκεια της ημέρας θα βρίσκεται προς ευλογία ο ΤΙΜΙΟΣ ΣΤΑΥΡΟΣ \n* Θα τεθεί σε προσκύνηση τεμάχιο ΤΙΜΙΟΥ ΞΥΛΟΥ.\n* Στους προσκυνητές θα δοθούν ως ευλογία σταυρολούλουδα και σταυρουλάκια.
URL:https://www.agioi-isidoroi.gr/leitourgia/thaymasti-iera-panigyris-tis-stayroproskyniseos-timioy-stayroy/
LOCATION:Ιερός Ναός Αγίων Ισιδώρων Λυκαβηττού\, Λυκαβηττός\, Αθήνα\, Αττική\, 10210\, Greece
ORGANIZER;CN="%CE%99%CE%B5%CF%81%CF%8C%CF%82 %CE%9D%CE%B1%CF%8C%CF%82 %CE%91%CE%B3%CE%AF%CF%89%CE%BD %CE%99%CF%83%CE%B9%CE%B4%CF%8E%CF%81%CF%89%CE%BD %CE%9B%CF%85%CE%BA%CE%B1%CE%B2%CE%B7%CF%84%CF%84%CE%BF%CF%8D":MAILTO:aisidro@otenet.gr
END:VEVENT
BEGIN:VEVENT
DTSTART;TZID=Europe/Athens:20210403T213000
DTEND;TZID=Europe/Athens:20210404T070000
DTSTAMP:20260423T005824
CREATED:20210404T183629Z
LAST-MODIFIED:20210404T183629Z
UID:2827-1617485400-1617519600@www.agioi-isidoroi.gr
SUMMARY:ΙΕΡΑ  ΑΓΡΥΠΝΙΑ
DESCRIPTION:ΙΕΡΑ ΑΓΡΥΠΝΙΑ
URL:https://www.agioi-isidoroi.gr/leitourgia/iera-agrypnia/
LOCATION:Ιερός Ναός Αγίων Ισιδώρων Λυκαβηττού\, Λυκαβηττός\, Αθήνα\, Αττική\, 10210\, Greece
CATEGORIES:Ιερά Αγρυπνία
ORGANIZER;CN="%CE%99%CE%B5%CF%81%CF%8C%CF%82 %CE%9D%CE%B1%CF%8C%CF%82 %CE%91%CE%B3%CE%AF%CF%89%CE%BD %CE%99%CF%83%CE%B9%CE%B4%CF%8E%CF%81%CF%89%CE%BD %CE%9B%CF%85%CE%BA%CE%B1%CE%B2%CE%B7%CF%84%CF%84%CE%BF%CF%8D":MAILTO:aisidro@otenet.gr
END:VEVENT
BEGIN:VEVENT
DTSTART;TZID=Europe/Athens:20210403T183000
DTEND;TZID=Europe/Athens:20210403T193000
DTSTAMP:20260423T005824
CREATED:20210404T183512Z
LAST-MODIFIED:20210404T183512Z
UID:2825-1617474600-1617478200@www.agioi-isidoroi.gr
SUMMARY:Πανηγυρικός Εσπερινός
DESCRIPTION:
URL:https://www.agioi-isidoroi.gr/leitourgia/panigyrikos-esperinos/
LOCATION:Ιερός Ναός Αγίων Ισιδώρων Λυκαβηττού\, Λυκαβηττός\, Αθήνα\, Αττική\, 10210\, Greece
CATEGORIES:Εσπερινός
ORGANIZER;CN="%CE%99%CE%B5%CF%81%CF%8C%CF%82 %CE%9D%CE%B1%CF%8C%CF%82 %CE%91%CE%B3%CE%AF%CF%89%CE%BD %CE%99%CF%83%CE%B9%CE%B4%CF%8E%CF%81%CF%89%CE%BD %CE%9B%CF%85%CE%BA%CE%B1%CE%B2%CE%B7%CF%84%CF%84%CE%BF%CF%8D":MAILTO:aisidro@otenet.gr
END:VEVENT
END:VCALENDAR