BEGIN:VCALENDAR
VERSION:2.0
PRODID:-//ΙΕΡΟΣ ΝΑΟΣ ΑΓΙΩΝ ΙΣΙΔΩΡΩΝ - ECPv6.15.17.1//NONSGML v1.0//EN
CALSCALE:GREGORIAN
METHOD:PUBLISH
X-ORIGINAL-URL:https://www.agioi-isidoroi.gr
X-WR-CALDESC:Events for ΙΕΡΟΣ ΝΑΟΣ ΑΓΙΩΝ ΙΣΙΔΩΡΩΝ
REFRESH-INTERVAL;VALUE=DURATION:PT1H
X-Robots-Tag:noindex
X-PUBLISHED-TTL:PT1H
BEGIN:VTIMEZONE
TZID:Europe/Athens
BEGIN:DAYLIGHT
TZOFFSETFROM:+0200
TZOFFSETTO:+0300
TZNAME:EEST
DTSTART:20210328T010000
END:DAYLIGHT
BEGIN:STANDARD
TZOFFSETFROM:+0300
TZOFFSETTO:+0200
TZNAME:EET
DTSTART:20211031T010000
END:STANDARD
BEGIN:DAYLIGHT
TZOFFSETFROM:+0200
TZOFFSETTO:+0300
TZNAME:EEST
DTSTART:20220327T010000
END:DAYLIGHT
BEGIN:STANDARD
TZOFFSETFROM:+0300
TZOFFSETTO:+0200
TZNAME:EET
DTSTART:20221030T010000
END:STANDARD
BEGIN:DAYLIGHT
TZOFFSETFROM:+0200
TZOFFSETTO:+0300
TZNAME:EEST
DTSTART:20230326T010000
END:DAYLIGHT
BEGIN:STANDARD
TZOFFSETFROM:+0300
TZOFFSETTO:+0200
TZNAME:EET
DTSTART:20231029T010000
END:STANDARD
END:VTIMEZONE
BEGIN:VEVENT
DTSTART;TZID=Europe/Athens:20220801T193000
DTEND;TZID=Europe/Athens:20220801T203000
DTSTAMP:20260419T195702
CREATED:20220704T193347Z
LAST-MODIFIED:20220704T193347Z
UID:4718-1659382200-1659385800@www.agioi-isidoroi.gr
SUMMARY:Εσπερινός & η Μικρή Παράκληση στην Παναγία
DESCRIPTION:
URL:https://www.agioi-isidoroi.gr/leitourgia/esperinos-amp-i-mikri-paraklisi-stin-panagia-7/
LOCATION:Ιερός Ναός Αγίων Ισιδώρων Λυκαβηττού\, Λυκαβηττός\, Αθήνα\, Αττική\, 10210\, Greece
CATEGORIES:Εσπερινός & Παράκληση
ORGANIZER;CN="%CE%99%CE%B5%CF%81%CF%8C%CF%82 %CE%9D%CE%B1%CF%8C%CF%82 %CE%91%CE%B3%CE%AF%CF%89%CE%BD %CE%99%CF%83%CE%B9%CE%B4%CF%8E%CF%81%CF%89%CE%BD %CE%9B%CF%85%CE%BA%CE%B1%CE%B2%CE%B7%CF%84%CF%84%CE%BF%CF%8D":MAILTO:aisidro@otenet.gr
END:VEVENT
BEGIN:VEVENT
DTSTART;TZID=Europe/Athens:20220802T073000
DTEND;TZID=Europe/Athens:20220802T093000
DTSTAMP:20260419T195702
CREATED:20220801T190118Z
LAST-MODIFIED:20220801T190150Z
UID:4725-1659425400-1659432600@www.agioi-isidoroi.gr
SUMMARY:Ανακομιδή λειψάνου Αγίου Στεφάνου
DESCRIPTION:Όρθρος & Θεία Λειτουργία
URL:https://www.agioi-isidoroi.gr/leitourgia/anakomidi-leipsanoy-agioy-stefanoy/
LOCATION:Ιερός Ναός Αγίων Ισιδώρων Λυκαβηττού\, Λυκαβηττός\, Αθήνα\, Αττική\, 10210\, Greece
CATEGORIES:Όρθρος Και Θεία Λειτουργία
ORGANIZER;CN="%CE%99%CE%B5%CF%81%CF%8C%CF%82 %CE%9D%CE%B1%CF%8C%CF%82 %CE%91%CE%B3%CE%AF%CF%89%CE%BD %CE%99%CF%83%CE%B9%CE%B4%CF%8E%CF%81%CF%89%CE%BD %CE%9B%CF%85%CE%BA%CE%B1%CE%B2%CE%B7%CF%84%CF%84%CE%BF%CF%8D":MAILTO:aisidro@otenet.gr
END:VEVENT
BEGIN:VEVENT
DTSTART;TZID=Europe/Athens:20220802T193000
DTEND;TZID=Europe/Athens:20220802T203000
DTSTAMP:20260419T195702
CREATED:20220801T190251Z
LAST-MODIFIED:20220801T190251Z
UID:4727-1659468600-1659472200@www.agioi-isidoroi.gr
SUMMARY:Εσπερινός & η Μεγάλη Παράκληση στην Παναγία
DESCRIPTION:
URL:https://www.agioi-isidoroi.gr/leitourgia/esperinos-amp-i-megali-paraklisi-stin-panagia-5/
LOCATION:Ιερός Ναός Αγίων Ισιδώρων Λυκαβηττού\, Λυκαβηττός\, Αθήνα\, Αττική\, 10210\, Greece
CATEGORIES:Εσπερινός & Παράκληση
ORGANIZER;CN="%CE%99%CE%B5%CF%81%CF%8C%CF%82 %CE%9D%CE%B1%CF%8C%CF%82 %CE%91%CE%B3%CE%AF%CF%89%CE%BD %CE%99%CF%83%CE%B9%CE%B4%CF%8E%CF%81%CF%89%CE%BD %CE%9B%CF%85%CE%BA%CE%B1%CE%B2%CE%B7%CF%84%CF%84%CE%BF%CF%8D":MAILTO:aisidro@otenet.gr
END:VEVENT
BEGIN:VEVENT
DTSTART;TZID=Europe/Athens:20220803T073000
DTEND;TZID=Europe/Athens:20220803T093000
DTSTAMP:20260419T195702
CREATED:20220801T190812Z
LAST-MODIFIED:20220801T190812Z
UID:4731-1659511800-1659519000@www.agioi-isidoroi.gr
SUMMARY:Αγίας Σαλώμης της Μυροφόρου
DESCRIPTION:Όρθρος & Θεία Λειτουργία \n*Η Αγία Σαλώμη η Μυροφόρος ήταν η πρώτη εξαδέλφη της Παναγίας\, μας.\nΕίχε σύζυγο τον Ζεβεδαίο και γιους τον Ιάκωβο και τον Ιωάννη.
URL:https://www.agioi-isidoroi.gr/leitourgia/agias-salomis-tis-myroforoy-2/
LOCATION:Ιερός Ναός Αγίων Ισιδώρων Λυκαβηττού\, Λυκαβηττός\, Αθήνα\, Αττική\, 10210\, Greece
CATEGORIES:Όρθρος Και Θεία Λειτουργία
ORGANIZER;CN="%CE%99%CE%B5%CF%81%CF%8C%CF%82 %CE%9D%CE%B1%CF%8C%CF%82 %CE%91%CE%B3%CE%AF%CF%89%CE%BD %CE%99%CF%83%CE%B9%CE%B4%CF%8E%CF%81%CF%89%CE%BD %CE%9B%CF%85%CE%BA%CE%B1%CE%B2%CE%B7%CF%84%CF%84%CE%BF%CF%8D":MAILTO:aisidro@otenet.gr
END:VEVENT
BEGIN:VEVENT
DTSTART;TZID=Europe/Athens:20220803T193000
DTEND;TZID=Europe/Athens:20220803T203000
DTSTAMP:20260419T195702
CREATED:20220801T190853Z
LAST-MODIFIED:20220801T190853Z
UID:4733-1659555000-1659558600@www.agioi-isidoroi.gr
SUMMARY:Εσπερινός & η Μικρή Παράκληση στην Παναγία
DESCRIPTION:
URL:https://www.agioi-isidoroi.gr/leitourgia/esperinos-amp-i-mikri-paraklisi-stin-panagia-8/
LOCATION:Ιερός Ναός Αγίων Ισιδώρων Λυκαβηττού\, Λυκαβηττός\, Αθήνα\, Αττική\, 10210\, Greece
CATEGORIES:Εσπερινός & Παράκληση
ORGANIZER;CN="%CE%99%CE%B5%CF%81%CF%8C%CF%82 %CE%9D%CE%B1%CF%8C%CF%82 %CE%91%CE%B3%CE%AF%CF%89%CE%BD %CE%99%CF%83%CE%B9%CE%B4%CF%8E%CF%81%CF%89%CE%BD %CE%9B%CF%85%CE%BA%CE%B1%CE%B2%CE%B7%CF%84%CF%84%CE%BF%CF%8D":MAILTO:aisidro@otenet.gr
END:VEVENT
BEGIN:VEVENT
DTSTART;TZID=Europe/Athens:20220804T073000
DTEND;TZID=Europe/Athens:20220804T093000
DTSTAMP:20260419T195702
CREATED:20220801T190952Z
LAST-MODIFIED:20220801T190952Z
UID:4735-1659598200-1659605400@www.agioi-isidoroi.gr
SUMMARY:Των 7 παίδων εν Εφέσω
DESCRIPTION:Όρθρος & Θεία Λειτουργία
URL:https://www.agioi-isidoroi.gr/leitourgia/ton-7-paidon-en-efeso-2/
LOCATION:Ιερός Ναός Αγίων Ισιδώρων Λυκαβηττού\, Λυκαβηττός\, Αθήνα\, Αττική\, 10210\, Greece
CATEGORIES:Όρθρος Και Θεία Λειτουργία
ORGANIZER;CN="%CE%99%CE%B5%CF%81%CF%8C%CF%82 %CE%9D%CE%B1%CF%8C%CF%82 %CE%91%CE%B3%CE%AF%CF%89%CE%BD %CE%99%CF%83%CE%B9%CE%B4%CF%8E%CF%81%CF%89%CE%BD %CE%9B%CF%85%CE%BA%CE%B1%CE%B2%CE%B7%CF%84%CF%84%CE%BF%CF%8D":MAILTO:aisidro@otenet.gr
END:VEVENT
BEGIN:VEVENT
DTSTART;TZID=Europe/Athens:20220804T193000
DTEND;TZID=Europe/Athens:20220804T203000
DTSTAMP:20260419T195702
CREATED:20220801T191033Z
LAST-MODIFIED:20220801T191033Z
UID:4737-1659641400-1659645000@www.agioi-isidoroi.gr
SUMMARY:Εσπερινός & η Μεγάλη Παράκληση στην Παναγία
DESCRIPTION:
URL:https://www.agioi-isidoroi.gr/leitourgia/esperinos-amp-i-megali-paraklisi-stin-panagia-6/
LOCATION:Ιερός Ναός Αγίων Ισιδώρων Λυκαβηττού\, Λυκαβηττός\, Αθήνα\, Αττική\, 10210\, Greece
CATEGORIES:Εσπερινός & Παράκληση
ORGANIZER;CN="%CE%99%CE%B5%CF%81%CF%8C%CF%82 %CE%9D%CE%B1%CF%8C%CF%82 %CE%91%CE%B3%CE%AF%CF%89%CE%BD %CE%99%CF%83%CE%B9%CE%B4%CF%8E%CF%81%CF%89%CE%BD %CE%9B%CF%85%CE%BA%CE%B1%CE%B2%CE%B7%CF%84%CF%84%CE%BF%CF%8D":MAILTO:aisidro@otenet.gr
END:VEVENT
BEGIN:VEVENT
DTSTART;TZID=Europe/Athens:20220805T073000
DTEND;TZID=Europe/Athens:20220805T093000
DTSTAMP:20260419T195702
CREATED:20220801T191122Z
LAST-MODIFIED:20220801T191209Z
UID:4739-1659684600-1659691800@www.agioi-isidoroi.gr
SUMMARY:Προεόρτια της Μεταμορφώσεως
DESCRIPTION:Όρθρος & Θεία Λειτουργία \nΙΕΡΑ ΠΑΝΗΓΥΡΙΣ ΤΗΣ ΜΕΤΑΜΟΡΦΩΣΕΩΣ ΤΟΥ ΣΩΤΗΡΟΣ ΧΡΙΣΤΟΥ\nΣΑΒΒΑΤΟ 6 ΑΥΓΟΥΣΤΟΥ 2022\n«Μετεμορφώθης εν τω όρει Χριστέ ο Θεός\, δείξας τοις Μαθηταίς σου την δόξαν σου\, καθώς ηδύναντο.\nΛάμψον και ημίν τοις αμαρτωλοίς\, το φως σου το αΐδιον\,πρεσβείαις της Θεοτόκου\, φωτοδότα δόξα σοι»
URL:https://www.agioi-isidoroi.gr/leitourgia/proeortia-tis-metamorfoseos-2/
LOCATION:Ιερός Ναός Αγίων Ισιδώρων Λυκαβηττού\, Λυκαβηττός\, Αθήνα\, Αττική\, 10210\, Greece
CATEGORIES:Όρθρος Και Θεία Λειτουργία
ORGANIZER;CN="%CE%99%CE%B5%CF%81%CF%8C%CF%82 %CE%9D%CE%B1%CF%8C%CF%82 %CE%91%CE%B3%CE%AF%CF%89%CE%BD %CE%99%CF%83%CE%B9%CE%B4%CF%8E%CF%81%CF%89%CE%BD %CE%9B%CF%85%CE%BA%CE%B1%CE%B2%CE%B7%CF%84%CF%84%CE%BF%CF%8D":MAILTO:aisidro@otenet.gr
END:VEVENT
BEGIN:VEVENT
DTSTART;TZID=Europe/Athens:20220805T193000
DTEND;TZID=Europe/Athens:20220805T203000
DTSTAMP:20260419T195702
CREATED:20220801T191319Z
LAST-MODIFIED:20220801T191319Z
UID:4742-1659727800-1659731400@www.agioi-isidoroi.gr
SUMMARY:ΠΑΝΗΓΥΡΙΚΟΣ ΕΣΠΕΡΙΝΟΣ
DESCRIPTION:
URL:https://www.agioi-isidoroi.gr/leitourgia/panigyrikos-esperinos-24/
LOCATION:Ιερός Ναός Αγίων Ισιδώρων Λυκαβηττού\, Λυκαβηττός\, Αθήνα\, Αττική\, 10210\, Greece
CATEGORIES:Εσπερινός
ORGANIZER;CN="%CE%99%CE%B5%CF%81%CF%8C%CF%82 %CE%9D%CE%B1%CF%8C%CF%82 %CE%91%CE%B3%CE%AF%CF%89%CE%BD %CE%99%CF%83%CE%B9%CE%B4%CF%8E%CF%81%CF%89%CE%BD %CE%9B%CF%85%CE%BA%CE%B1%CE%B2%CE%B7%CF%84%CF%84%CE%BF%CF%8D":MAILTO:aisidro@otenet.gr
END:VEVENT
BEGIN:VEVENT
DTSTART;TZID=Europe/Athens:20220805T220000
DTEND;TZID=Europe/Athens:20220805T230000
DTSTAMP:20260419T195702
CREATED:20220801T191412Z
LAST-MODIFIED:20220801T191412Z
UID:4744-1659736800-1659740400@www.agioi-isidoroi.gr
SUMMARY:ΙΕΡΑ ΑΓΡΥΠΝΙΑ
DESCRIPTION:
URL:https://www.agioi-isidoroi.gr/leitourgia/iera-agrypnia-14/
LOCATION:Ιερός Ναός Αγίων Ισιδώρων Λυκαβηττού\, Λυκαβηττός\, Αθήνα\, Αττική\, 10210\, Greece
CATEGORIES:Ιερά Αγρυπνία
ORGANIZER;CN="%CE%99%CE%B5%CF%81%CF%8C%CF%82 %CE%9D%CE%B1%CF%8C%CF%82 %CE%91%CE%B3%CE%AF%CF%89%CE%BD %CE%99%CF%83%CE%B9%CE%B4%CF%8E%CF%81%CF%89%CE%BD %CE%9B%CF%85%CE%BA%CE%B1%CE%B2%CE%B7%CF%84%CF%84%CE%BF%CF%8D":MAILTO:aisidro@otenet.gr
END:VEVENT
BEGIN:VEVENT
DTSTART;TZID=Europe/Athens:20220806T073000
DTEND;TZID=Europe/Athens:20220806T093000
DTSTAMP:20260419T195702
CREATED:20220801T191504Z
LAST-MODIFIED:20220801T191504Z
UID:4746-1659771000-1659778200@www.agioi-isidoroi.gr
SUMMARY:Η ΜΕΤΑΜΟΡΦΩΣΗ ΤΟΥ ΣΩΤΗΡΟΣ ΧΡΙΣΤΟΥ
DESCRIPTION:Όρθρος & ΠΑΝΗΓΥΡΙΚΗ ΘΕΙΑ ΛΕΙΤΟΥΡΓΙΑ
URL:https://www.agioi-isidoroi.gr/leitourgia/i-metamorfosi-toy-sotiros-christoy-2/
LOCATION:Ιερός Ναός Αγίων Ισιδώρων Λυκαβηττού\, Λυκαβηττός\, Αθήνα\, Αττική\, 10210\, Greece
CATEGORIES:Όρθρος Και Θεία Λειτουργία
ORGANIZER;CN="%CE%99%CE%B5%CF%81%CF%8C%CF%82 %CE%9D%CE%B1%CF%8C%CF%82 %CE%91%CE%B3%CE%AF%CF%89%CE%BD %CE%99%CF%83%CE%B9%CE%B4%CF%8E%CF%81%CF%89%CE%BD %CE%9B%CF%85%CE%BA%CE%B1%CE%B2%CE%B7%CF%84%CF%84%CE%BF%CF%8D":MAILTO:aisidro@otenet.gr
END:VEVENT
BEGIN:VEVENT
DTSTART;TZID=Europe/Athens:20220806T193000
DTEND;TZID=Europe/Athens:20220806T203000
DTSTAMP:20260419T195702
CREATED:20220801T191601Z
LAST-MODIFIED:20220801T191601Z
UID:4748-1659814200-1659817800@www.agioi-isidoroi.gr
SUMMARY:Αναστάσιμος Εσπερινός
DESCRIPTION:
URL:https://www.agioi-isidoroi.gr/leitourgia/anastasimos-esperinos-35/
LOCATION:Ιερός Ναός Αγίων Ισιδώρων Λυκαβηττού\, Λυκαβηττός\, Αθήνα\, Αττική\, 10210\, Greece
CATEGORIES:Αναστάσιμος Εσπερινός
ORGANIZER;CN="%CE%99%CE%B5%CF%81%CF%8C%CF%82 %CE%9D%CE%B1%CF%8C%CF%82 %CE%91%CE%B3%CE%AF%CF%89%CE%BD %CE%99%CF%83%CE%B9%CE%B4%CF%8E%CF%81%CF%89%CE%BD %CE%9B%CF%85%CE%BA%CE%B1%CE%B2%CE%B7%CF%84%CF%84%CE%BF%CF%8D":MAILTO:aisidro@otenet.gr
END:VEVENT
BEGIN:VEVENT
DTSTART;TZID=Europe/Athens:20220807T073000
DTEND;TZID=Europe/Athens:20220807T113000
DTSTAMP:20260419T195702
CREATED:20220801T191714Z
LAST-MODIFIED:20220801T191714Z
UID:4750-1659857400-1659871800@www.agioi-isidoroi.gr
SUMMARY:Η’ ΜΑΤΘΑΙΟΥ\, Οσίου Νικάνορος
DESCRIPTION:Όρθρος & Θεία Λειτουργία \n+ιερό μνημόσυνο της μακαριστής γερόντισσας Φιλοθέης μοναχής προσκυνητρίας.
URL:https://www.agioi-isidoroi.gr/leitourgia/i-matthaioy-osioy-nikanoros/
LOCATION:Ιερός Ναός Αγίων Ισιδώρων Λυκαβηττού\, Λυκαβηττός\, Αθήνα\, Αττική\, 10210\, Greece
CATEGORIES:Όρθρος Και Θεία Λειτουργία
ORGANIZER;CN="%CE%99%CE%B5%CF%81%CF%8C%CF%82 %CE%9D%CE%B1%CF%8C%CF%82 %CE%91%CE%B3%CE%AF%CF%89%CE%BD %CE%99%CF%83%CE%B9%CE%B4%CF%8E%CF%81%CF%89%CE%BD %CE%9B%CF%85%CE%BA%CE%B1%CE%B2%CE%B7%CF%84%CF%84%CE%BF%CF%8D":MAILTO:aisidro@otenet.gr
END:VEVENT
BEGIN:VEVENT
DTSTART;TZID=Europe/Athens:20220807T193000
DTEND;TZID=Europe/Athens:20220807T203000
DTSTAMP:20260419T195702
CREATED:20220801T191754Z
LAST-MODIFIED:20220801T191754Z
UID:4752-1659900600-1659904200@www.agioi-isidoroi.gr
SUMMARY:Εσπερινός & η Μικρή Παράκληση στην Παναγία
DESCRIPTION:
URL:https://www.agioi-isidoroi.gr/leitourgia/esperinos-amp-i-mikri-paraklisi-stin-panagia-9/
LOCATION:Ιερός Ναός Αγίων Ισιδώρων Λυκαβηττού\, Λυκαβηττός\, Αθήνα\, Αττική\, 10210\, Greece
CATEGORIES:Εσπερινός & Παράκληση
ORGANIZER;CN="%CE%99%CE%B5%CF%81%CF%8C%CF%82 %CE%9D%CE%B1%CF%8C%CF%82 %CE%91%CE%B3%CE%AF%CF%89%CE%BD %CE%99%CF%83%CE%B9%CE%B4%CF%8E%CF%81%CF%89%CE%BD %CE%9B%CF%85%CE%BA%CE%B1%CE%B2%CE%B7%CF%84%CF%84%CE%BF%CF%8D":MAILTO:aisidro@otenet.gr
END:VEVENT
BEGIN:VEVENT
DTSTART;TZID=Europe/Athens:20220808T073000
DTEND;TZID=Europe/Athens:20220808T093000
DTSTAMP:20260419T195702
CREATED:20220801T191912Z
LAST-MODIFIED:20220801T191938Z
UID:4754-1659943800-1659951000@www.agioi-isidoroi.gr
SUMMARY:Αγίου Μύρωνος επισκόπου Κρήτης
DESCRIPTION:Όρθρος & Θεία Λειτουργία
URL:https://www.agioi-isidoroi.gr/leitourgia/agioy-myronos-episkopoy-kritis/
LOCATION:Ιερός Ναός Αγίων Ισιδώρων Λυκαβηττού\, Λυκαβηττός\, Αθήνα\, Αττική\, 10210\, Greece
CATEGORIES:Όρθρος Και Θεία Λειτουργία
ORGANIZER;CN="%CE%99%CE%B5%CF%81%CF%8C%CF%82 %CE%9D%CE%B1%CF%8C%CF%82 %CE%91%CE%B3%CE%AF%CF%89%CE%BD %CE%99%CF%83%CE%B9%CE%B4%CF%8E%CF%81%CF%89%CE%BD %CE%9B%CF%85%CE%BA%CE%B1%CE%B2%CE%B7%CF%84%CF%84%CE%BF%CF%8D":MAILTO:aisidro@otenet.gr
END:VEVENT
BEGIN:VEVENT
DTSTART;TZID=Europe/Athens:20220808T193000
DTEND;TZID=Europe/Athens:20220808T203000
DTSTAMP:20260419T195702
CREATED:20220801T192030Z
LAST-MODIFIED:20220801T192053Z
UID:4756-1659987000-1659990600@www.agioi-isidoroi.gr
SUMMARY:Εσπερινός & Μεγάλη Παράκληση στην Παναγία
DESCRIPTION:Νυχτερινή Θεία Λειτουργία \n+Εις ανάμνηση θαύματος του Αγίου Μεγαλομάρτυρος Δημητρίου του Μυροβλύτου.
URL:https://www.agioi-isidoroi.gr/leitourgia/esperinos-amp-megali-paraklisi-stin-panagia-3/
LOCATION:Ιερός Ναός Αγίων Ισιδώρων Λυκαβηττού\, Λυκαβηττός\, Αθήνα\, Αττική\, 10210\, Greece
CATEGORIES:Εσπερινός & Παράκληση
ORGANIZER;CN="%CE%99%CE%B5%CF%81%CF%8C%CF%82 %CE%9D%CE%B1%CF%8C%CF%82 %CE%91%CE%B3%CE%AF%CF%89%CE%BD %CE%99%CF%83%CE%B9%CE%B4%CF%8E%CF%81%CF%89%CE%BD %CE%9B%CF%85%CE%BA%CE%B1%CE%B2%CE%B7%CF%84%CF%84%CE%BF%CF%8D":MAILTO:aisidro@otenet.gr
END:VEVENT
BEGIN:VEVENT
DTSTART;TZID=Europe/Athens:20220809T073000
DTEND;TZID=Europe/Athens:20220809T093000
DTSTAMP:20260419T195702
CREATED:20220801T192147Z
LAST-MODIFIED:20220801T192147Z
UID:4760-1660030200-1660037400@www.agioi-isidoroi.gr
SUMMARY:Αποστόλου Ματθία
DESCRIPTION:Όρθρος & Θεία Λειτουργία
URL:https://www.agioi-isidoroi.gr/leitourgia/apostoloy-matthia-2/
LOCATION:Ιερός Ναός Αγίων Ισιδώρων Λυκαβηττού\, Λυκαβηττός\, Αθήνα\, Αττική\, 10210\, Greece
CATEGORIES:Όρθρος Και Θεία Λειτουργία
ORGANIZER;CN="%CE%99%CE%B5%CF%81%CF%8C%CF%82 %CE%9D%CE%B1%CF%8C%CF%82 %CE%91%CE%B3%CE%AF%CF%89%CE%BD %CE%99%CF%83%CE%B9%CE%B4%CF%8E%CF%81%CF%89%CE%BD %CE%9B%CF%85%CE%BA%CE%B1%CE%B2%CE%B7%CF%84%CF%84%CE%BF%CF%8D":MAILTO:aisidro@otenet.gr
END:VEVENT
BEGIN:VEVENT
DTSTART;TZID=Europe/Athens:20220809T193000
DTEND;TZID=Europe/Athens:20220809T203000
DTSTAMP:20260419T195702
CREATED:20220801T192228Z
LAST-MODIFIED:20220801T192228Z
UID:4762-1660073400-1660077000@www.agioi-isidoroi.gr
SUMMARY:Εσπερινός & η Μικρή Παράκληση στην Παναγία
DESCRIPTION:
URL:https://www.agioi-isidoroi.gr/leitourgia/esperinos-amp-i-mikri-paraklisi-stin-panagia-10/
LOCATION:Ιερός Ναός Αγίων Ισιδώρων Λυκαβηττού\, Λυκαβηττός\, Αθήνα\, Αττική\, 10210\, Greece
CATEGORIES:Εσπερινός & Παράκληση
ORGANIZER;CN="%CE%99%CE%B5%CF%81%CF%8C%CF%82 %CE%9D%CE%B1%CF%8C%CF%82 %CE%91%CE%B3%CE%AF%CF%89%CE%BD %CE%99%CF%83%CE%B9%CE%B4%CF%8E%CF%81%CF%89%CE%BD %CE%9B%CF%85%CE%BA%CE%B1%CE%B2%CE%B7%CF%84%CF%84%CE%BF%CF%8D":MAILTO:aisidro@otenet.gr
END:VEVENT
BEGIN:VEVENT
DTSTART;TZID=Europe/Athens:20220810T073000
DTEND;TZID=Europe/Athens:20220810T093000
DTSTAMP:20260419T195702
CREATED:20220801T192315Z
LAST-MODIFIED:20220801T192315Z
UID:4764-1660116600-1660123800@www.agioi-isidoroi.gr
SUMMARY:Αγίου Λαυρεντίου του διακόνου
DESCRIPTION:Όρθρος & Θεία Λειτουργία
URL:https://www.agioi-isidoroi.gr/leitourgia/agioy-layrentioy-toy-diakonoy-2/
LOCATION:Ιερός Ναός Αγίων Ισιδώρων Λυκαβηττού\, Λυκαβηττός\, Αθήνα\, Αττική\, 10210\, Greece
CATEGORIES:Όρθρος Και Θεία Λειτουργία
ORGANIZER;CN="%CE%99%CE%B5%CF%81%CF%8C%CF%82 %CE%9D%CE%B1%CF%8C%CF%82 %CE%91%CE%B3%CE%AF%CF%89%CE%BD %CE%99%CF%83%CE%B9%CE%B4%CF%8E%CF%81%CF%89%CE%BD %CE%9B%CF%85%CE%BA%CE%B1%CE%B2%CE%B7%CF%84%CF%84%CE%BF%CF%8D":MAILTO:aisidro@otenet.gr
END:VEVENT
BEGIN:VEVENT
DTSTART;TZID=Europe/Athens:20220810T193000
DTEND;TZID=Europe/Athens:20220810T203000
DTSTAMP:20260419T195702
CREATED:20220801T192353Z
LAST-MODIFIED:20220801T192353Z
UID:4766-1660159800-1660163400@www.agioi-isidoroi.gr
SUMMARY:Εσπερινός & η Μεγάλη Παράκληση στην Παναγία
DESCRIPTION:
URL:https://www.agioi-isidoroi.gr/leitourgia/esperinos-amp-i-megali-paraklisi-stin-panagia-7/
LOCATION:Ιερός Ναός Αγίων Ισιδώρων Λυκαβηττού\, Λυκαβηττός\, Αθήνα\, Αττική\, 10210\, Greece
CATEGORIES:Εσπερινός & Παράκληση
ORGANIZER;CN="%CE%99%CE%B5%CF%81%CF%8C%CF%82 %CE%9D%CE%B1%CF%8C%CF%82 %CE%91%CE%B3%CE%AF%CF%89%CE%BD %CE%99%CF%83%CE%B9%CE%B4%CF%8E%CF%81%CF%89%CE%BD %CE%9B%CF%85%CE%BA%CE%B1%CE%B2%CE%B7%CF%84%CF%84%CE%BF%CF%8D":MAILTO:aisidro@otenet.gr
END:VEVENT
BEGIN:VEVENT
DTSTART;TZID=Europe/Athens:20220811T073000
DTEND;TZID=Europe/Athens:20220811T093000
DTSTAMP:20260419T195702
CREATED:20220801T192619Z
LAST-MODIFIED:20220801T192619Z
UID:4768-1660203000-1660210200@www.agioi-isidoroi.gr
SUMMARY:Ανάμνηση θαύματος του Αγ. Σπυρίδωνος
DESCRIPTION:Όρθρος & Θεία Λειτουργία
URL:https://www.agioi-isidoroi.gr/leitourgia/anamnisi-thaymatos-toy-ag-spyridonos-2/
LOCATION:Ιερός Ναός Αγίων Ισιδώρων Λυκαβηττού\, Λυκαβηττός\, Αθήνα\, Αττική\, 10210\, Greece
CATEGORIES:Όρθρος Και Θεία Λειτουργία
ORGANIZER;CN="%CE%99%CE%B5%CF%81%CF%8C%CF%82 %CE%9D%CE%B1%CF%8C%CF%82 %CE%91%CE%B3%CE%AF%CF%89%CE%BD %CE%99%CF%83%CE%B9%CE%B4%CF%8E%CF%81%CF%89%CE%BD %CE%9B%CF%85%CE%BA%CE%B1%CE%B2%CE%B7%CF%84%CF%84%CE%BF%CF%8D":MAILTO:aisidro@otenet.gr
END:VEVENT
BEGIN:VEVENT
DTSTART;TZID=Europe/Athens:20220811T193000
DTEND;TZID=Europe/Athens:20220811T203000
DTSTAMP:20260419T195702
CREATED:20220801T192659Z
LAST-MODIFIED:20220801T192659Z
UID:4770-1660246200-1660249800@www.agioi-isidoroi.gr
SUMMARY:Εσπερινός & η Μικρή Παράκληση στην Παναγία
DESCRIPTION:
URL:https://www.agioi-isidoroi.gr/leitourgia/esperinos-amp-i-mikri-paraklisi-stin-panagia-11/
LOCATION:Ιερός Ναός Αγίων Ισιδώρων Λυκαβηττού\, Λυκαβηττός\, Αθήνα\, Αττική\, 10210\, Greece
CATEGORIES:Εσπερινός & Παράκληση
ORGANIZER;CN="%CE%99%CE%B5%CF%81%CF%8C%CF%82 %CE%9D%CE%B1%CF%8C%CF%82 %CE%91%CE%B3%CE%AF%CF%89%CE%BD %CE%99%CF%83%CE%B9%CE%B4%CF%8E%CF%81%CF%89%CE%BD %CE%9B%CF%85%CE%BA%CE%B1%CE%B2%CE%B7%CF%84%CF%84%CE%BF%CF%8D":MAILTO:aisidro@otenet.gr
END:VEVENT
BEGIN:VEVENT
DTSTART;TZID=Europe/Athens:20220812T073000
DTEND;TZID=Europe/Athens:20220812T093000
DTSTAMP:20260419T195702
CREATED:20220801T193019Z
LAST-MODIFIED:20220801T193019Z
UID:4772-1660289400-1660296600@www.agioi-isidoroi.gr
SUMMARY:Ο Ευαγγελισμός της Κοιμήσεως της Θεοτόκου
DESCRIPTION:Όρθρος & Θεία Λειτουργία \nὉ γλυκασμὸς τῶν Ἀγγέλων\, τῶν θλιβομένων ἡ χαρά\, χριστιανῶν ἡ προστάτις\, Παρθένε Μήτηρ Κυρίου\, ἀντιλαβοῦ μου καὶ ῥῦσαι τῶν αἰωνίων βασάνων.
URL:https://www.agioi-isidoroi.gr/leitourgia/o-eyaggelismos-tis-koimiseos-tis-theotokoy-2/
LOCATION:Ιερός Ναός Αγίων Ισιδώρων Λυκαβηττού\, Λυκαβηττός\, Αθήνα\, Αττική\, 10210\, Greece
CATEGORIES:Όρθρος Και Θεία Λειτουργία
ORGANIZER;CN="%CE%99%CE%B5%CF%81%CF%8C%CF%82 %CE%9D%CE%B1%CF%8C%CF%82 %CE%91%CE%B3%CE%AF%CF%89%CE%BD %CE%99%CF%83%CE%B9%CE%B4%CF%8E%CF%81%CF%89%CE%BD %CE%9B%CF%85%CE%BA%CE%B1%CE%B2%CE%B7%CF%84%CF%84%CE%BF%CF%8D":MAILTO:aisidro@otenet.gr
END:VEVENT
BEGIN:VEVENT
DTSTART;TZID=Europe/Athens:20220812T193000
DTEND;TZID=Europe/Athens:20220812T203000
DTSTAMP:20260419T195702
CREATED:20220801T193102Z
LAST-MODIFIED:20220801T193102Z
UID:4774-1660332600-1660336200@www.agioi-isidoroi.gr
SUMMARY:Εσπερινός\, η Μεγάλη Παράκληση στην Παναγία
DESCRIPTION:
URL:https://www.agioi-isidoroi.gr/leitourgia/esperinos-i-megali-paraklisi-stin-panagia-2/
LOCATION:Ιερός Ναός Αγίων Ισιδώρων Λυκαβηττού\, Λυκαβηττός\, Αθήνα\, Αττική\, 10210\, Greece
CATEGORIES:Εσπερινός & Παράκληση
ORGANIZER;CN="%CE%99%CE%B5%CF%81%CF%8C%CF%82 %CE%9D%CE%B1%CF%8C%CF%82 %CE%91%CE%B3%CE%AF%CF%89%CE%BD %CE%99%CF%83%CE%B9%CE%B4%CF%8E%CF%81%CF%89%CE%BD %CE%9B%CF%85%CE%BA%CE%B1%CE%B2%CE%B7%CF%84%CF%84%CE%BF%CF%8D":MAILTO:aisidro@otenet.gr
END:VEVENT
BEGIN:VEVENT
DTSTART;TZID=Europe/Athens:20220813T073000
DTEND;TZID=Europe/Athens:20220813T093000
DTSTAMP:20260419T195702
CREATED:20220801T193146Z
LAST-MODIFIED:20220801T193146Z
UID:4776-1660375800-1660383000@www.agioi-isidoroi.gr
SUMMARY:Απόδοσις της εορτής της Μεταμορφώσεως
DESCRIPTION:Όρθρος & Θεία Λειτουργία
URL:https://www.agioi-isidoroi.gr/leitourgia/apodosis-tis-eortis-tis-metamorfoseos-2/
LOCATION:Ιερός Ναός Αγίων Ισιδώρων Λυκαβηττού\, Λυκαβηττός\, Αθήνα\, Αττική\, 10210\, Greece
CATEGORIES:Όρθρος Και Θεία Λειτουργία
ORGANIZER;CN="%CE%99%CE%B5%CF%81%CF%8C%CF%82 %CE%9D%CE%B1%CF%8C%CF%82 %CE%91%CE%B3%CE%AF%CF%89%CE%BD %CE%99%CF%83%CE%B9%CE%B4%CF%8E%CF%81%CF%89%CE%BD %CE%9B%CF%85%CE%BA%CE%B1%CE%B2%CE%B7%CF%84%CF%84%CE%BF%CF%8D":MAILTO:aisidro@otenet.gr
END:VEVENT
BEGIN:VEVENT
DTSTART;TZID=Europe/Athens:20220813T193000
DTEND;TZID=Europe/Athens:20220813T203000
DTSTAMP:20260419T195702
CREATED:20220801T193230Z
LAST-MODIFIED:20220801T193230Z
UID:4778-1660419000-1660422600@www.agioi-isidoroi.gr
SUMMARY:Αναστάσιμος Εσπερινός
DESCRIPTION:
URL:https://www.agioi-isidoroi.gr/leitourgia/anastasimos-esperinos-36/
LOCATION:Ιερός Ναός Αγίων Ισιδώρων Λυκαβηττού\, Λυκαβηττός\, Αθήνα\, Αττική\, 10210\, Greece
CATEGORIES:Αναστάσιμος Εσπερινός
ORGANIZER;CN="%CE%99%CE%B5%CF%81%CF%8C%CF%82 %CE%9D%CE%B1%CF%8C%CF%82 %CE%91%CE%B3%CE%AF%CF%89%CE%BD %CE%99%CF%83%CE%B9%CE%B4%CF%8E%CF%81%CF%89%CE%BD %CE%9B%CF%85%CE%BA%CE%B1%CE%B2%CE%B7%CF%84%CF%84%CE%BF%CF%8D":MAILTO:aisidro@otenet.gr
END:VEVENT
BEGIN:VEVENT
DTSTART;TZID=Europe/Athens:20220814T073000
DTEND;TZID=Europe/Athens:20220814T113000
DTSTAMP:20260419T195702
CREATED:20220801T193336Z
LAST-MODIFIED:20220801T193336Z
UID:4780-1660462200-1660476600@www.agioi-isidoroi.gr
SUMMARY:Θ’ ΜΑΤΘΑΙΟΥ\, Προεόρτια της Κοιμήσεως της Θεοτόκου
DESCRIPTION:Όρθρος & Θεία Λειτουργία \nΕΟΡΤΗ ΤΗΣ ΚΟΙΜΗΣΕΩΣ ΤΗΣ ΘΕΟΤΟΚΟΥ\nΣΑΒΒΑΤΟ 15 ΑΥΓΟΥΣΤΟΥ 2022\n«Εν τη Γεννήσει την παρθενίαν εφύλαξας\, εν τη Κοιμήσει τον κόσμον ου κατέλιπες Θεοτόκε.\nΜετέστης προς την ζωήν\, μήτηρ υπάρχουσα της ζωής\,\nκαι ταις πρεσβείαις ταις σαις λυτρουμένη\, εκ θανάτου τας ψυχάς ημών»
URL:https://www.agioi-isidoroi.gr/leitourgia/th-matthaioy-proeortia-tis-koimiseos-tis-theotokoy/
LOCATION:Ιερός Ναός Αγίων Ισιδώρων Λυκαβηττού\, Λυκαβηττός\, Αθήνα\, Αττική\, 10210\, Greece
CATEGORIES:Όρθρος Και Θεία Λειτουργία
ORGANIZER;CN="%CE%99%CE%B5%CF%81%CF%8C%CF%82 %CE%9D%CE%B1%CF%8C%CF%82 %CE%91%CE%B3%CE%AF%CF%89%CE%BD %CE%99%CF%83%CE%B9%CE%B4%CF%8E%CF%81%CF%89%CE%BD %CE%9B%CF%85%CE%BA%CE%B1%CE%B2%CE%B7%CF%84%CF%84%CE%BF%CF%8D":MAILTO:aisidro@otenet.gr
END:VEVENT
BEGIN:VEVENT
DTSTART;TZID=Europe/Athens:20220814T190000
DTEND;TZID=Europe/Athens:20220814T210000
DTSTAMP:20260419T195702
CREATED:20220801T193514Z
LAST-MODIFIED:20220801T193514Z
UID:4782-1660503600-1660510800@www.agioi-isidoroi.gr
SUMMARY:Πανηγυρικός Εσπερινός
DESCRIPTION:* Τα εγκώμια της Παναγίας [8 μ.μ.]\n* Η περιφορά του Επιταφίου [8.30 μ.μ.]\n Μετά το πέρας των ακολουθιών θα μοιραστούν στους προσκυνητές φρούτα εποχής
URL:https://www.agioi-isidoroi.gr/leitourgia/panigyrikos-esperinos-25/
LOCATION:Ιερός Ναός Αγίων Ισιδώρων Λυκαβηττού\, Λυκαβηττός\, Αθήνα\, Αττική\, 10210\, Greece
CATEGORIES:Εσπερινός
ORGANIZER;CN="%CE%99%CE%B5%CF%81%CF%8C%CF%82 %CE%9D%CE%B1%CF%8C%CF%82 %CE%91%CE%B3%CE%AF%CF%89%CE%BD %CE%99%CF%83%CE%B9%CE%B4%CF%8E%CF%81%CF%89%CE%BD %CE%9B%CF%85%CE%BA%CE%B1%CE%B2%CE%B7%CF%84%CF%84%CE%BF%CF%8D":MAILTO:aisidro@otenet.gr
END:VEVENT
BEGIN:VEVENT
DTSTART;TZID=Europe/Athens:20220815T073000
DTEND;TZID=Europe/Athens:20220815T093000
DTSTAMP:20260419T195702
CREATED:20220801T193825Z
LAST-MODIFIED:20220801T193825Z
UID:4784-1660548600-1660555800@www.agioi-isidoroi.gr
SUMMARY:Η ΚΟΙΜΗΣΗ ΤΗΣ ΥΠΕΡΑΓΙΑΣ ΘΕΟΤΟΚΟΥ
DESCRIPTION:Όρθρος & Πανηγυρική Θεία Λειτουργία \n«Καὶ σὲ μεσίτριαν ἔχω\, πρὸς τὸν φιλάνθρωπον Θεόν\, μή μου ἐλέγξῃ τὰς πράξεις\, ἐνώπιον τῶν Ἀγγέλων\, παρακαλῶ σε\, Παρθένε\, βοήθησόν μοι ἐν τάχει.» \n 
URL:https://www.agioi-isidoroi.gr/leitourgia/i-koimisi-tis-yperagias-theotokoy-2/
LOCATION:Ιερός Ναός Αγίων Ισιδώρων Λυκαβηττού\, Λυκαβηττός\, Αθήνα\, Αττική\, 10210\, Greece
CATEGORIES:Όρθρος Και Θεία Λειτουργία
ORGANIZER;CN="%CE%99%CE%B5%CF%81%CF%8C%CF%82 %CE%9D%CE%B1%CF%8C%CF%82 %CE%91%CE%B3%CE%AF%CF%89%CE%BD %CE%99%CF%83%CE%B9%CE%B4%CF%8E%CF%81%CF%89%CE%BD %CE%9B%CF%85%CE%BA%CE%B1%CE%B2%CE%B7%CF%84%CF%84%CE%BF%CF%8D":MAILTO:aisidro@otenet.gr
END:VEVENT
BEGIN:VEVENT
DTSTART;TZID=Europe/Athens:20220816T073000
DTEND;TZID=Europe/Athens:20220816T093000
DTSTAMP:20260419T195702
CREATED:20220801T193908Z
LAST-MODIFIED:20220801T193908Z
UID:4786-1660635000-1660642200@www.agioi-isidoroi.gr
SUMMARY:Αγίου Μανδηλίου\, Αγίου Γερασίμου
DESCRIPTION:Όρθρος & Θεία Λειτουργία
URL:https://www.agioi-isidoroi.gr/leitourgia/agioy-mandilioy-agioy-gerasimoy/
LOCATION:Ιερός Ναός Αγίων Ισιδώρων Λυκαβηττού\, Λυκαβηττός\, Αθήνα\, Αττική\, 10210\, Greece
CATEGORIES:Όρθρος Και Θεία Λειτουργία
ORGANIZER;CN="%CE%99%CE%B5%CF%81%CF%8C%CF%82 %CE%9D%CE%B1%CF%8C%CF%82 %CE%91%CE%B3%CE%AF%CF%89%CE%BD %CE%99%CF%83%CE%B9%CE%B4%CF%8E%CF%81%CF%89%CE%BD %CE%9B%CF%85%CE%BA%CE%B1%CE%B2%CE%B7%CF%84%CF%84%CE%BF%CF%8D":MAILTO:aisidro@otenet.gr
END:VEVENT
END:VCALENDAR