BEGIN:VCALENDAR
VERSION:2.0
PRODID:-//ΙΕΡΟΣ ΝΑΟΣ ΑΓΙΩΝ ΙΣΙΔΩΡΩΝ - ECPv6.15.17.1//NONSGML v1.0//EN
CALSCALE:GREGORIAN
METHOD:PUBLISH
X-WR-CALNAME:ΙΕΡΟΣ ΝΑΟΣ ΑΓΙΩΝ ΙΣΙΔΩΡΩΝ
X-ORIGINAL-URL:https://www.agioi-isidoroi.gr
X-WR-CALDESC:Events for ΙΕΡΟΣ ΝΑΟΣ ΑΓΙΩΝ ΙΣΙΔΩΡΩΝ
REFRESH-INTERVAL;VALUE=DURATION:PT1H
X-Robots-Tag:noindex
X-PUBLISHED-TTL:PT1H
BEGIN:VTIMEZONE
TZID:Europe/Athens
BEGIN:DAYLIGHT
TZOFFSETFROM:+0200
TZOFFSETTO:+0300
TZNAME:EEST
DTSTART:20200329T010000
END:DAYLIGHT
BEGIN:STANDARD
TZOFFSETFROM:+0300
TZOFFSETTO:+0200
TZNAME:EET
DTSTART:20201025T010000
END:STANDARD
BEGIN:DAYLIGHT
TZOFFSETFROM:+0200
TZOFFSETTO:+0300
TZNAME:EEST
DTSTART:20210328T010000
END:DAYLIGHT
BEGIN:STANDARD
TZOFFSETFROM:+0300
TZOFFSETTO:+0200
TZNAME:EET
DTSTART:20211031T010000
END:STANDARD
BEGIN:DAYLIGHT
TZOFFSETFROM:+0200
TZOFFSETTO:+0300
TZNAME:EEST
DTSTART:20220327T010000
END:DAYLIGHT
BEGIN:STANDARD
TZOFFSETFROM:+0300
TZOFFSETTO:+0200
TZNAME:EET
DTSTART:20221030T010000
END:STANDARD
END:VTIMEZONE
BEGIN:VEVENT
DTSTART;TZID=Europe/Athens:20210325T073000
DTEND;TZID=Europe/Athens:20210325T130000
DTSTAMP:20260423T014004
CREATED:20210302T171613Z
LAST-MODIFIED:20210302T171613Z
UID:2784-1616657400-1616677200@www.agioi-isidoroi.gr
SUMMARY:ΕΥΑΓΓΕΛΙΣΜΟΣ ΤΗΣ ΘΕΟΤΟΚΟΥ
DESCRIPTION:Όρθρος & Πανηγυρική Θεία Λειτουργία – Δοξολογία
URL:https://www.agioi-isidoroi.gr/leitourgia/eyaggelismos-tis-theotokoy/
LOCATION:Ιερός Ναός Αγίων Ισιδώρων Λυκαβηττού\, Λυκαβηττός\, Αθήνα\, Αττική\, 10210\, Greece
CATEGORIES:Δοξολογία,Όρθρος Και Θεία Λειτουργία
ORGANIZER;CN="%CE%99%CE%B5%CF%81%CF%8C%CF%82 %CE%9D%CE%B1%CF%8C%CF%82 %CE%91%CE%B3%CE%AF%CF%89%CE%BD %CE%99%CF%83%CE%B9%CE%B4%CF%8E%CF%81%CF%89%CE%BD %CE%9B%CF%85%CE%BA%CE%B1%CE%B2%CE%B7%CF%84%CF%84%CE%BF%CF%8D":MAILTO:aisidro@otenet.gr
END:VEVENT
BEGIN:VEVENT
DTSTART;TZID=Europe/Athens:20210324T183000
DTEND;TZID=Europe/Athens:20210324T220000
DTSTAMP:20260423T014004
CREATED:20210302T171525Z
LAST-MODIFIED:20210302T171525Z
UID:2782-1616610600-1616623200@www.agioi-isidoroi.gr
SUMMARY:Εσπερινός του Ευαγγελισμού της Παναγίας
DESCRIPTION:
URL:https://www.agioi-isidoroi.gr/leitourgia/esperinos-toy-eyaggelismoy-tis-panagias/
LOCATION:Ιερός Ναός Αγίων Ισιδώρων Λυκαβηττού\, Λυκαβηττός\, Αθήνα\, Αττική\, 10210\, Greece
CATEGORIES:Εσπερινός
ORGANIZER;CN="%CE%99%CE%B5%CF%81%CF%8C%CF%82 %CE%9D%CE%B1%CF%8C%CF%82 %CE%91%CE%B3%CE%AF%CF%89%CE%BD %CE%99%CF%83%CE%B9%CE%B4%CF%8E%CF%81%CF%89%CE%BD %CE%9B%CF%85%CE%BA%CE%B1%CE%B2%CE%B7%CF%84%CF%84%CE%BF%CF%8D":MAILTO:aisidro@otenet.gr
END:VEVENT
BEGIN:VEVENT
DTSTART;TZID=Europe/Athens:20210324T073000
DTEND;TZID=Europe/Athens:20210324T113000
DTSTAMP:20260423T014004
CREATED:20210302T171451Z
LAST-MODIFIED:20210302T171451Z
UID:2780-1616571000-1616585400@www.agioi-isidoroi.gr
SUMMARY:Προεόρτια Ευαγγελισμού
DESCRIPTION:(δεν τελείται Θεία Λειτουργία)
URL:https://www.agioi-isidoroi.gr/leitourgia/proeortia-eyaggelismoy/
LOCATION:Αττική
CATEGORIES:Όρθρος,Ώρες
END:VEVENT
BEGIN:VEVENT
DTSTART;TZID=Europe/Athens:20210323T183000
DTEND;TZID=Europe/Athens:20210323T183000
DTSTAMP:20260423T014004
CREATED:20210302T171407Z
LAST-MODIFIED:20210302T171407Z
UID:2778-1616524200-1616524200@www.agioi-isidoroi.gr
SUMMARY:Προηγιασμένη Θεία Λειτουργία
DESCRIPTION:
URL:https://www.agioi-isidoroi.gr/leitourgia/proigiasmeni-theia-leitoyrgia-4/
LOCATION:Ιερός Ναός Αγίων Ισιδώρων Λυκαβηττού\, Λυκαβηττός\, Αθήνα\, Αττική\, 10210\, Greece
CATEGORIES:Θεία Λειτουργία
ORGANIZER;CN="%CE%99%CE%B5%CF%81%CF%8C%CF%82 %CE%9D%CE%B1%CF%8C%CF%82 %CE%91%CE%B3%CE%AF%CF%89%CE%BD %CE%99%CF%83%CE%B9%CE%B4%CF%8E%CF%81%CF%89%CE%BD %CE%9B%CF%85%CE%BA%CE%B1%CE%B2%CE%B7%CF%84%CF%84%CE%BF%CF%8D":MAILTO:aisidro@otenet.gr
END:VEVENT
BEGIN:VEVENT
DTSTART;TZID=Europe/Athens:20210323T073000
DTEND;TZID=Europe/Athens:20210323T113000
DTSTAMP:20260423T014004
CREATED:20210302T171328Z
LAST-MODIFIED:20210302T171328Z
UID:2776-1616484600-1616499000@www.agioi-isidoroi.gr
SUMMARY:Οσίου Νίκωνος και των συν αυτώ 199 μαθητών αυτού
DESCRIPTION:Προηγιασμένη Θεία Λειτουργία
URL:https://www.agioi-isidoroi.gr/leitourgia/osioy-nikonos-kai-ton-syn-ayto-199-mathiton-aytoy/
LOCATION:Ιερός Ναός Αγίων Ισιδώρων Λυκαβηττού\, Λυκαβηττός\, Αθήνα\, Αττική\, 10210\, Greece
CATEGORIES:Θεία Λειτουργία
ORGANIZER;CN="%CE%99%CE%B5%CF%81%CF%8C%CF%82 %CE%9D%CE%B1%CF%8C%CF%82 %CE%91%CE%B3%CE%AF%CF%89%CE%BD %CE%99%CF%83%CE%B9%CE%B4%CF%8E%CF%81%CF%89%CE%BD %CE%9B%CF%85%CE%BA%CE%B1%CE%B2%CE%B7%CF%84%CF%84%CE%BF%CF%8D":MAILTO:aisidro@otenet.gr
END:VEVENT
BEGIN:VEVENT
DTSTART;TZID=Europe/Athens:20210322T183000
DTEND;TZID=Europe/Athens:20210322T210000
DTSTAMP:20260423T014004
CREATED:20210302T171244Z
LAST-MODIFIED:20210302T171244Z
UID:2774-1616437800-1616446800@www.agioi-isidoroi.gr
SUMMARY:Προηγιασμένη Θεία Λειτουργία
DESCRIPTION:Προηγιασμένη Θεία Λειτουργία
URL:https://www.agioi-isidoroi.gr/leitourgia/proigiasmeni-theia-leitoyrgia-3/
LOCATION:Αττική
CATEGORIES:Θεία Λειτουργία
END:VEVENT
BEGIN:VEVENT
DTSTART;TZID=Europe/Athens:20210322T073000
DTEND;TZID=Europe/Athens:20210322T123000
DTSTAMP:20260423T014004
CREATED:20210302T171214Z
LAST-MODIFIED:20210302T171214Z
UID:2772-1616398200-1616416200@www.agioi-isidoroi.gr
SUMMARY:Αγίου ιερομάρτ. Βασιλείου
DESCRIPTION:Προηγιασμένη Θεία Λειτουργία
URL:https://www.agioi-isidoroi.gr/leitourgia/agioy-ieromart-vasileioy/
LOCATION:Ιερός Ναός Αγίων Ισιδώρων Λυκαβηττού\, Λυκαβηττός\, Αθήνα\, Αττική\, 10210\, Greece
CATEGORIES:Θεία Λειτουργία
END:VEVENT
BEGIN:VEVENT
DTSTART;TZID=Europe/Athens:20210321T190000
DTEND;TZID=Europe/Athens:20210321T230000
DTSTAMP:20260423T014004
CREATED:20210302T171139Z
LAST-MODIFIED:20210302T171139Z
UID:2770-1616353200-1616367600@www.agioi-isidoroi.gr
SUMMARY:Κατανυκτικός Εσπερινός
DESCRIPTION:
URL:https://www.agioi-isidoroi.gr/leitourgia/katanyktikos-esperinos/
LOCATION:Ιερός Ναός Αγίων Ισιδώρων Λυκαβηττού\, Λυκαβηττός\, Αθήνα\, Αττική\, 10210\, Greece
CATEGORIES:Εσπερινός
ORGANIZER;CN="%CE%99%CE%B5%CF%81%CF%8C%CF%82 %CE%9D%CE%B1%CF%8C%CF%82 %CE%91%CE%B3%CE%AF%CF%89%CE%BD %CE%99%CF%83%CE%B9%CE%B4%CF%8E%CF%81%CF%89%CE%BD %CE%9B%CF%85%CE%BA%CE%B1%CE%B2%CE%B7%CF%84%CF%84%CE%BF%CF%8D":MAILTO:aisidro@otenet.gr
END:VEVENT
BEGIN:VEVENT
DTSTART;TZID=Europe/Athens:20210321T073000
DTEND;TZID=Europe/Athens:20210321T120000
DTSTAMP:20260423T014004
CREATED:20210302T171100Z
LAST-MODIFIED:20210302T171100Z
UID:2768-1616311800-1616328000@www.agioi-isidoroi.gr
SUMMARY:Α’ ΝΗΣΤΕΙΩΝ-ΤΗΣ ΟΡΘΟΔΟΞΙΑΣ
DESCRIPTION:Όρθρος & Θεία Λειτουργία \n* Ανάμνησιν ποιούμεθα της αναστηλώσεως των Αγίων & Σεπτών Εικόνων.
URL:https://www.agioi-isidoroi.gr/leitourgia/a-nisteion-tis-orthodoxias/
LOCATION:Ιερός Ναός Αγίων Ισιδώρων Λυκαβηττού\, Λυκαβηττός\, Αθήνα\, Αττική\, 10210\, Greece
CATEGORIES:Όρθρος Και Θεία Λειτουργία
ORGANIZER;CN="%CE%99%CE%B5%CF%81%CF%8C%CF%82 %CE%9D%CE%B1%CF%8C%CF%82 %CE%91%CE%B3%CE%AF%CF%89%CE%BD %CE%99%CF%83%CE%B9%CE%B4%CF%8E%CF%81%CF%89%CE%BD %CE%9B%CF%85%CE%BA%CE%B1%CE%B2%CE%B7%CF%84%CF%84%CE%BF%CF%8D":MAILTO:aisidro@otenet.gr
END:VEVENT
BEGIN:VEVENT
DTSTART;TZID=Europe/Athens:20210320T193000
DTEND;TZID=Europe/Athens:20210320T213000
DTSTAMP:20260423T014004
CREATED:20210302T163216Z
LAST-MODIFIED:20210302T163216Z
UID:2765-1616268600-1616275800@www.agioi-isidoroi.gr
SUMMARY:Εσπερινός της Ορθοδοξίας
DESCRIPTION:
URL:https://www.agioi-isidoroi.gr/leitourgia/esperinos-tis-orthodoxias/
LOCATION:Ιερός Ναός Αγίων Ισιδώρων Λυκαβηττού\, Λυκαβηττός\, Αθήνα\, Αττική\, 10210\, Greece
CATEGORIES:Εσπερινός
ORGANIZER;CN="%CE%99%CE%B5%CF%81%CF%8C%CF%82 %CE%9D%CE%B1%CF%8C%CF%82 %CE%91%CE%B3%CE%AF%CF%89%CE%BD %CE%99%CF%83%CE%B9%CE%B4%CF%8E%CF%81%CF%89%CE%BD %CE%9B%CF%85%CE%BA%CE%B1%CE%B2%CE%B7%CF%84%CF%84%CE%BF%CF%8D":MAILTO:aisidro@otenet.gr
END:VEVENT
BEGIN:VEVENT
DTSTART;TZID=Europe/Athens:20210320T073000
DTEND;TZID=Europe/Athens:20210320T123000
DTSTAMP:20260423T014004
CREATED:20210302T163134Z
LAST-MODIFIED:20210302T163134Z
UID:2763-1616225400-1616243400@www.agioi-isidoroi.gr
SUMMARY:Αγίου Θεοδώρου μνήμη του δια κολλύβων θαύματος
DESCRIPTION:Όρθρος & Θεία Λειτουργία (ευλογία των κολλύβων)
URL:https://www.agioi-isidoroi.gr/leitourgia/agioy-theodoroy-mnimi-toy-dia-kollyvon-thaymatos/
LOCATION:Ιερός Ναός Αγίων Ισιδώρων Λυκαβηττού\, Λυκαβηττός\, Αθήνα\, Αττική\, 10210\, Greece
CATEGORIES:Όρθρος Και Θεία Λειτουργία
ORGANIZER;CN="%CE%99%CE%B5%CF%81%CF%8C%CF%82 %CE%9D%CE%B1%CF%8C%CF%82 %CE%91%CE%B3%CE%AF%CF%89%CE%BD %CE%99%CF%83%CE%B9%CE%B4%CF%8E%CF%81%CF%89%CE%BD %CE%9B%CF%85%CE%BA%CE%B1%CE%B2%CE%B7%CF%84%CF%84%CE%BF%CF%8D":MAILTO:aisidro@otenet.gr
END:VEVENT
BEGIN:VEVENT
DTSTART;TZID=Europe/Athens:20210319T193000
DTEND;TZID=Europe/Athens:20210319T223000
DTSTAMP:20260423T014004
CREATED:20210302T163041Z
LAST-MODIFIED:20210302T163041Z
UID:2761-1616182200-1616193000@www.agioi-isidoroi.gr
SUMMARY:Α’ ΧΑΙΡΕΤΙΣΜΟΙ ΤΗΣ ΠΑΝΑΓΙΑΣ
DESCRIPTION:
URL:https://www.agioi-isidoroi.gr/leitourgia/a-chairetismoi-tis-panagias/
LOCATION:Ιερός Ναός Αγίων Ισιδώρων Λυκαβηττού\, Λυκαβηττός\, Αθήνα\, Αττική\, 10210\, Greece
CATEGORIES:Χαιρετισμοί της Παναγίας
ORGANIZER;CN="%CE%99%CE%B5%CF%81%CF%8C%CF%82 %CE%9D%CE%B1%CF%8C%CF%82 %CE%91%CE%B3%CE%AF%CF%89%CE%BD %CE%99%CF%83%CE%B9%CE%B4%CF%8E%CF%81%CF%89%CE%BD %CE%9B%CF%85%CE%BA%CE%B1%CE%B2%CE%B7%CF%84%CF%84%CE%BF%CF%8D":MAILTO:aisidro@otenet.gr
END:VEVENT
BEGIN:VEVENT
DTSTART;TZID=Europe/Athens:20210319T183000
DTEND;TZID=Europe/Athens:20210319T193000
DTSTAMP:20260423T014004
CREATED:20210302T162946Z
LAST-MODIFIED:20210302T162946Z
UID:2759-1616178600-1616182200@www.agioi-isidoroi.gr
SUMMARY:Εσπερινός (ευλογία των κολλύβων)
DESCRIPTION:
URL:https://www.agioi-isidoroi.gr/leitourgia/esperinos-eylogia-ton-kollyvon-3/
LOCATION:Ιερός Ναός Αγίων Ισιδώρων Λυκαβηττού\, Λυκαβηττός\, Αθήνα\, Αττική\, 10210\, Greece
CATEGORIES:Εσπερινός
ORGANIZER;CN="%CE%99%CE%B5%CF%81%CF%8C%CF%82 %CE%9D%CE%B1%CF%8C%CF%82 %CE%91%CE%B3%CE%AF%CF%89%CE%BD %CE%99%CF%83%CE%B9%CE%B4%CF%8E%CF%81%CF%89%CE%BD %CE%9B%CF%85%CE%BA%CE%B1%CE%B2%CE%B7%CF%84%CF%84%CE%BF%CF%8D":MAILTO:aisidro@otenet.gr
END:VEVENT
BEGIN:VEVENT
DTSTART;TZID=Europe/Athens:20210319T073000
DTEND;TZID=Europe/Athens:20210319T120000
DTSTAMP:20260423T014004
CREATED:20210302T162906Z
LAST-MODIFIED:20210302T162906Z
UID:2757-1616139000-1616155200@www.agioi-isidoroi.gr
SUMMARY:Αγίων Χρυσάνθου & Δαρείας
DESCRIPTION:Προηγιασμένη Θεία Λειτουργία
URL:https://www.agioi-isidoroi.gr/leitourgia/agion-chrysanthoy-amp-dareias/
LOCATION:Ιερός Ναός Αγίων Ισιδώρων Λυκαβηττού\, Λυκαβηττός\, Αθήνα\, Αττική\, 10210\, Greece
CATEGORIES:Θεία Λειτουργία
ORGANIZER;CN="%CE%99%CE%B5%CF%81%CF%8C%CF%82 %CE%9D%CE%B1%CF%8C%CF%82 %CE%91%CE%B3%CE%AF%CF%89%CE%BD %CE%99%CF%83%CE%B9%CE%B4%CF%8E%CF%81%CF%89%CE%BD %CE%9B%CF%85%CE%BA%CE%B1%CE%B2%CE%B7%CF%84%CF%84%CE%BF%CF%8D":MAILTO:aisidro@otenet.gr
END:VEVENT
BEGIN:VEVENT
DTSTART;TZID=Europe/Athens:20210318T183000
DTEND;TZID=Europe/Athens:20210318T213000
DTSTAMP:20260423T014004
CREATED:20210302T162817Z
LAST-MODIFIED:20210302T162817Z
UID:2755-1616092200-1616103000@www.agioi-isidoroi.gr
SUMMARY:Προηγιασμένη Θεία Λειτουργία
DESCRIPTION:
URL:https://www.agioi-isidoroi.gr/leitourgia/proigiasmeni-theia-leitoyrgia-2/
LOCATION:Ιερός Ναός Αγίων Ισιδώρων Λυκαβηττού\, Λυκαβηττός\, Αθήνα\, Αττική\, 10210\, Greece
CATEGORIES:Θεία Λειτουργία
ORGANIZER;CN="%CE%99%CE%B5%CF%81%CF%8C%CF%82 %CE%9D%CE%B1%CF%8C%CF%82 %CE%91%CE%B3%CE%AF%CF%89%CE%BD %CE%99%CF%83%CE%B9%CE%B4%CF%8E%CF%81%CF%89%CE%BD %CE%9B%CF%85%CE%BA%CE%B1%CE%B2%CE%B7%CF%84%CF%84%CE%BF%CF%8D":MAILTO:aisidro@otenet.gr
END:VEVENT
BEGIN:VEVENT
DTSTART;TZID=Europe/Athens:20210318T073000
DTEND;TZID=Europe/Athens:20210318T123000
DTSTAMP:20260423T014004
CREATED:20210302T162738Z
LAST-MODIFIED:20210302T162738Z
UID:2753-1616052600-1616070600@www.agioi-isidoroi.gr
SUMMARY:Κυρίλλου Ιεροσολύμων
DESCRIPTION:Προηγιασμένη Θεία Λειτουργία
URL:https://www.agioi-isidoroi.gr/leitourgia/kyrilloy-ierosolymon/
LOCATION:Ιερός Ναός Αγίων Ισιδώρων Λυκαβηττού\, Λυκαβηττός\, Αθήνα\, Αττική\, 10210\, Greece
CATEGORIES:Θεία Λειτουργία
ORGANIZER;CN="%CE%99%CE%B5%CF%81%CF%8C%CF%82 %CE%9D%CE%B1%CF%8C%CF%82 %CE%91%CE%B3%CE%AF%CF%89%CE%BD %CE%99%CF%83%CE%B9%CE%B4%CF%8E%CF%81%CF%89%CE%BD %CE%9B%CF%85%CE%BA%CE%B1%CE%B2%CE%B7%CF%84%CF%84%CE%BF%CF%8D":MAILTO:aisidro@otenet.gr
END:VEVENT
BEGIN:VEVENT
DTSTART;TZID=Europe/Athens:20210317T183000
DTEND;TZID=Europe/Athens:20210317T210000
DTSTAMP:20260423T014004
CREATED:20210302T162644Z
LAST-MODIFIED:20210302T162644Z
UID:2751-1616005800-1616014800@www.agioi-isidoroi.gr
SUMMARY:Προηγιασμένη Θεία Λειτουργία
DESCRIPTION:στο παρεκκλήσιο του Γολγοθά
URL:https://www.agioi-isidoroi.gr/leitourgia/proigiasmeni-theia-leitoyrgia/
LOCATION:Αττική
CATEGORIES:Θεία Λειτουργία
END:VEVENT
BEGIN:VEVENT
DTSTART;TZID=Europe/Athens:20210317T073000
DTEND;TZID=Europe/Athens:20210317T123000
DTSTAMP:20260423T014004
CREATED:20210302T162524Z
LAST-MODIFIED:20210302T162524Z
UID:2749-1615966200-1615984200@www.agioi-isidoroi.gr
SUMMARY:Αλεξίου Ανθρώπου του Θεού
DESCRIPTION:Προηγιασμένη Θεία Λειτουργία
URL:https://www.agioi-isidoroi.gr/leitourgia/alexioy-anthropoy-toy-theoy/
LOCATION:Ιερός Ναός Αγίων Ισιδώρων Λυκαβηττού\, Λυκαβηττός\, Αθήνα\, Αττική\, 10210\, Greece
CATEGORIES:Θεία Λειτουργία
ORGANIZER;CN="%CE%99%CE%B5%CF%81%CF%8C%CF%82 %CE%9D%CE%B1%CF%8C%CF%82 %CE%91%CE%B3%CE%AF%CF%89%CE%BD %CE%99%CF%83%CE%B9%CE%B4%CF%8E%CF%81%CF%89%CE%BD %CE%9B%CF%85%CE%BA%CE%B1%CE%B2%CE%B7%CF%84%CF%84%CE%BF%CF%8D":MAILTO:aisidro@otenet.gr
END:VEVENT
BEGIN:VEVENT
DTSTART;TZID=Europe/Athens:20210316T183000
DTEND;TZID=Europe/Athens:20210316T213000
DTSTAMP:20260423T014004
CREATED:20210302T162415Z
LAST-MODIFIED:20210302T162415Z
UID:2747-1615919400-1615930200@www.agioi-isidoroi.gr
SUMMARY:Μεγάλο Απόδειπνο
DESCRIPTION:
URL:https://www.agioi-isidoroi.gr/leitourgia/megalo-apodeipno-2/
LOCATION:Ιερός Ναός Αγίων Ισιδώρων Λυκαβηττού\, Λυκαβηττός\, Αθήνα\, Αττική\, 10210\, Greece
CATEGORIES:Μεγάλο Απόδειπνο
ORGANIZER;CN="%CE%99%CE%B5%CF%81%CF%8C%CF%82 %CE%9D%CE%B1%CF%8C%CF%82 %CE%91%CE%B3%CE%AF%CF%89%CE%BD %CE%99%CF%83%CE%B9%CE%B4%CF%8E%CF%81%CF%89%CE%BD %CE%9B%CF%85%CE%BA%CE%B1%CE%B2%CE%B7%CF%84%CF%84%CE%BF%CF%8D":MAILTO:aisidro@otenet.gr
END:VEVENT
BEGIN:VEVENT
DTSTART;TZID=Europe/Athens:20210316T073000
DTEND;TZID=Europe/Athens:20210316T123000
DTSTAMP:20260423T014004
CREATED:20210302T162328Z
LAST-MODIFIED:20210302T162328Z
UID:2745-1615879800-1615897800@www.agioi-isidoroi.gr
SUMMARY:Οσίου Χριστοδούλου εν Πάτμω
DESCRIPTION:Όρθρος\, Ώρες & Εσπερινός
URL:https://www.agioi-isidoroi.gr/leitourgia/osioy-christodoyloy-en-patmo/
LOCATION:Ιερός Ναός Αγίων Ισιδώρων Λυκαβηττού\, Λυκαβηττός\, Αθήνα\, Αττική\, 10210\, Greece
CATEGORIES:Εσπερινός,Όρθρος,Ώρες
ORGANIZER;CN="%CE%99%CE%B5%CF%81%CF%8C%CF%82 %CE%9D%CE%B1%CF%8C%CF%82 %CE%91%CE%B3%CE%AF%CF%89%CE%BD %CE%99%CF%83%CE%B9%CE%B4%CF%8E%CF%81%CF%89%CE%BD %CE%9B%CF%85%CE%BA%CE%B1%CE%B2%CE%B7%CF%84%CF%84%CE%BF%CF%8D":MAILTO:aisidro@otenet.gr
END:VEVENT
BEGIN:VEVENT
DTSTART;TZID=Europe/Athens:20210315T190000
DTEND;TZID=Europe/Athens:20210315T213000
DTSTAMP:20260423T014004
CREATED:20210302T162243Z
LAST-MODIFIED:20210302T162243Z
UID:2743-1615834800-1615843800@www.agioi-isidoroi.gr
SUMMARY:Μεγάλο Απόδειπνο
DESCRIPTION:Σας ευχόμαστε Καλή και Ευλογημένη Σαρακοστή.
URL:https://www.agioi-isidoroi.gr/leitourgia/megalo-apodeipno/
LOCATION:Αττική
CATEGORIES:Μεγάλο Απόδειπνο
END:VEVENT
BEGIN:VEVENT
DTSTART;TZID=Europe/Athens:20210315T073000
DTEND;TZID=Europe/Athens:20210315T123000
DTSTAMP:20260423T014004
CREATED:20210302T162143Z
LAST-MODIFIED:20210302T162151Z
UID:2740-1615793400-1615811400@www.agioi-isidoroi.gr
SUMMARY:ΚΑΘΑΡΑ ΔΕΥΤΕΡΑ-Αρχή της Νηστείας
DESCRIPTION:Όρθρος\, Ώρες & Εσπερινός
URL:https://www.agioi-isidoroi.gr/leitourgia/kathara-deytera-archi-tis-nisteias/
LOCATION:Ιερός Ναός Αγίων Ισιδώρων Λυκαβηττού\, Λυκαβηττός\, Αθήνα\, Αττική\, 10210\, Greece
CATEGORIES:Εσπερινός,Όρθρος,Ώρες
ORGANIZER;CN="%CE%99%CE%B5%CF%81%CF%8C%CF%82 %CE%9D%CE%B1%CF%8C%CF%82 %CE%91%CE%B3%CE%AF%CF%89%CE%BD %CE%99%CF%83%CE%B9%CE%B4%CF%8E%CF%81%CF%89%CE%BD %CE%9B%CF%85%CE%BA%CE%B1%CE%B2%CE%B7%CF%84%CF%84%CE%BF%CF%8D":MAILTO:aisidro@otenet.gr
END:VEVENT
BEGIN:VEVENT
DTSTART;TZID=Europe/Athens:20210314T190000
DTEND;TZID=Europe/Athens:20210314T220000
DTSTAMP:20260423T014004
CREATED:20210302T162041Z
LAST-MODIFIED:20210302T162041Z
UID:2738-1615748400-1615759200@www.agioi-isidoroi.gr
SUMMARY:Κατανυκτικός Εσπερινός (της Συγχωρήσεως)
DESCRIPTION:
URL:https://www.agioi-isidoroi.gr/leitourgia/katanyktikos-esperinos-tis-sygchoriseos/
LOCATION:Αττική
CATEGORIES:Εσπερινός
END:VEVENT
BEGIN:VEVENT
DTSTART;TZID=Europe/Athens:20210314T073000
DTEND;TZID=Europe/Athens:20210314T113000
DTSTAMP:20260423T014004
CREATED:20210302T162009Z
LAST-MODIFIED:20210302T162009Z
UID:2736-1615707000-1615721400@www.agioi-isidoroi.gr
SUMMARY:ΤΗΣ ΤΥΡΙΝΗΣ
DESCRIPTION:Όρθρος & Θεία Λειτουργία
URL:https://www.agioi-isidoroi.gr/leitourgia/tis-tyrinis/
LOCATION:Ιερός Ναός Αγίων Ισιδώρων Λυκαβηττού\, Λυκαβηττός\, Αθήνα\, Αττική\, 10210\, Greece
CATEGORIES:Όρθρος Και Θεία Λειτουργία
ORGANIZER;CN="%CE%99%CE%B5%CF%81%CF%8C%CF%82 %CE%9D%CE%B1%CF%8C%CF%82 %CE%91%CE%B3%CE%AF%CF%89%CE%BD %CE%99%CF%83%CE%B9%CE%B4%CF%8E%CF%81%CF%89%CE%BD %CE%9B%CF%85%CE%BA%CE%B1%CE%B2%CE%B7%CF%84%CF%84%CE%BF%CF%8D":MAILTO:aisidro@otenet.gr
END:VEVENT
BEGIN:VEVENT
DTSTART;TZID=Europe/Athens:20210313T183000
DTEND;TZID=Europe/Athens:20210313T210000
DTSTAMP:20260423T014004
CREATED:20210302T161935Z
LAST-MODIFIED:20210302T161935Z
UID:2734-1615660200-1615669200@www.agioi-isidoroi.gr
SUMMARY:Εσπερινός της Τυρινής
DESCRIPTION:
URL:https://www.agioi-isidoroi.gr/leitourgia/esperinos-tis-tyrinis/
LOCATION:Ιερός Ναός Αγίων Ισιδώρων Λυκαβηττού\, Λυκαβηττός\, Αθήνα\, Αττική\, 10210\, Greece
CATEGORIES:Εσπερινός
ORGANIZER;CN="%CE%99%CE%B5%CF%81%CF%8C%CF%82 %CE%9D%CE%B1%CF%8C%CF%82 %CE%91%CE%B3%CE%AF%CF%89%CE%BD %CE%99%CF%83%CE%B9%CE%B4%CF%8E%CF%81%CF%89%CE%BD %CE%9B%CF%85%CE%BA%CE%B1%CE%B2%CE%B7%CF%84%CF%84%CE%BF%CF%8D":MAILTO:aisidro@otenet.gr
END:VEVENT
BEGIN:VEVENT
DTSTART;TZID=Europe/Athens:20210313T073000
DTEND;TZID=Europe/Athens:20210313T113000
DTSTAMP:20260423T014004
CREATED:20210302T161854Z
LAST-MODIFIED:20210302T161854Z
UID:2732-1615620600-1615635000@www.agioi-isidoroi.gr
SUMMARY:Ψυχοσάββατο (ευλογία των κολλύβων)
DESCRIPTION:Όρθρος & Θεία Λειτουργία
URL:https://www.agioi-isidoroi.gr/leitourgia/psychosavvato-eylogia-ton-kollyvon-2/
LOCATION:Ιερός Ναός Αγίων Ισιδώρων Λυκαβηττού\, Λυκαβηττός\, Αθήνα\, Αττική\, 10210\, Greece
CATEGORIES:Όρθρος Και Θεία Λειτουργία
ORGANIZER;CN="%CE%99%CE%B5%CF%81%CF%8C%CF%82 %CE%9D%CE%B1%CF%8C%CF%82 %CE%91%CE%B3%CE%AF%CF%89%CE%BD %CE%99%CF%83%CE%B9%CE%B4%CF%8E%CF%81%CF%89%CE%BD %CE%9B%CF%85%CE%BA%CE%B1%CE%B2%CE%B7%CF%84%CF%84%CE%BF%CF%8D":MAILTO:aisidro@otenet.gr
END:VEVENT
BEGIN:VEVENT
DTSTART;TZID=Europe/Athens:20210312T183000
DTEND;TZID=Europe/Athens:20210312T213000
DTSTAMP:20260423T014004
CREATED:20210302T161810Z
LAST-MODIFIED:20210302T161810Z
UID:2730-1615573800-1615584600@www.agioi-isidoroi.gr
SUMMARY:Εσπερινός (ευλογία των κολλύβων)
DESCRIPTION:Εσπερινός (ευλογία των κολλύβων)
URL:https://www.agioi-isidoroi.gr/leitourgia/esperinos-eylogia-ton-kollyvon-2/
LOCATION:Ιερός Ναός Αγίων Ισιδώρων Λυκαβηττού\, Λυκαβηττός\, Αθήνα\, Αττική\, 10210\, Greece
CATEGORIES:Εσπερινός
ORGANIZER;CN="%CE%99%CE%B5%CF%81%CF%8C%CF%82 %CE%9D%CE%B1%CF%8C%CF%82 %CE%91%CE%B3%CE%AF%CF%89%CE%BD %CE%99%CF%83%CE%B9%CE%B4%CF%8E%CF%81%CF%89%CE%BD %CE%9B%CF%85%CE%BA%CE%B1%CE%B2%CE%B7%CF%84%CF%84%CE%BF%CF%8D":MAILTO:aisidro@otenet.gr
END:VEVENT
BEGIN:VEVENT
DTSTART;TZID=Europe/Athens:20210312T073000
DTEND;TZID=Europe/Athens:20210312T113000
DTSTAMP:20260423T014004
CREATED:20210302T161731Z
LAST-MODIFIED:20210302T161731Z
UID:2728-1615534200-1615548600@www.agioi-isidoroi.gr
SUMMARY:Θεοφάνους του ομολογητού
DESCRIPTION:Όρθρος & Ώρες
URL:https://www.agioi-isidoroi.gr/leitourgia/theofanoys-toy-omologitoy/
LOCATION:Ιερός Ναός Αγίων Ισιδώρων Λυκαβηττού\, Λυκαβηττός\, Αθήνα\, Αττική\, 10210\, Greece
CATEGORIES:Όρθρος,Ώρες
ORGANIZER;CN="%CE%99%CE%B5%CF%81%CF%8C%CF%82 %CE%9D%CE%B1%CF%8C%CF%82 %CE%91%CE%B3%CE%AF%CF%89%CE%BD %CE%99%CF%83%CE%B9%CE%B4%CF%8E%CF%81%CF%89%CE%BD %CE%9B%CF%85%CE%BA%CE%B1%CE%B2%CE%B7%CF%84%CF%84%CE%BF%CF%8D":MAILTO:aisidro@otenet.gr
END:VEVENT
BEGIN:VEVENT
DTSTART;TZID=Europe/Athens:20210311T183000
DTEND;TZID=Europe/Athens:20210311T210000
DTSTAMP:20260423T014004
CREATED:20210302T161649Z
LAST-MODIFIED:20210302T161649Z
UID:2726-1615487400-1615496400@www.agioi-isidoroi.gr
SUMMARY:Εσπερινός & Παράκληση στον Άγιο Λουκά τον Ιατρό
DESCRIPTION:Εσπερινός & Παράκληση στον Άγιο Λουκά τον Ιατρό
URL:https://www.agioi-isidoroi.gr/leitourgia/esperinos-amp-paraklisi-ston-agio-loyka-ton-iatro/
LOCATION:Αττική
CATEGORIES:Εσπερινός & Παράκληση
END:VEVENT
BEGIN:VEVENT
DTSTART;TZID=Europe/Athens:20210311T073000
DTEND;TZID=Europe/Athens:20210311T120000
DTSTAMP:20260423T014004
CREATED:20210302T161616Z
LAST-MODIFIED:20210302T161616Z
UID:2724-1615447800-1615464000@www.agioi-isidoroi.gr
SUMMARY:Σοφρωνίου πατρ. Ιεροσόλυμων
DESCRIPTION:Όρθρος & Θεία Λειτουργία
URL:https://www.agioi-isidoroi.gr/leitourgia/sofronioy-patr-ierosolymon/
LOCATION:Ιερός Ναός Αγίων Ισιδώρων Λυκαβηττού\, Λυκαβηττός\, Αθήνα\, Αττική\, 10210\, Greece
CATEGORIES:Όρθρος Και Θεία Λειτουργία
ORGANIZER;CN="%CE%99%CE%B5%CF%81%CF%8C%CF%82 %CE%9D%CE%B1%CF%8C%CF%82 %CE%91%CE%B3%CE%AF%CF%89%CE%BD %CE%99%CF%83%CE%B9%CE%B4%CF%8E%CF%81%CF%89%CE%BD %CE%9B%CF%85%CE%BA%CE%B1%CE%B2%CE%B7%CF%84%CF%84%CE%BF%CF%8D":MAILTO:aisidro@otenet.gr
END:VEVENT
END:VCALENDAR