BEGIN:VCALENDAR
VERSION:2.0
PRODID:-//ΙΕΡΟΣ ΝΑΟΣ ΑΓΙΩΝ ΙΣΙΔΩΡΩΝ - ECPv6.15.17.1//NONSGML v1.0//EN
CALSCALE:GREGORIAN
METHOD:PUBLISH
X-WR-CALNAME:ΙΕΡΟΣ ΝΑΟΣ ΑΓΙΩΝ ΙΣΙΔΩΡΩΝ
X-ORIGINAL-URL:https://www.agioi-isidoroi.gr
X-WR-CALDESC:Events for ΙΕΡΟΣ ΝΑΟΣ ΑΓΙΩΝ ΙΣΙΔΩΡΩΝ
REFRESH-INTERVAL;VALUE=DURATION:PT1H
X-Robots-Tag:noindex
X-PUBLISHED-TTL:PT1H
BEGIN:VTIMEZONE
TZID:Europe/Athens
BEGIN:DAYLIGHT
TZOFFSETFROM:+0200
TZOFFSETTO:+0300
TZNAME:EEST
DTSTART:20210328T010000
END:DAYLIGHT
BEGIN:STANDARD
TZOFFSETFROM:+0300
TZOFFSETTO:+0200
TZNAME:EET
DTSTART:20211031T010000
END:STANDARD
BEGIN:DAYLIGHT
TZOFFSETFROM:+0200
TZOFFSETTO:+0300
TZNAME:EEST
DTSTART:20220327T010000
END:DAYLIGHT
BEGIN:STANDARD
TZOFFSETFROM:+0300
TZOFFSETTO:+0200
TZNAME:EET
DTSTART:20221030T010000
END:STANDARD
BEGIN:DAYLIGHT
TZOFFSETFROM:+0200
TZOFFSETTO:+0300
TZNAME:EEST
DTSTART:20230326T010000
END:DAYLIGHT
BEGIN:STANDARD
TZOFFSETFROM:+0300
TZOFFSETTO:+0200
TZNAME:EET
DTSTART:20231029T010000
END:STANDARD
END:VTIMEZONE
BEGIN:VEVENT
DTSTART;TZID=Europe/Athens:20220406T073000
DTEND;TZID=Europe/Athens:20220406T093000
DTSTAMP:20260420T114933
CREATED:20220330T150632Z
LAST-MODIFIED:20220330T150632Z
UID:4361-1649230200-1649237400@www.agioi-isidoroi.gr
SUMMARY:Αγίου Ευτυχίου πατριάρχη Κων/πόλεως (+582)
DESCRIPTION:Προηγιασμένη Θεία Λειτουργία
URL:https://www.agioi-isidoroi.gr/leitourgia/agioy-eytychioy-patriarchi-kon-poleos-582/
LOCATION:Ιερός Ναός Αγίων Ισιδώρων Λυκαβηττού\, Λυκαβηττός\, Αθήνα\, Αττική\, 10210\, Greece
CATEGORIES:Θεία Λειτουργία
ORGANIZER;CN="%CE%99%CE%B5%CF%81%CF%8C%CF%82 %CE%9D%CE%B1%CF%8C%CF%82 %CE%91%CE%B3%CE%AF%CF%89%CE%BD %CE%99%CF%83%CE%B9%CE%B4%CF%8E%CF%81%CF%89%CE%BD %CE%9B%CF%85%CE%BA%CE%B1%CE%B2%CE%B7%CF%84%CF%84%CE%BF%CF%8D":MAILTO:aisidro@otenet.gr
END:VEVENT
BEGIN:VEVENT
DTSTART;TZID=Europe/Athens:20220405T073000
DTEND;TZID=Europe/Athens:20220405T093000
DTSTAMP:20260420T114933
CREATED:20220330T150549Z
LAST-MODIFIED:20220330T150549Z
UID:4359-1649143800-1649151000@www.agioi-isidoroi.gr
SUMMARY:Οσίας Θεοδώρας της εν Θεσσαλονίκη
DESCRIPTION:Προηγιασμένη Θεία Λειτουργία
URL:https://www.agioi-isidoroi.gr/leitourgia/osias-theodoras-tis-en-thessaloniki/
LOCATION:Ιερός Ναός Αγίων Ισιδώρων Λυκαβηττού\, Λυκαβηττός\, Αθήνα\, Αττική\, 10210\, Greece
CATEGORIES:Θεία Λειτουργία
ORGANIZER;CN="%CE%99%CE%B5%CF%81%CF%8C%CF%82 %CE%9D%CE%B1%CF%8C%CF%82 %CE%91%CE%B3%CE%AF%CF%89%CE%BD %CE%99%CF%83%CE%B9%CE%B4%CF%8E%CF%81%CF%89%CE%BD %CE%9B%CF%85%CE%BA%CE%B1%CE%B2%CE%B7%CF%84%CF%84%CE%BF%CF%8D":MAILTO:aisidro@otenet.gr
END:VEVENT
BEGIN:VEVENT
DTSTART;TZID=Europe/Athens:20220404T073000
DTEND;TZID=Europe/Athens:20220404T093000
DTSTAMP:20260420T114933
CREATED:20220330T150503Z
LAST-MODIFIED:20220330T150503Z
UID:4357-1649057400-1649064600@www.agioi-isidoroi.gr
SUMMARY:Οσίου Γεωργίου του εν τω Μαλαίω
DESCRIPTION:Προηγιασμένη Θεία Λειτουργία
URL:https://www.agioi-isidoroi.gr/leitourgia/osioy-georgioy-toy-en-to-malaio/
LOCATION:Ιερός Ναός Αγίων Ισιδώρων Λυκαβηττού\, Λυκαβηττός\, Αθήνα\, Αττική\, 10210\, Greece
CATEGORIES:Θεία Λειτουργία
ORGANIZER;CN="%CE%99%CE%B5%CF%81%CF%8C%CF%82 %CE%9D%CE%B1%CF%8C%CF%82 %CE%91%CE%B3%CE%AF%CF%89%CE%BD %CE%99%CF%83%CE%B9%CE%B4%CF%8E%CF%81%CF%89%CE%BD %CE%9B%CF%85%CE%BA%CE%B1%CE%B2%CE%B7%CF%84%CF%84%CE%BF%CF%8D":MAILTO:aisidro@otenet.gr
END:VEVENT
BEGIN:VEVENT
DTSTART;TZID=Europe/Athens:20220403T190000
DTEND;TZID=Europe/Athens:20220403T220000
DTSTAMP:20260420T114933
CREATED:20220403T125313Z
LAST-MODIFIED:20220403T125313Z
UID:4423-1649012400-1649023200@www.agioi-isidoroi.gr
SUMMARY:ΑΚΟΛΟΥΘΙΑ ΤΟΥ ΕΠΙΤΑΦΙΟΥ - ΤΑ ΕΓΚΩΜΙΑ
DESCRIPTION:«Ω γλυκύ μου έαρ\, γλυκύτατόν μου Τέκνον\, πού έδυ σου το κάλλος; Έρραναν τον τάφον αι Μυροφόροι μύρα\,\nλίαν πρωί ελθούσαι. Ω Τριάς Θεέ μου\, Πατήρ Υιός και Πνεύμα\, ελέησον τον κόσμον.»\n*Θα γίνει η περιφορά του Επιταφίου επί των οδών Σαρανταπήχου & Δοξαπατρή.
URL:https://www.agioi-isidoroi.gr/leitourgia/akoloythia-toy-epitafioy-ta-egkomia-2/
LOCATION:Ιερός Ναός Αγίων Ισιδώρων Λυκαβηττού\, Λυκαβηττός\, Αθήνα\, Αττική\, 10210\, Greece
CATEGORIES:Ακολουθία
ORGANIZER;CN="%CE%99%CE%B5%CF%81%CF%8C%CF%82 %CE%9D%CE%B1%CF%8C%CF%82 %CE%91%CE%B3%CE%AF%CF%89%CE%BD %CE%99%CF%83%CE%B9%CE%B4%CF%8E%CF%81%CF%89%CE%BD %CE%9B%CF%85%CE%BA%CE%B1%CE%B2%CE%B7%CF%84%CF%84%CE%BF%CF%8D":MAILTO:aisidro@otenet.gr
END:VEVENT
BEGIN:VEVENT
DTSTART;TZID=Europe/Athens:20220403T183000
DTEND;TZID=Europe/Athens:20220403T193000
DTSTAMP:20260420T114933
CREATED:20220330T150404Z
LAST-MODIFIED:20220330T150404Z
UID:4355-1649010600-1649014200@www.agioi-isidoroi.gr
SUMMARY:Κατανυκτικός Εσπερινός
DESCRIPTION:
URL:https://www.agioi-isidoroi.gr/leitourgia/katanyktikos-esperinos-9/
LOCATION:Ιερός Ναός Αγίων Ισιδώρων Λυκαβηττού\, Λυκαβηττός\, Αθήνα\, Αττική\, 10210\, Greece
CATEGORIES:Εσπερινός
ORGANIZER;CN="%CE%99%CE%B5%CF%81%CF%8C%CF%82 %CE%9D%CE%B1%CF%8C%CF%82 %CE%91%CE%B3%CE%AF%CF%89%CE%BD %CE%99%CF%83%CE%B9%CE%B4%CF%8E%CF%81%CF%89%CE%BD %CE%9B%CF%85%CE%BA%CE%B1%CE%B2%CE%B7%CF%84%CF%84%CE%BF%CF%8D":MAILTO:aisidro@otenet.gr
END:VEVENT
BEGIN:VEVENT
DTSTART;TZID=Europe/Athens:20220403T073000
DTEND;TZID=Europe/Athens:20220403T113000
DTSTAMP:20260420T114933
CREATED:20220330T150306Z
LAST-MODIFIED:20220330T150306Z
UID:4353-1648971000-1648985400@www.agioi-isidoroi.gr
SUMMARY:Δ’ Νηστειών\, Αγίου Ιωάννου της Κλίμακος
DESCRIPTION:Όρθρος & Θεία Λειτουργία
URL:https://www.agioi-isidoroi.gr/leitourgia/d-nisteion-agioy-ioannoy-tis-klimakos/
LOCATION:Ιερός Ναός Αγίων Ισιδώρων Λυκαβηττού\, Λυκαβηττός\, Αθήνα\, Αττική\, 10210\, Greece
CATEGORIES:Όρθρος Και Θεία Λειτουργία
ORGANIZER;CN="%CE%99%CE%B5%CF%81%CF%8C%CF%82 %CE%9D%CE%B1%CF%8C%CF%82 %CE%91%CE%B3%CE%AF%CF%89%CE%BD %CE%99%CF%83%CE%B9%CE%B4%CF%8E%CF%81%CF%89%CE%BD %CE%9B%CF%85%CE%BA%CE%B1%CE%B2%CE%B7%CF%84%CF%84%CE%BF%CF%8D":MAILTO:aisidro@otenet.gr
END:VEVENT
BEGIN:VEVENT
DTSTART;TZID=Europe/Athens:20220402T183000
DTEND;TZID=Europe/Athens:20220402T193000
DTSTAMP:20260420T114933
CREATED:20220330T144534Z
LAST-MODIFIED:20220330T144534Z
UID:4351-1648924200-1648927800@www.agioi-isidoroi.gr
SUMMARY:Αναστάσιμος Εσπερινός Δ’ Νηστειών
DESCRIPTION:
URL:https://www.agioi-isidoroi.gr/leitourgia/anastasimos-esperinos-d-nisteion/
LOCATION:Ιερός Ναός Αγίων Ισιδώρων Λυκαβηττού\, Λυκαβηττός\, Αθήνα\, Αττική\, 10210\, Greece
CATEGORIES:Αναστάσιμος Εσπερινός
ORGANIZER;CN="%CE%99%CE%B5%CF%81%CF%8C%CF%82 %CE%9D%CE%B1%CF%8C%CF%82 %CE%91%CE%B3%CE%AF%CF%89%CE%BD %CE%99%CF%83%CE%B9%CE%B4%CF%8E%CF%81%CF%89%CE%BD %CE%9B%CF%85%CE%BA%CE%B1%CE%B2%CE%B7%CF%84%CF%84%CE%BF%CF%8D":MAILTO:aisidro@otenet.gr
END:VEVENT
BEGIN:VEVENT
DTSTART;TZID=Europe/Athens:20220402T073000
DTEND;TZID=Europe/Athens:20220402T093000
DTSTAMP:20260420T114933
CREATED:20220330T144454Z
LAST-MODIFIED:20220330T144454Z
UID:4349-1648884600-1648891800@www.agioi-isidoroi.gr
SUMMARY:Οσίου Τίτου του Θαυματουργού
DESCRIPTION:Όρθρος & Θεία Λειτουργία
URL:https://www.agioi-isidoroi.gr/leitourgia/osioy-titoy-toy-thaymatoyrgoy/
LOCATION:Ιερός Ναός Αγίων Ισιδώρων Λυκαβηττού\, Λυκαβηττός\, Αθήνα\, Αττική\, 10210\, Greece
CATEGORIES:Όρθρος Και Θεία Λειτουργία
ORGANIZER;CN="%CE%99%CE%B5%CF%81%CF%8C%CF%82 %CE%9D%CE%B1%CF%8C%CF%82 %CE%91%CE%B3%CE%AF%CF%89%CE%BD %CE%99%CF%83%CE%B9%CE%B4%CF%8E%CF%81%CF%89%CE%BD %CE%9B%CF%85%CE%BA%CE%B1%CE%B2%CE%B7%CF%84%CF%84%CE%BF%CF%8D":MAILTO:aisidro@otenet.gr
END:VEVENT
BEGIN:VEVENT
DTSTART;TZID=Europe/Athens:20220401T193000
DTEND;TZID=Europe/Athens:20220401T213000
DTSTAMP:20260420T114933
CREATED:20220224T170847Z
LAST-MODIFIED:20220224T170847Z
UID:4342-1648841400-1648848600@www.agioi-isidoroi.gr
SUMMARY:Δ’ ΧΑΙΡΕΤΙΣΜΟΙ
DESCRIPTION:
URL:https://www.agioi-isidoroi.gr/leitourgia/d-chairetismoi/
LOCATION:Ιερός Ναός Αγίων Ισιδώρων Λυκαβηττού\, Λυκαβηττός\, Αθήνα\, Αττική\, 10210\, Greece
CATEGORIES:Χαιρετισμοί της Παναγίας
ORGANIZER;CN="%CE%99%CE%B5%CF%81%CF%8C%CF%82 %CE%9D%CE%B1%CF%8C%CF%82 %CE%91%CE%B3%CE%AF%CF%89%CE%BD %CE%99%CF%83%CE%B9%CE%B4%CF%8E%CF%81%CF%89%CE%BD %CE%9B%CF%85%CE%BA%CE%B1%CE%B2%CE%B7%CF%84%CF%84%CE%BF%CF%8D":MAILTO:aisidro@otenet.gr
END:VEVENT
BEGIN:VEVENT
DTSTART;TZID=Europe/Athens:20220401T073000
DTEND;TZID=Europe/Athens:20220401T093000
DTSTAMP:20260420T114933
CREATED:20220224T170756Z
LAST-MODIFIED:20220224T170756Z
UID:4340-1648798200-1648805400@www.agioi-isidoroi.gr
SUMMARY:Οσίας Μαρίας της Αιγυπτίας
DESCRIPTION:+ Εορτάζει το Ιερό Εικονοστάσιο της Οσίας Μαρίας της Αιγυπτίας. \nΠροηγιασμένη Θεία Λειτουργία
URL:https://www.agioi-isidoroi.gr/leitourgia/osias-marias-tis-aigyptias-2/
LOCATION:Ιερός Ναός Αγίων Ισιδώρων Λυκαβηττού\, Λυκαβηττός\, Αθήνα\, Αττική\, 10210\, Greece
CATEGORIES:Θεία Λειτουργία
ORGANIZER;CN="%CE%99%CE%B5%CF%81%CF%8C%CF%82 %CE%9D%CE%B1%CF%8C%CF%82 %CE%91%CE%B3%CE%AF%CF%89%CE%BD %CE%99%CF%83%CE%B9%CE%B4%CF%8E%CF%81%CF%89%CE%BD %CE%9B%CF%85%CE%BA%CE%B1%CE%B2%CE%B7%CF%84%CF%84%CE%BF%CF%8D":MAILTO:aisidro@otenet.gr
END:VEVENT
BEGIN:VEVENT
DTSTART;TZID=Europe/Athens:20220331T183000
DTEND;TZID=Europe/Athens:20220331T193000
DTSTAMP:20260420T114933
CREATED:20220224T170659Z
LAST-MODIFIED:20220224T170659Z
UID:4338-1648751400-1648755000@www.agioi-isidoroi.gr
SUMMARY:Προηγιασμένη Θεία Λειτουργία
DESCRIPTION:
URL:https://www.agioi-isidoroi.gr/leitourgia/proigiasmeni-theia-leitoyrgia-19/
LOCATION:Ιερός Ναός Αγίων Ισιδώρων Λυκαβηττού\, Λυκαβηττός\, Αθήνα\, Αττική\, 10210\, Greece
CATEGORIES:Θεία Λειτουργία
ORGANIZER;CN="%CE%99%CE%B5%CF%81%CF%8C%CF%82 %CE%9D%CE%B1%CF%8C%CF%82 %CE%91%CE%B3%CE%AF%CF%89%CE%BD %CE%99%CF%83%CE%B9%CE%B4%CF%8E%CF%81%CF%89%CE%BD %CE%9B%CF%85%CE%BA%CE%B1%CE%B2%CE%B7%CF%84%CF%84%CE%BF%CF%8D":MAILTO:aisidro@otenet.gr
END:VEVENT
BEGIN:VEVENT
DTSTART;TZID=Europe/Athens:20220331T073000
DTEND;TZID=Europe/Athens:20220331T093000
DTSTAMP:20260420T114933
CREATED:20220224T170603Z
LAST-MODIFIED:20220224T170603Z
UID:4336-1648711800-1648719000@www.agioi-isidoroi.gr
SUMMARY:Αγίου ιερομάρτ. Υπατίου
DESCRIPTION:Προηγιασμένη Θεία Λειτουργία
URL:https://www.agioi-isidoroi.gr/leitourgia/agioy-ieromart-ypatioy/
LOCATION:Ιερός Ναός Αγίων Ισιδώρων Λυκαβηττού\, Λυκαβηττός\, Αθήνα\, Αττική\, 10210\, Greece
CATEGORIES:Θεία Λειτουργία
ORGANIZER;CN="%CE%99%CE%B5%CF%81%CF%8C%CF%82 %CE%9D%CE%B1%CF%8C%CF%82 %CE%91%CE%B3%CE%AF%CF%89%CE%BD %CE%99%CF%83%CE%B9%CE%B4%CF%8E%CF%81%CF%89%CE%BD %CE%9B%CF%85%CE%BA%CE%B1%CE%B2%CE%B7%CF%84%CF%84%CE%BF%CF%8D":MAILTO:aisidro@otenet.gr
END:VEVENT
BEGIN:VEVENT
DTSTART;TZID=Europe/Athens:20220330T183000
DTEND;TZID=Europe/Athens:20220330T193000
DTSTAMP:20260420T114933
CREATED:20220224T170517Z
LAST-MODIFIED:20220224T170517Z
UID:4334-1648665000-1648668600@www.agioi-isidoroi.gr
SUMMARY:Προηγιασμένη Θεία Λειτουργία
DESCRIPTION:
URL:https://www.agioi-isidoroi.gr/leitourgia/proigiasmeni-theia-leitoyrgia-18/
LOCATION:Ιερός Ναός Αγίων Ισιδώρων Λυκαβηττού\, Λυκαβηττός\, Αθήνα\, Αττική\, 10210\, Greece
CATEGORIES:Θεία Λειτουργία
ORGANIZER;CN="%CE%99%CE%B5%CF%81%CF%8C%CF%82 %CE%9D%CE%B1%CF%8C%CF%82 %CE%91%CE%B3%CE%AF%CF%89%CE%BD %CE%99%CF%83%CE%B9%CE%B4%CF%8E%CF%81%CF%89%CE%BD %CE%9B%CF%85%CE%BA%CE%B1%CE%B2%CE%B7%CF%84%CF%84%CE%BF%CF%8D":MAILTO:aisidro@otenet.gr
END:VEVENT
BEGIN:VEVENT
DTSTART;TZID=Europe/Athens:20220330T073000
DTEND;TZID=Europe/Athens:20220330T093000
DTSTAMP:20260420T114933
CREATED:20220224T170443Z
LAST-MODIFIED:20220224T170443Z
UID:4332-1648625400-1648632600@www.agioi-isidoroi.gr
SUMMARY:Αγίου Ιωάννου της Κλίμακος
DESCRIPTION:Προηγιασμένη Θεία Λειτουργία
URL:https://www.agioi-isidoroi.gr/leitourgia/agioy-ioannoy-tis-klimakos/
LOCATION:Ιερός Ναός Αγίων Ισιδώρων Λυκαβηττού\, Λυκαβηττός\, Αθήνα\, Αττική\, 10210\, Greece
CATEGORIES:Θεία Λειτουργία
ORGANIZER;CN="%CE%99%CE%B5%CF%81%CF%8C%CF%82 %CE%9D%CE%B1%CF%8C%CF%82 %CE%91%CE%B3%CE%AF%CF%89%CE%BD %CE%99%CF%83%CE%B9%CE%B4%CF%8E%CF%81%CF%89%CE%BD %CE%9B%CF%85%CE%BA%CE%B1%CE%B2%CE%B7%CF%84%CF%84%CE%BF%CF%8D":MAILTO:aisidro@otenet.gr
END:VEVENT
BEGIN:VEVENT
DTSTART;TZID=Europe/Athens:20220329T073000
DTEND;TZID=Europe/Athens:20220329T093000
DTSTAMP:20260420T114933
CREATED:20220224T170357Z
LAST-MODIFIED:20220224T170357Z
UID:4330-1648539000-1648546200@www.agioi-isidoroi.gr
SUMMARY:Οσίου Ησυχίου
DESCRIPTION:Προηγιασμένη Θεία Λειτουργία
URL:https://www.agioi-isidoroi.gr/leitourgia/osioy-isychioy/
LOCATION:Ιερός Ναός Αγίων Ισιδώρων Λυκαβηττού\, Λυκαβηττός\, Αθήνα\, Αττική\, 10210\, Greece
CATEGORIES:Θεία Λειτουργία
ORGANIZER;CN="%CE%99%CE%B5%CF%81%CF%8C%CF%82 %CE%9D%CE%B1%CF%8C%CF%82 %CE%91%CE%B3%CE%AF%CF%89%CE%BD %CE%99%CF%83%CE%B9%CE%B4%CF%8E%CF%81%CF%89%CE%BD %CE%9B%CF%85%CE%BA%CE%B1%CE%B2%CE%B7%CF%84%CF%84%CE%BF%CF%8D":MAILTO:aisidro@otenet.gr
END:VEVENT
BEGIN:VEVENT
DTSTART;TZID=Europe/Athens:20220328T073000
DTEND;TZID=Europe/Athens:20220328T093000
DTSTAMP:20260420T114933
CREATED:20220224T170315Z
LAST-MODIFIED:20220224T170315Z
UID:4328-1648452600-1648459800@www.agioi-isidoroi.gr
SUMMARY:Οσίου Ιλαρίωνος
DESCRIPTION:Προηγιασμένη Θεία Λειτουργία
URL:https://www.agioi-isidoroi.gr/leitourgia/osioy-ilarionos/
LOCATION:Ιερός Ναός Αγίων Ισιδώρων Λυκαβηττού\, Λυκαβηττός\, Αθήνα\, Αττική\, 10210\, Greece
CATEGORIES:Θεία Λειτουργία
ORGANIZER;CN="%CE%99%CE%B5%CF%81%CF%8C%CF%82 %CE%9D%CE%B1%CF%8C%CF%82 %CE%91%CE%B3%CE%AF%CF%89%CE%BD %CE%99%CF%83%CE%B9%CE%B4%CF%8E%CF%81%CF%89%CE%BD %CE%9B%CF%85%CE%BA%CE%B1%CE%B2%CE%B7%CF%84%CF%84%CE%BF%CF%8D":MAILTO:aisidro@otenet.gr
END:VEVENT
BEGIN:VEVENT
DTSTART;TZID=Europe/Athens:20220327T190000
DTEND;TZID=Europe/Athens:20220327T200000
DTSTAMP:20260420T114933
CREATED:20220224T170231Z
LAST-MODIFIED:20220224T170231Z
UID:4326-1648407600-1648411200@www.agioi-isidoroi.gr
SUMMARY:Κατανυκτικός Εσπερινός
DESCRIPTION:+ Καθ’ όλη την διάρκεια της ημέρας θα βρίσκεται προς ευλογία ο Τίμιος Σταυρός
URL:https://www.agioi-isidoroi.gr/leitourgia/katanyktikos-esperinos-8/
LOCATION:Ιερός Ναός Αγίων Ισιδώρων Λυκαβηττού\, Λυκαβηττός\, Αθήνα\, Αττική\, 10210\, Greece
CATEGORIES:Εσπερινός
ORGANIZER;CN="%CE%99%CE%B5%CF%81%CF%8C%CF%82 %CE%9D%CE%B1%CF%8C%CF%82 %CE%91%CE%B3%CE%AF%CF%89%CE%BD %CE%99%CF%83%CE%B9%CE%B4%CF%8E%CF%81%CF%89%CE%BD %CE%9B%CF%85%CE%BA%CE%B1%CE%B2%CE%B7%CF%84%CF%84%CE%BF%CF%8D":MAILTO:aisidro@otenet.gr
END:VEVENT
BEGIN:VEVENT
DTSTART;TZID=Europe/Athens:20220327T183000
DTEND;TZID=Europe/Athens:20220327T190000
DTSTAMP:20260420T114933
CREATED:20220224T170039Z
LAST-MODIFIED:20220224T170102Z
UID:4324-1648405800-1648407600@www.agioi-isidoroi.gr
SUMMARY:Εγκώμια του Τιμίου Σταυρού
DESCRIPTION:
URL:https://www.agioi-isidoroi.gr/leitourgia/egkomia-toy-timioy-stayroy/
LOCATION:Ιερός Ναός Αγίων Ισιδώρων Λυκαβηττού\, Λυκαβηττός\, Αθήνα\, Αττική\, 10210\, Greece
ORGANIZER;CN="%CE%99%CE%B5%CF%81%CF%8C%CF%82 %CE%9D%CE%B1%CF%8C%CF%82 %CE%91%CE%B3%CE%AF%CF%89%CE%BD %CE%99%CF%83%CE%B9%CE%B4%CF%8E%CF%81%CF%89%CE%BD %CE%9B%CF%85%CE%BA%CE%B1%CE%B2%CE%B7%CF%84%CF%84%CE%BF%CF%8D":MAILTO:aisidro@otenet.gr
END:VEVENT
BEGIN:VEVENT
DTSTART;TZID=Europe/Athens:20220327T073000
DTEND;TZID=Europe/Athens:20220327T113000
DTSTAMP:20260420T114933
CREATED:20220224T165959Z
LAST-MODIFIED:20220224T165959Z
UID:4322-1648366200-1648380600@www.agioi-isidoroi.gr
SUMMARY:Γ’ ΝΗΣΤΕΙΩΝ\, ΤΗΣ ΣΤΑΥΡΟΠΡΟΣΚΗΝΗΣΕΩΣ
DESCRIPTION:Όρθρος & ΠΑΝΗΓΥΡΙΚΗ ΘΕΊΑ ΛΕΙΤΟΥΡΓΙΑ \nΤΕΛΕΤΗ ΠΡΟΣΚΥΝΗΣΕΩΣ ΤΟΥ ΤΙΜΙΟΥ ΣΤΑΥΡΟΥ
URL:https://www.agioi-isidoroi.gr/leitourgia/g-nisteion-tis-stayroproskiniseos/
LOCATION:Ιερός Ναός Αγίων Ισιδώρων Λυκαβηττού\, Λυκαβηττός\, Αθήνα\, Αττική\, 10210\, Greece
CATEGORIES:Όρθρος Και Θεία Λειτουργία
ORGANIZER;CN="%CE%99%CE%B5%CF%81%CF%8C%CF%82 %CE%9D%CE%B1%CF%8C%CF%82 %CE%91%CE%B3%CE%AF%CF%89%CE%BD %CE%99%CF%83%CE%B9%CE%B4%CF%8E%CF%81%CF%89%CE%BD %CE%9B%CF%85%CE%BA%CE%B1%CE%B2%CE%B7%CF%84%CF%84%CE%BF%CF%8D":MAILTO:aisidro@otenet.gr
END:VEVENT
BEGIN:VEVENT
DTSTART;TZID=Europe/Athens:20220326T183000
DTEND;TZID=Europe/Athens:20220326T193000
DTSTAMP:20260420T114933
CREATED:20220224T165854Z
LAST-MODIFIED:20220224T165854Z
UID:4320-1648319400-1648323000@www.agioi-isidoroi.gr
SUMMARY:ΠΑΝΗΓΥΡΙΚΟΣ ΕΣΠΕΡΙΝΟΣ
DESCRIPTION:
URL:https://www.agioi-isidoroi.gr/leitourgia/panigyrikos-esperinos-15/
LOCATION:Ιερός Ναός Αγίων Ισιδώρων Λυκαβηττού\, Λυκαβηττός\, Αθήνα\, Αττική\, 10210\, Greece
CATEGORIES:Εσπερινός
ORGANIZER;CN="%CE%99%CE%B5%CF%81%CF%8C%CF%82 %CE%9D%CE%B1%CF%8C%CF%82 %CE%91%CE%B3%CE%AF%CF%89%CE%BD %CE%99%CF%83%CE%B9%CE%B4%CF%8E%CF%81%CF%89%CE%BD %CE%9B%CF%85%CE%BA%CE%B1%CE%B2%CE%B7%CF%84%CF%84%CE%BF%CF%8D":MAILTO:aisidro@otenet.gr
END:VEVENT
BEGIN:VEVENT
DTSTART;TZID=Europe/Athens:20220326T073000
DTEND;TZID=Europe/Athens:20220326T093000
DTSTAMP:20260420T114933
CREATED:20220224T165758Z
LAST-MODIFIED:20220224T165758Z
UID:4318-1648279800-1648287000@www.agioi-isidoroi.gr
SUMMARY:Σύναξις του Αρχαγγέλου Γαβριήλ
DESCRIPTION:Όρθρος & Θεία Λειτουργία
URL:https://www.agioi-isidoroi.gr/leitourgia/synaxis-toy-archaggeloy-gavriil/
LOCATION:Ιερός Ναός Αγίων Ισιδώρων Λυκαβηττού\, Λυκαβηττός\, Αθήνα\, Αττική\, 10210\, Greece
CATEGORIES:Όρθρος Και Θεία Λειτουργία
ORGANIZER;CN="%CE%99%CE%B5%CF%81%CF%8C%CF%82 %CE%9D%CE%B1%CF%8C%CF%82 %CE%91%CE%B3%CE%AF%CF%89%CE%BD %CE%99%CF%83%CE%B9%CE%B4%CF%8E%CF%81%CF%89%CE%BD %CE%9B%CF%85%CE%BA%CE%B1%CE%B2%CE%B7%CF%84%CF%84%CE%BF%CF%8D":MAILTO:aisidro@otenet.gr
END:VEVENT
BEGIN:VEVENT
DTSTART;TZID=Europe/Athens:20220325T193000
DTEND;TZID=Europe/Athens:20220325T213000
DTSTAMP:20260420T114933
CREATED:20220224T165709Z
LAST-MODIFIED:20220224T165709Z
UID:4316-1648236600-1648243800@www.agioi-isidoroi.gr
SUMMARY:Γ’ ΧΑΙΡΕΤΙΣΜΟΙ
DESCRIPTION:
URL:https://www.agioi-isidoroi.gr/leitourgia/g-chairetismoi/
LOCATION:Ιερός Ναός Αγίων Ισιδώρων Λυκαβηττού\, Λυκαβηττός\, Αθήνα\, Αττική\, 10210\, Greece
CATEGORIES:Χαιρετισμοί της Παναγίας
ORGANIZER;CN="%CE%99%CE%B5%CF%81%CF%8C%CF%82 %CE%9D%CE%B1%CF%8C%CF%82 %CE%91%CE%B3%CE%AF%CF%89%CE%BD %CE%99%CF%83%CE%B9%CE%B4%CF%8E%CF%81%CF%89%CE%BD %CE%9B%CF%85%CE%BA%CE%B1%CE%B2%CE%B7%CF%84%CF%84%CE%BF%CF%8D":MAILTO:aisidro@otenet.gr
END:VEVENT
BEGIN:VEVENT
DTSTART;TZID=Europe/Athens:20220325T073000
DTEND;TZID=Europe/Athens:20220325T093000
DTSTAMP:20260420T114933
CREATED:20220224T165624Z
LAST-MODIFIED:20220224T165624Z
UID:4314-1648193400-1648200600@www.agioi-isidoroi.gr
SUMMARY:ΕΥΑΓΓΕΛΙΣΜΟΣ ΤΗΣ ΘΕΟΤΟΚΟΥ
DESCRIPTION:Εορτάζει το Ιερό Παρεκκλήσιο του Ευαγγελισμού \nΌρθρος & Πανηγυρική Θεία Λειτουργία – Δοξολογία
URL:https://www.agioi-isidoroi.gr/leitourgia/eyaggelismos-tis-theotokoy-2/
LOCATION:Ιερός Ναός Αγίων Ισιδώρων Λυκαβηττού\, Λυκαβηττός\, Αθήνα\, Αττική\, 10210\, Greece
CATEGORIES:Όρθρος Και Θεία Λειτουργία
ORGANIZER;CN="%CE%99%CE%B5%CF%81%CF%8C%CF%82 %CE%9D%CE%B1%CF%8C%CF%82 %CE%91%CE%B3%CE%AF%CF%89%CE%BD %CE%99%CF%83%CE%B9%CE%B4%CF%8E%CF%81%CF%89%CE%BD %CE%9B%CF%85%CE%BA%CE%B1%CE%B2%CE%B7%CF%84%CF%84%CE%BF%CF%8D":MAILTO:aisidro@otenet.gr
END:VEVENT
BEGIN:VEVENT
DTSTART;TZID=Europe/Athens:20220324T183000
DTEND;TZID=Europe/Athens:20220324T193000
DTSTAMP:20260420T114933
CREATED:20220224T165503Z
LAST-MODIFIED:20220224T165503Z
UID:4312-1648146600-1648150200@www.agioi-isidoroi.gr
SUMMARY:Εσπερινός του Ευαγγελισμού
DESCRIPTION:
URL:https://www.agioi-isidoroi.gr/leitourgia/esperinos-toy-eyaggelismoy/
LOCATION:Ιερός Ναός Αγίων Ισιδώρων Λυκαβηττού\, Λυκαβηττός\, Αθήνα\, Αττική\, 10210\, Greece
CATEGORIES:Εσπερινός
ORGANIZER;CN="%CE%99%CE%B5%CF%81%CF%8C%CF%82 %CE%9D%CE%B1%CF%8C%CF%82 %CE%91%CE%B3%CE%AF%CF%89%CE%BD %CE%99%CF%83%CE%B9%CE%B4%CF%8E%CF%81%CF%89%CE%BD %CE%9B%CF%85%CE%BA%CE%B1%CE%B2%CE%B7%CF%84%CF%84%CE%BF%CF%8D":MAILTO:aisidro@otenet.gr
END:VEVENT
BEGIN:VEVENT
DTSTART;TZID=Europe/Athens:20220324T073000
DTEND;TZID=Europe/Athens:20220324T093000
DTSTAMP:20260420T114933
CREATED:20220224T165432Z
LAST-MODIFIED:20220224T165432Z
UID:4310-1648107000-1648114200@www.agioi-isidoroi.gr
SUMMARY:Προεόρτια του Ευαγγελισμού
DESCRIPTION:Προηγιασμένη Θεία Λειτουργία
URL:https://www.agioi-isidoroi.gr/leitourgia/proeortia-toy-eyaggelismoy/
LOCATION:Ιερός Ναός Αγίων Ισιδώρων Λυκαβηττού\, Λυκαβηττός\, Αθήνα\, Αττική\, 10210\, Greece
CATEGORIES:Θεία Λειτουργία
ORGANIZER;CN="%CE%99%CE%B5%CF%81%CF%8C%CF%82 %CE%9D%CE%B1%CF%8C%CF%82 %CE%91%CE%B3%CE%AF%CF%89%CE%BD %CE%99%CF%83%CE%B9%CE%B4%CF%8E%CF%81%CF%89%CE%BD %CE%9B%CF%85%CE%BA%CE%B1%CE%B2%CE%B7%CF%84%CF%84%CE%BF%CF%8D":MAILTO:aisidro@otenet.gr
END:VEVENT
BEGIN:VEVENT
DTSTART;TZID=Europe/Athens:20220323T183000
DTEND;TZID=Europe/Athens:20220323T193000
DTSTAMP:20260420T114933
CREATED:20220224T165347Z
LAST-MODIFIED:20220224T165347Z
UID:4308-1648060200-1648063800@www.agioi-isidoroi.gr
SUMMARY:Προηγιασμένη Θεία Λειτουργία
DESCRIPTION:
URL:https://www.agioi-isidoroi.gr/leitourgia/proigiasmeni-theia-leitoyrgia-17/
LOCATION:Ιερός Ναός Αγίων Ισιδώρων Λυκαβηττού\, Λυκαβηττός\, Αθήνα\, Αττική\, 10210\, Greece
CATEGORIES:Θεία Λειτουργία
ORGANIZER;CN="%CE%99%CE%B5%CF%81%CF%8C%CF%82 %CE%9D%CE%B1%CF%8C%CF%82 %CE%91%CE%B3%CE%AF%CF%89%CE%BD %CE%99%CF%83%CE%B9%CE%B4%CF%8E%CF%81%CF%89%CE%BD %CE%9B%CF%85%CE%BA%CE%B1%CE%B2%CE%B7%CF%84%CF%84%CE%BF%CF%8D":MAILTO:aisidro@otenet.gr
END:VEVENT
BEGIN:VEVENT
DTSTART;TZID=Europe/Athens:20220323T073000
DTEND;TZID=Europe/Athens:20220323T093000
DTSTAMP:20260420T114933
CREATED:20220224T165313Z
LAST-MODIFIED:20220224T165313Z
UID:4306-1648020600-1648027800@www.agioi-isidoroi.gr
SUMMARY:Αγίου Ιερομάρτυρος Νίκωνος
DESCRIPTION:Προηγιασμένη Θεία Λειτουργία
URL:https://www.agioi-isidoroi.gr/leitourgia/agioy-ieromartyros-nikonos/
LOCATION:Ιερός Ναός Αγίων Ισιδώρων Λυκαβηττού\, Λυκαβηττός\, Αθήνα\, Αττική\, 10210\, Greece
CATEGORIES:Θεία Λειτουργία
ORGANIZER;CN="%CE%99%CE%B5%CF%81%CF%8C%CF%82 %CE%9D%CE%B1%CF%8C%CF%82 %CE%91%CE%B3%CE%AF%CF%89%CE%BD %CE%99%CF%83%CE%B9%CE%B4%CF%8E%CF%81%CF%89%CE%BD %CE%9B%CF%85%CE%BA%CE%B1%CE%B2%CE%B7%CF%84%CF%84%CE%BF%CF%8D":MAILTO:aisidro@otenet.gr
END:VEVENT
BEGIN:VEVENT
DTSTART;TZID=Europe/Athens:20220322T073000
DTEND;TZID=Europe/Athens:20220322T093000
DTSTAMP:20260420T114933
CREATED:20220224T165216Z
LAST-MODIFIED:20220224T165216Z
UID:4304-1647934200-1647941400@www.agioi-isidoroi.gr
SUMMARY:Αγίου Βασιλείου Ιερομάρτυρος
DESCRIPTION:Προηγιασμένη Θεία Λειτουργία
URL:https://www.agioi-isidoroi.gr/leitourgia/agioy-vasileioy-ieromartyros/
LOCATION:Ιερός Ναός Αγίων Ισιδώρων Λυκαβηττού\, Λυκαβηττός\, Αθήνα\, Αττική\, 10210\, Greece
CATEGORIES:Θεία Λειτουργία
ORGANIZER;CN="%CE%99%CE%B5%CF%81%CF%8C%CF%82 %CE%9D%CE%B1%CF%8C%CF%82 %CE%91%CE%B3%CE%AF%CF%89%CE%BD %CE%99%CF%83%CE%B9%CE%B4%CF%8E%CF%81%CF%89%CE%BD %CE%9B%CF%85%CE%BA%CE%B1%CE%B2%CE%B7%CF%84%CF%84%CE%BF%CF%8D":MAILTO:aisidro@otenet.gr
END:VEVENT
BEGIN:VEVENT
DTSTART;TZID=Europe/Athens:20220321T183000
DTEND;TZID=Europe/Athens:20220321T193000
DTSTAMP:20260420T114933
CREATED:20220224T165113Z
LAST-MODIFIED:20220224T165113Z
UID:4302-1647887400-1647891000@www.agioi-isidoroi.gr
SUMMARY:Προηγιασμένη Θεία Λειτουργία
DESCRIPTION:
URL:https://www.agioi-isidoroi.gr/leitourgia/proigiasmeni-theia-leitoyrgia-16/
LOCATION:Ιερός Ναός Αγίων Ισιδώρων Λυκαβηττού\, Λυκαβηττός\, Αθήνα\, Αττική\, 10210\, Greece
CATEGORIES:Θεία Λειτουργία
ORGANIZER;CN="%CE%99%CE%B5%CF%81%CF%8C%CF%82 %CE%9D%CE%B1%CF%8C%CF%82 %CE%91%CE%B3%CE%AF%CF%89%CE%BD %CE%99%CF%83%CE%B9%CE%B4%CF%8E%CF%81%CF%89%CE%BD %CE%9B%CF%85%CE%BA%CE%B1%CE%B2%CE%B7%CF%84%CF%84%CE%BF%CF%8D":MAILTO:aisidro@otenet.gr
END:VEVENT
BEGIN:VEVENT
DTSTART;TZID=Europe/Athens:20220321T073000
DTEND;TZID=Europe/Athens:20220321T093000
DTSTAMP:20260420T114933
CREATED:20220224T165027Z
LAST-MODIFIED:20220224T165027Z
UID:4300-1647847800-1647855000@www.agioi-isidoroi.gr
SUMMARY:Αγίου Ιακώβου ομολογητού
DESCRIPTION:Προηγιασμένη Θεία Λειτουργία
URL:https://www.agioi-isidoroi.gr/leitourgia/agioy-iakovoy-omologitoy/
LOCATION:Ιερός Ναός Αγίων Ισιδώρων Λυκαβηττού\, Λυκαβηττός\, Αθήνα\, Αττική\, 10210\, Greece
CATEGORIES:Θεία Λειτουργία
ORGANIZER;CN="%CE%99%CE%B5%CF%81%CF%8C%CF%82 %CE%9D%CE%B1%CF%8C%CF%82 %CE%91%CE%B3%CE%AF%CF%89%CE%BD %CE%99%CF%83%CE%B9%CE%B4%CF%8E%CF%81%CF%89%CE%BD %CE%9B%CF%85%CE%BA%CE%B1%CE%B2%CE%B7%CF%84%CF%84%CE%BF%CF%8D":MAILTO:aisidro@otenet.gr
END:VEVENT
END:VCALENDAR