BEGIN:VCALENDAR
VERSION:2.0
PRODID:-//ΙΕΡΟΣ ΝΑΟΣ ΑΓΙΩΝ ΙΣΙΔΩΡΩΝ - ECPv6.15.17.1//NONSGML v1.0//EN
CALSCALE:GREGORIAN
METHOD:PUBLISH
X-WR-CALNAME:ΙΕΡΟΣ ΝΑΟΣ ΑΓΙΩΝ ΙΣΙΔΩΡΩΝ
X-ORIGINAL-URL:https://www.agioi-isidoroi.gr
X-WR-CALDESC:Events for ΙΕΡΟΣ ΝΑΟΣ ΑΓΙΩΝ ΙΣΙΔΩΡΩΝ
REFRESH-INTERVAL;VALUE=DURATION:PT1H
X-Robots-Tag:noindex
X-PUBLISHED-TTL:PT1H
BEGIN:VTIMEZONE
TZID:Europe/Athens
BEGIN:DAYLIGHT
TZOFFSETFROM:+0200
TZOFFSETTO:+0300
TZNAME:EEST
DTSTART:20200329T010000
END:DAYLIGHT
BEGIN:STANDARD
TZOFFSETFROM:+0300
TZOFFSETTO:+0200
TZNAME:EET
DTSTART:20201025T010000
END:STANDARD
BEGIN:DAYLIGHT
TZOFFSETFROM:+0200
TZOFFSETTO:+0300
TZNAME:EEST
DTSTART:20210328T010000
END:DAYLIGHT
BEGIN:STANDARD
TZOFFSETFROM:+0300
TZOFFSETTO:+0200
TZNAME:EET
DTSTART:20211031T010000
END:STANDARD
BEGIN:DAYLIGHT
TZOFFSETFROM:+0200
TZOFFSETTO:+0300
TZNAME:EEST
DTSTART:20220327T010000
END:DAYLIGHT
BEGIN:STANDARD
TZOFFSETFROM:+0300
TZOFFSETTO:+0200
TZNAME:EET
DTSTART:20221030T010000
END:STANDARD
END:VTIMEZONE
BEGIN:VEVENT
DTSTART;TZID=Europe/Athens:20210625T073000
DTEND;TZID=Europe/Athens:20210625T103000
DTSTAMP:20260420T104900
CREATED:20210526T182821Z
LAST-MODIFIED:20210526T182821Z
UID:3211-1624606200-1624617000@www.agioi-isidoroi.gr
SUMMARY:Αγ. μαρτ\, Φεβρωνίας
DESCRIPTION:Όρθρος & Θεία Λειτουργία
URL:https://www.agioi-isidoroi.gr/leitourgia/ag-mart-fevronias/
LOCATION:Ιερός Ναός Αγίων Ισιδώρων Λυκαβηττού\, Λυκαβηττός\, Αθήνα\, Αττική\, 10210\, Greece
CATEGORIES:Όρθρος Και Θεία Λειτουργία
ORGANIZER;CN="%CE%99%CE%B5%CF%81%CF%8C%CF%82 %CE%9D%CE%B1%CF%8C%CF%82 %CE%91%CE%B3%CE%AF%CF%89%CE%BD %CE%99%CF%83%CE%B9%CE%B4%CF%8E%CF%81%CF%89%CE%BD %CE%9B%CF%85%CE%BA%CE%B1%CE%B2%CE%B7%CF%84%CF%84%CE%BF%CF%8D":MAILTO:aisidro@otenet.gr
END:VEVENT
BEGIN:VEVENT
DTSTART;TZID=Europe/Athens:20210624T193000
DTEND;TZID=Europe/Athens:20210624T220000
DTSTAMP:20260420T104900
CREATED:20210526T182716Z
LAST-MODIFIED:20210526T182716Z
UID:3209-1624563000-1624572000@www.agioi-isidoroi.gr
SUMMARY:Μεθέορτος Εσπερινός & Παράκληση του Αγίου
DESCRIPTION:
URL:https://www.agioi-isidoroi.gr/leitourgia/metheortos-esperinos-amp-paraklisi-toy-agioy/
LOCATION:Ιερός Ναός Αγίων Ισιδώρων Λυκαβηττού\, Λυκαβηττός\, Αθήνα\, Αττική\, 10210\, Greece
CATEGORIES:Εσπερινός & Παράκληση
ORGANIZER;CN="%CE%99%CE%B5%CF%81%CF%8C%CF%82 %CE%9D%CE%B1%CF%8C%CF%82 %CE%91%CE%B3%CE%AF%CF%89%CE%BD %CE%99%CF%83%CE%B9%CE%B4%CF%8E%CF%81%CF%89%CE%BD %CE%9B%CF%85%CE%BA%CE%B1%CE%B2%CE%B7%CF%84%CF%84%CE%BF%CF%8D":MAILTO:aisidro@otenet.gr
END:VEVENT
BEGIN:VEVENT
DTSTART;TZID=Europe/Athens:20210624T073000
DTEND;TZID=Europe/Athens:20210624T103000
DTSTAMP:20260420T104900
CREATED:20210526T182629Z
LAST-MODIFIED:20210526T182629Z
UID:3207-1624519800-1624530600@www.agioi-isidoroi.gr
SUMMARY:Όρθρος & Πανηγυρική Θεία Λειτουργία
DESCRIPTION:Θα τεθεί για προσκύνημα Ιερό Λείψανο του Αγίου Ιωάννου του Προδρόμου
URL:https://www.agioi-isidoroi.gr/leitourgia/orthros-amp-panigyriki-theia-leitoyrgia/
LOCATION:Ιερός Ναός Αγίων Ισιδώρων Λυκαβηττού\, Λυκαβηττός\, Αθήνα\, Αττική\, 10210\, Greece
CATEGORIES:Όρθρος Και Θεία Λειτουργία
ORGANIZER;CN="%CE%99%CE%B5%CF%81%CF%8C%CF%82 %CE%9D%CE%B1%CF%8C%CF%82 %CE%91%CE%B3%CE%AF%CF%89%CE%BD %CE%99%CF%83%CE%B9%CE%B4%CF%8E%CF%81%CF%89%CE%BD %CE%9B%CF%85%CE%BA%CE%B1%CE%B2%CE%B7%CF%84%CF%84%CE%BF%CF%8D":MAILTO:aisidro@otenet.gr
END:VEVENT
BEGIN:VEVENT
DTSTART;TZID=Europe/Athens:20210623T213000
DTEND;TZID=Europe/Athens:20210623T233000
DTSTAMP:20260420T104900
CREATED:20210526T182408Z
LAST-MODIFIED:20210526T182408Z
UID:3205-1624483800-1624491000@www.agioi-isidoroi.gr
SUMMARY:Νυχτερινή Θεία Λειτουργία
DESCRIPTION:
URL:https://www.agioi-isidoroi.gr/leitourgia/nychterini-theia-leitoyrgia/
LOCATION:Ιερός Ναός Αγίων Ισιδώρων Λυκαβηττού\, Λυκαβηττός\, Αθήνα\, Αττική\, 10210\, Greece
CATEGORIES:Θεία Λειτουργία
ORGANIZER;CN="%CE%99%CE%B5%CF%81%CF%8C%CF%82 %CE%9D%CE%B1%CF%8C%CF%82 %CE%91%CE%B3%CE%AF%CF%89%CE%BD %CE%99%CF%83%CE%B9%CE%B4%CF%8E%CF%81%CF%89%CE%BD %CE%9B%CF%85%CE%BA%CE%B1%CE%B2%CE%B7%CF%84%CF%84%CE%BF%CF%8D":MAILTO:aisidro@otenet.gr
END:VEVENT
BEGIN:VEVENT
DTSTART;TZID=Europe/Athens:20210623T193000
DTEND;TZID=Europe/Athens:20210623T213000
DTSTAMP:20260420T104900
CREATED:20210526T182256Z
LAST-MODIFIED:20210526T182256Z
UID:3203-1624476600-1624483800@www.agioi-isidoroi.gr
SUMMARY:ΙΕΡΑ ΠΑΝΗΓΥΡΙΣ  ΓΕΝΝΕΘΛΙΟΝ ΤΟΥ ΑΓΙΟΥ ΙΩΑΝΝΟΥ ΤΟΥ ΠΡΟΔΡΟΜΟΥ
DESCRIPTION:Εορτάζει στο Εικονοστάσιο του Χριστού το δεξιό κλίτος \nτο οποίο είναι αφιερωμένο στον Άγιο Ιωάννη. \nΠανηγυρικός εσπερινός
URL:https://www.agioi-isidoroi.gr/leitourgia/iera-panigyris-gennethlion-toy-agioy-ioannoy-toy-prodromoy/
LOCATION:Ιερός Ναός Αγίων Ισιδώρων Λυκαβηττού\, Λυκαβηττός\, Αθήνα\, Αττική\, 10210\, Greece
CATEGORIES:Εσπερινός
ORGANIZER;CN="%CE%99%CE%B5%CF%81%CF%8C%CF%82 %CE%9D%CE%B1%CF%8C%CF%82 %CE%91%CE%B3%CE%AF%CF%89%CE%BD %CE%99%CF%83%CE%B9%CE%B4%CF%8E%CF%81%CF%89%CE%BD %CE%9B%CF%85%CE%BA%CE%B1%CE%B2%CE%B7%CF%84%CF%84%CE%BF%CF%8D":MAILTO:aisidro@otenet.gr
END:VEVENT
BEGIN:VEVENT
DTSTART;TZID=Europe/Athens:20210623T073000
DTEND;TZID=Europe/Athens:20210623T103000
DTSTAMP:20260420T104900
CREATED:20210526T182125Z
LAST-MODIFIED:20210526T182125Z
UID:3201-1624433400-1624444200@www.agioi-isidoroi.gr
SUMMARY:Αγ. μάρτ. Αγριππίνης
DESCRIPTION:Όρθρος & Θεία Λειτουργία
URL:https://www.agioi-isidoroi.gr/leitourgia/ag-mart-agrippinis/
LOCATION:Ιερός Ναός Αγίων Ισιδώρων Λυκαβηττού\, Λυκαβηττός\, Αθήνα\, Αττική\, 10210\, Greece
CATEGORIES:Όρθρος Και Θεία Λειτουργία
ORGANIZER;CN="%CE%99%CE%B5%CF%81%CF%8C%CF%82 %CE%9D%CE%B1%CF%8C%CF%82 %CE%91%CE%B3%CE%AF%CF%89%CE%BD %CE%99%CF%83%CE%B9%CE%B4%CF%8E%CF%81%CF%89%CE%BD %CE%9B%CF%85%CE%BA%CE%B1%CE%B2%CE%B7%CF%84%CF%84%CE%BF%CF%8D":MAILTO:aisidro@otenet.gr
END:VEVENT
BEGIN:VEVENT
DTSTART;TZID=Europe/Athens:20210622T193000
DTEND;TZID=Europe/Athens:20210622T220000
DTSTAMP:20260420T104900
CREATED:20210526T181827Z
LAST-MODIFIED:20210526T182005Z
UID:3197-1624390200-1624399200@www.agioi-isidoroi.gr
SUMMARY:
DESCRIPTION:Εσπερινός & Παράκληση του Αγίου. \nΕυλογία των πιτών προς τιμή του Αγίου. \n  \n*  Θα τίθεται για προσκύνημα ιερό λείψανο του Αγίου Ιούδα του Θαδδαίου.
URL:https://www.agioi-isidoroi.gr/leitourgia/3197/
LOCATION:Ιερός Ναός Αγίων Ισιδώρων Λυκαβηττού\, Λυκαβηττός\, Αθήνα\, Αττική\, 10210\, Greece
CATEGORIES:Εσπερινός & Παράκληση
ORGANIZER;CN="%CE%99%CE%B5%CF%81%CF%8C%CF%82 %CE%9D%CE%B1%CF%8C%CF%82 %CE%91%CE%B3%CE%AF%CF%89%CE%BD %CE%99%CF%83%CE%B9%CE%B4%CF%8E%CF%81%CF%89%CE%BD %CE%9B%CF%85%CE%BA%CE%B1%CE%B2%CE%B7%CF%84%CF%84%CE%BF%CF%8D":MAILTO:aisidro@otenet.gr
END:VEVENT
BEGIN:VEVENT
DTSTART;TZID=Europe/Athens:20210622T073000
DTEND;TZID=Europe/Athens:20210622T103000
DTSTAMP:20260420T104900
CREATED:20210526T181708Z
LAST-MODIFIED:20210526T181708Z
UID:3195-1624347000-1624357800@www.agioi-isidoroi.gr
SUMMARY:ΑΠΟΣΤΟΛΟΥ ΑΓΙΟΥ ΙΟΥΔΑ ΤΟΥ ΘΑΔΔΑΙΟΥ
DESCRIPTION:Όρθρος & ΠΑΝΗΓΥΡΙΚΗ  ΘΕΙΑ ΛΕΙΤΟΥΡΓΙΑ
URL:https://www.agioi-isidoroi.gr/leitourgia/apostoloy-agioy-ioyda-toy-thaddaioy/
LOCATION:Ιερός Ναός Αγίων Ισιδώρων Λυκαβηττού\, Λυκαβηττός\, Αθήνα\, Αττική\, 10210\, Greece
CATEGORIES:Όρθρος Και Θεία Λειτουργία
ORGANIZER;CN="%CE%99%CE%B5%CF%81%CF%8C%CF%82 %CE%9D%CE%B1%CF%8C%CF%82 %CE%91%CE%B3%CE%AF%CF%89%CE%BD %CE%99%CF%83%CE%B9%CE%B4%CF%8E%CF%81%CF%89%CE%BD %CE%9B%CF%85%CE%BA%CE%B1%CE%B2%CE%B7%CF%84%CF%84%CE%BF%CF%8D":MAILTO:aisidro@otenet.gr
END:VEVENT
BEGIN:VEVENT
DTSTART;TZID=Europe/Athens:20210621T220000
DTEND;TZID=Europe/Athens:20210621T233000
DTSTAMP:20260420T104900
CREATED:20210526T181608Z
LAST-MODIFIED:20210526T181608Z
UID:3193-1624312800-1624318200@www.agioi-isidoroi.gr
SUMMARY:ΙΕΡΑ ΑΓΡΥΠΝΙΑ
DESCRIPTION:
URL:https://www.agioi-isidoroi.gr/leitourgia/iera-agrypnia-4/
LOCATION:Ιερός Ναός Αγίων Ισιδώρων Λυκαβηττού\, Λυκαβηττός\, Αθήνα\, Αττική\, 10210\, Greece
CATEGORIES:Ιερά Αγρυπνία
ORGANIZER;CN="%CE%99%CE%B5%CF%81%CF%8C%CF%82 %CE%9D%CE%B1%CF%8C%CF%82 %CE%91%CE%B3%CE%AF%CF%89%CE%BD %CE%99%CF%83%CE%B9%CE%B4%CF%8E%CF%81%CF%89%CE%BD %CE%9B%CF%85%CE%BA%CE%B1%CE%B2%CE%B7%CF%84%CF%84%CE%BF%CF%8D":MAILTO:aisidro@otenet.gr
END:VEVENT
BEGIN:VEVENT
DTSTART;TZID=Europe/Athens:20210621T073000
DTEND;TZID=Europe/Athens:20210621T103000
DTSTAMP:20260420T104900
CREATED:20210526T181511Z
LAST-MODIFIED:20210526T181511Z
UID:3191-1624260600-1624271400@www.agioi-isidoroi.gr
SUMMARY:ΙΕΡΑ ΠΑΝΗΓΥΡΙΣ  ΤΟΥ ΑΓΙΟΥ ΙΟΥΔΑ ΤΟΥ ΘΑΔΔΑΙΟΥ
DESCRIPTION:ΤΡΙΤΗ 22 ΙΟΥΝΙΟΥ 2021 [ΕΚ ΜΕΤΑΘΕΣΕΩΣ] \nΕορτάζει το παρεκκλήσιο του Αγίου Ιούδα του Θαδδαίου. \nΠΑΝΗΓΥΡΙΚΟΣ ΕΣΠΕΡΙΝΟΣ
URL:https://www.agioi-isidoroi.gr/leitourgia/iera-panigyris-toy-agioy-ioyda-toy-thaddaioy/
LOCATION:Ιερός Ναός Αγίων Ισιδώρων Λυκαβηττού\, Λυκαβηττός\, Αθήνα\, Αττική\, 10210\, Greece
CATEGORIES:Εσπερινός
ORGANIZER;CN="%CE%99%CE%B5%CF%81%CF%8C%CF%82 %CE%9D%CE%B1%CF%8C%CF%82 %CE%91%CE%B3%CE%AF%CF%89%CE%BD %CE%99%CF%83%CE%B9%CE%B4%CF%8E%CF%81%CF%89%CE%BD %CE%9B%CF%85%CE%BA%CE%B1%CE%B2%CE%B7%CF%84%CF%84%CE%BF%CF%8D":MAILTO:aisidro@otenet.gr
END:VEVENT
BEGIN:VEVENT
DTSTART;TZID=Europe/Athens:20210621T073000
DTEND;TZID=Europe/Athens:20210621T103000
DTSTAMP:20260420T104900
CREATED:20210526T181117Z
LAST-MODIFIED:20210526T181117Z
UID:3189-1624260600-1624271400@www.agioi-isidoroi.gr
SUMMARY:ΤΟΥ ΑΓΙΟΥ ΠΝΕΥΜΑΤΟΣ
DESCRIPTION:Όρθρος & ΠΑΝΗΓΥΡΙΚΗ ΘΕΙΑ ΛΕΙΤΟΥΡΓΙΑ
URL:https://www.agioi-isidoroi.gr/leitourgia/toy-agioy-pneymatos/
LOCATION:Ιερός Ναός Αγίων Ισιδώρων Λυκαβηττού\, Λυκαβηττός\, Αθήνα\, Αττική\, 10210\, Greece
CATEGORIES:Όρθρος Και Θεία Λειτουργία
ORGANIZER;CN="%CE%99%CE%B5%CF%81%CF%8C%CF%82 %CE%9D%CE%B1%CF%8C%CF%82 %CE%91%CE%B3%CE%AF%CF%89%CE%BD %CE%99%CF%83%CE%B9%CE%B4%CF%8E%CF%81%CF%89%CE%BD %CE%9B%CF%85%CE%BA%CE%B1%CE%B2%CE%B7%CF%84%CF%84%CE%BF%CF%8D":MAILTO:aisidro@otenet.gr
END:VEVENT
BEGIN:VEVENT
DTSTART;TZID=Europe/Athens:20210620T220000
DTEND;TZID=Europe/Athens:20210620T233000
DTSTAMP:20260420T104900
CREATED:20210526T180935Z
LAST-MODIFIED:20210526T180935Z
UID:3187-1624226400-1624231800@www.agioi-isidoroi.gr
SUMMARY:ΙΕΡΑ ΑΓΡΥΠΝΙΑ
DESCRIPTION:
URL:https://www.agioi-isidoroi.gr/leitourgia/iera-agrypnia-3/
LOCATION:Ιερός Ναός Αγίων Ισιδώρων Λυκαβηττού\, Λυκαβηττός\, Αθήνα\, Αττική\, 10210\, Greece
CATEGORIES:Ιερά Αγρυπνία
ORGANIZER;CN="%CE%99%CE%B5%CF%81%CF%8C%CF%82 %CE%9D%CE%B1%CF%8C%CF%82 %CE%91%CE%B3%CE%AF%CF%89%CE%BD %CE%99%CF%83%CE%B9%CE%B4%CF%8E%CF%81%CF%89%CE%BD %CE%9B%CF%85%CE%BA%CE%B1%CE%B2%CE%B7%CF%84%CF%84%CE%BF%CF%8D":MAILTO:aisidro@otenet.gr
END:VEVENT
BEGIN:VEVENT
DTSTART;TZID=Europe/Athens:20210620T193000
DTEND;TZID=Europe/Athens:20210620T220000
DTSTAMP:20260420T104900
CREATED:20210526T180757Z
LAST-MODIFIED:20210526T181011Z
UID:3185-1624217400-1624226400@www.agioi-isidoroi.gr
SUMMARY:ΙΕΡΑ  ΠΑΝΗΓΥΡΙΣ  ΤΟΥ  ΑΓΙΟΥ  ΠΝΕΥΜΑΤΟΣ
DESCRIPTION:Εορτάζει το Εικονοστάσιο του Χριστού και του Αγίου Πνεύματος. \nΠΑΝΗΓΥΡΙΚΟΣ ΕΣΠΕΡΙΝΟΣ
URL:https://www.agioi-isidoroi.gr/leitourgia/iera-panigyris-toy-agioy-pneymatos/
LOCATION:Ιερός Ναός Αγίων Ισιδώρων Λυκαβηττού\, Λυκαβηττός\, Αθήνα\, Αττική\, 10210\, Greece
CATEGORIES:Εσπερινός
ORGANIZER;CN="%CE%99%CE%B5%CF%81%CF%8C%CF%82 %CE%9D%CE%B1%CF%8C%CF%82 %CE%91%CE%B3%CE%AF%CF%89%CE%BD %CE%99%CF%83%CE%B9%CE%B4%CF%8E%CF%81%CF%89%CE%BD %CE%9B%CF%85%CE%BA%CE%B1%CE%B2%CE%B7%CF%84%CF%84%CE%BF%CF%8D":MAILTO:aisidro@otenet.gr
END:VEVENT
BEGIN:VEVENT
DTSTART;TZID=Europe/Athens:20210620T073000
DTEND;TZID=Europe/Athens:20210620T103000
DTSTAMP:20260420T104900
CREATED:20210526T180412Z
LAST-MODIFIED:20210526T180412Z
UID:3183-1624174200-1624185000@www.agioi-isidoroi.gr
SUMMARY:ΤΗΣ ΠΕΝΤΗΚΟΣΤΗΣ [Γονυκλισιά]
DESCRIPTION:Όρθρος & Θεία Λειτουργία 
URL:https://www.agioi-isidoroi.gr/leitourgia/tis-pentikostis-gonyklisia/
LOCATION:Ιερός Ναός Αγίων Ισιδώρων Λυκαβηττού\, Λυκαβηττός\, Αθήνα\, Αττική\, 10210\, Greece
CATEGORIES:Όρθρος Και Θεία Λειτουργία
ORGANIZER;CN="%CE%99%CE%B5%CF%81%CF%8C%CF%82 %CE%9D%CE%B1%CF%8C%CF%82 %CE%91%CE%B3%CE%AF%CF%89%CE%BD %CE%99%CF%83%CE%B9%CE%B4%CF%8E%CF%81%CF%89%CE%BD %CE%9B%CF%85%CE%BA%CE%B1%CE%B2%CE%B7%CF%84%CF%84%CE%BF%CF%8D":MAILTO:aisidro@otenet.gr
END:VEVENT
BEGIN:VEVENT
DTSTART;TZID=Europe/Athens:20210619T193000
DTEND;TZID=Europe/Athens:20210619T220000
DTSTAMP:20260420T104900
CREATED:20210526T180302Z
LAST-MODIFIED:20210526T180302Z
UID:3181-1624131000-1624140000@www.agioi-isidoroi.gr
SUMMARY:Αναστάσιμος εσπερινός
DESCRIPTION:
URL:https://www.agioi-isidoroi.gr/leitourgia/anastasimos-esperinos-6/
LOCATION:Ιερός Ναός Αγίων Ισιδώρων Λυκαβηττού\, Λυκαβηττός\, Αθήνα\, Αττική\, 10210\, Greece
CATEGORIES:Αναστάσιμος Εσπερινός
ORGANIZER;CN="%CE%99%CE%B5%CF%81%CF%8C%CF%82 %CE%9D%CE%B1%CF%8C%CF%82 %CE%91%CE%B3%CE%AF%CF%89%CE%BD %CE%99%CF%83%CE%B9%CE%B4%CF%8E%CF%81%CF%89%CE%BD %CE%9B%CF%85%CE%BA%CE%B1%CE%B2%CE%B7%CF%84%CF%84%CE%BF%CF%8D":MAILTO:aisidro@otenet.gr
END:VEVENT
BEGIN:VEVENT
DTSTART;TZID=Europe/Athens:20210619T073000
DTEND;TZID=Europe/Athens:20210619T103000
DTSTAMP:20260420T104900
CREATED:20210526T180155Z
LAST-MODIFIED:20210526T180155Z
UID:3179-1624087800-1624098600@www.agioi-isidoroi.gr
SUMMARY:Προ της Πεντηκοστής\, Ψυχοσάββατο\,   Αγίου Ιούδα του Θαδδαίου (μετατίθεται στις 22Ιουνίου λόγω Ψυχοσάββατου)
DESCRIPTION:Όρθρος & Θεία Λειτουργία
URL:https://www.agioi-isidoroi.gr/leitourgia/pro-tis-pentikostis-psychosavvato-agioy-ioyda-toy-thaddaioy-metatithetai-stis-22ioynioy-logo-psychosavvatoy/
LOCATION:Ιερός Ναός Αγίων Ισιδώρων Λυκαβηττού\, Λυκαβηττός\, Αθήνα\, Αττική\, 10210\, Greece
CATEGORIES:Όρθρος Και Θεία Λειτουργία
ORGANIZER;CN="%CE%99%CE%B5%CF%81%CF%8C%CF%82 %CE%9D%CE%B1%CF%8C%CF%82 %CE%91%CE%B3%CE%AF%CF%89%CE%BD %CE%99%CF%83%CE%B9%CE%B4%CF%8E%CF%81%CF%89%CE%BD %CE%9B%CF%85%CE%BA%CE%B1%CE%B2%CE%B7%CF%84%CF%84%CE%BF%CF%8D":MAILTO:aisidro@otenet.gr
END:VEVENT
BEGIN:VEVENT
DTSTART;TZID=Europe/Athens:20210618T190000
DTEND;TZID=Europe/Athens:20210618T220000
DTSTAMP:20260420T104900
CREATED:20210526T175943Z
LAST-MODIFIED:20210526T175943Z
UID:3177-1624042800-1624053600@www.agioi-isidoroi.gr
SUMMARY:Εσπερινός των ψυχών [ευλογία των κολλύβων]
DESCRIPTION:
URL:https://www.agioi-isidoroi.gr/leitourgia/esperinos-ton-psychon-eylogia-ton-kollyvon/
LOCATION:Ιερός Ναός Αγίων Ισιδώρων Λυκαβηττού\, Λυκαβηττός\, Αθήνα\, Αττική\, 10210\, Greece
CATEGORIES:Εσπερινός
ORGANIZER;CN="%CE%99%CE%B5%CF%81%CF%8C%CF%82 %CE%9D%CE%B1%CF%8C%CF%82 %CE%91%CE%B3%CE%AF%CF%89%CE%BD %CE%99%CF%83%CE%B9%CE%B4%CF%8E%CF%81%CF%89%CE%BD %CE%9B%CF%85%CE%BA%CE%B1%CE%B2%CE%B7%CF%84%CF%84%CE%BF%CF%8D":MAILTO:aisidro@otenet.gr
END:VEVENT
BEGIN:VEVENT
DTSTART;TZID=Europe/Athens:20210618T073000
DTEND;TZID=Europe/Athens:20210618T103000
DTSTAMP:20260420T104900
CREATED:20210526T175816Z
LAST-MODIFIED:20210526T175816Z
UID:3175-1624001400-1624012200@www.agioi-isidoroi.gr
SUMMARY:Αγ. Λεοντίου μαρτ.
DESCRIPTION:Όρθρος & Θεία Λειτουργία
URL:https://www.agioi-isidoroi.gr/leitourgia/ag-leontioy-mart/
LOCATION:Ιερός Ναός Αγίων Ισιδώρων Λυκαβηττού\, Λυκαβηττός\, Αθήνα\, Αττική\, 10210\, Greece
CATEGORIES:Όρθρος Και Θεία Λειτουργία
ORGANIZER;CN="%CE%99%CE%B5%CF%81%CF%8C%CF%82 %CE%9D%CE%B1%CF%8C%CF%82 %CE%91%CE%B3%CE%AF%CF%89%CE%BD %CE%99%CF%83%CE%B9%CE%B4%CF%8E%CF%81%CF%89%CE%BD %CE%9B%CF%85%CE%BA%CE%B1%CE%B2%CE%B7%CF%84%CF%84%CE%BF%CF%8D":MAILTO:aisidro@otenet.gr
END:VEVENT
BEGIN:VEVENT
DTSTART;TZID=Europe/Athens:20210617T073000
DTEND;TZID=Europe/Athens:20210617T103000
DTSTAMP:20260420T104900
CREATED:20210526T175706Z
LAST-MODIFIED:20210526T175706Z
UID:3173-1623915000-1623925800@www.agioi-isidoroi.gr
SUMMARY:Αγ. μάρτ. Ισαύρου & συν αυτώ
DESCRIPTION:Όρθρος & Θεία Λειτουργία
URL:https://www.agioi-isidoroi.gr/leitourgia/ag-mart-isayroy-amp-syn-ayto/
LOCATION:Ιερός Ναός Αγίων Ισιδώρων Λυκαβηττού\, Λυκαβηττός\, Αθήνα\, Αττική\, 10210\, Greece
CATEGORIES:Όρθρος Και Θεία Λειτουργία
ORGANIZER;CN="%CE%99%CE%B5%CF%81%CF%8C%CF%82 %CE%9D%CE%B1%CF%8C%CF%82 %CE%91%CE%B3%CE%AF%CF%89%CE%BD %CE%99%CF%83%CE%B9%CE%B4%CF%8E%CF%81%CF%89%CE%BD %CE%9B%CF%85%CE%BA%CE%B1%CE%B2%CE%B7%CF%84%CF%84%CE%BF%CF%8D":MAILTO:aisidro@otenet.gr
END:VEVENT
BEGIN:VEVENT
DTSTART;TZID=Europe/Athens:20210616T073000
DTEND;TZID=Europe/Athens:20210616T103000
DTSTAMP:20260420T104900
CREATED:20210526T175330Z
LAST-MODIFIED:20210526T175330Z
UID:3171-1623828600-1623839400@www.agioi-isidoroi.gr
SUMMARY:Τύχωνος επίσκ. Αμαθούντος
DESCRIPTION:Όρθρος & Θεία Λειτουργία
URL:https://www.agioi-isidoroi.gr/leitourgia/tychonos-episk-amathoyntos/
LOCATION:Ιερός Ναός Αγίων Ισιδώρων Λυκαβηττού\, Λυκαβηττός\, Αθήνα\, Αττική\, 10210\, Greece
CATEGORIES:Όρθρος Και Θεία Λειτουργία
ORGANIZER;CN="%CE%99%CE%B5%CF%81%CF%8C%CF%82 %CE%9D%CE%B1%CF%8C%CF%82 %CE%91%CE%B3%CE%AF%CF%89%CE%BD %CE%99%CF%83%CE%B9%CE%B4%CF%8E%CF%81%CF%89%CE%BD %CE%9B%CF%85%CE%BA%CE%B1%CE%B2%CE%B7%CF%84%CF%84%CE%BF%CF%8D":MAILTO:aisidro@otenet.gr
END:VEVENT
BEGIN:VEVENT
DTSTART;TZID=Europe/Athens:20210615T073000
DTEND;TZID=Europe/Athens:20210615T103000
DTSTAMP:20260420T104900
CREATED:20210526T152546Z
LAST-MODIFIED:20210526T152546Z
UID:3169-1623742200-1623753000@www.agioi-isidoroi.gr
SUMMARY:Οσίου Ιερωνύμου
DESCRIPTION:Όρθρος & Θεία Λειτουργία
URL:https://www.agioi-isidoroi.gr/leitourgia/osioy-ieronymoy/
LOCATION:Ιερός Ναός Αγίων Ισιδώρων Λυκαβηττού\, Λυκαβηττός\, Αθήνα\, Αττική\, 10210\, Greece
CATEGORIES:Όρθρος Και Θεία Λειτουργία
ORGANIZER;CN="%CE%99%CE%B5%CF%81%CF%8C%CF%82 %CE%9D%CE%B1%CF%8C%CF%82 %CE%91%CE%B3%CE%AF%CF%89%CE%BD %CE%99%CF%83%CE%B9%CE%B4%CF%8E%CF%81%CF%89%CE%BD %CE%9B%CF%85%CE%BA%CE%B1%CE%B2%CE%B7%CF%84%CF%84%CE%BF%CF%8D":MAILTO:aisidro@otenet.gr
END:VEVENT
BEGIN:VEVENT
DTSTART;TZID=Europe/Athens:20210614T073000
DTEND;TZID=Europe/Athens:20210614T103000
DTSTAMP:20260420T104900
CREATED:20210526T152338Z
LAST-MODIFIED:20210526T152338Z
UID:3166-1623655800-1623666600@www.agioi-isidoroi.gr
SUMMARY:Προφήτου Ελισσαίου
DESCRIPTION:Όρθρος & Θεία Λειτουργία
URL:https://www.agioi-isidoroi.gr/leitourgia/profitoy-elissaioy/
LOCATION:Ιερός Ναός Αγίων Ισιδώρων Λυκαβηττού\, Λυκαβηττός\, Αθήνα\, Αττική\, 10210\, Greece
CATEGORIES:Όρθρος Και Θεία Λειτουργία
ORGANIZER;CN="%CE%99%CE%B5%CF%81%CF%8C%CF%82 %CE%9D%CE%B1%CF%8C%CF%82 %CE%91%CE%B3%CE%AF%CF%89%CE%BD %CE%99%CF%83%CE%B9%CE%B4%CF%8E%CF%81%CF%89%CE%BD %CE%9B%CF%85%CE%BA%CE%B1%CE%B2%CE%B7%CF%84%CF%84%CE%BF%CF%8D":MAILTO:aisidro@otenet.gr
END:VEVENT
BEGIN:VEVENT
DTSTART;TZID=Europe/Athens:20210613T193000
DTEND;TZID=Europe/Athens:20210613T220000
DTSTAMP:20260420T104900
CREATED:20210526T152243Z
LAST-MODIFIED:20210526T152243Z
UID:3164-1623612600-1623621600@www.agioi-isidoroi.gr
SUMMARY:Εσπερινός & Νυχτερινή Θεία Λειτουργία
DESCRIPTION:
URL:https://www.agioi-isidoroi.gr/leitourgia/esperinos-amp-nychterini-theia-leitoyrgia/
LOCATION:Ιερός Ναός Αγίων Ισιδώρων Λυκαβηττού\, Λυκαβηττός\, Αθήνα\, Αττική\, 10210\, Greece
CATEGORIES:Εσπερινός,Θεία Λειτουργία
ORGANIZER;CN="%CE%99%CE%B5%CF%81%CF%8C%CF%82 %CE%9D%CE%B1%CF%8C%CF%82 %CE%91%CE%B3%CE%AF%CF%89%CE%BD %CE%99%CF%83%CE%B9%CE%B4%CF%8E%CF%81%CF%89%CE%BD %CE%9B%CF%85%CE%BA%CE%B1%CE%B2%CE%B7%CF%84%CF%84%CE%BF%CF%8D":MAILTO:aisidro@otenet.gr
END:VEVENT
BEGIN:VEVENT
DTSTART;TZID=Europe/Athens:20210613T073000
DTEND;TZID=Europe/Athens:20210613T103000
DTSTAMP:20260420T104900
CREATED:20210526T152134Z
LAST-MODIFIED:20210526T152134Z
UID:3162-1623569400-1623580200@www.agioi-isidoroi.gr
SUMMARY:ΤΩΝ ΑΓΙΩΝ 318 ΠΑΤΕΡΩΝ\, Αγ. μάρτ. Ακυλίνης
DESCRIPTION:Όρθρος & Θεία Λειτουργία
URL:https://www.agioi-isidoroi.gr/leitourgia/ton-agion-318-pateron-ag-mart-akylinis/
LOCATION:Ιερός Ναός Αγίων Ισιδώρων Λυκαβηττού\, Λυκαβηττός\, Αθήνα\, Αττική\, 10210\, Greece
CATEGORIES:Όρθρος Και Θεία Λειτουργία
ORGANIZER;CN="%CE%99%CE%B5%CF%81%CF%8C%CF%82 %CE%9D%CE%B1%CF%8C%CF%82 %CE%91%CE%B3%CE%AF%CF%89%CE%BD %CE%99%CF%83%CE%B9%CE%B4%CF%8E%CF%81%CF%89%CE%BD %CE%9B%CF%85%CE%BA%CE%B1%CE%B2%CE%B7%CF%84%CF%84%CE%BF%CF%8D":MAILTO:aisidro@otenet.gr
END:VEVENT
BEGIN:VEVENT
DTSTART;TZID=Europe/Athens:20210612T193000
DTEND;TZID=Europe/Athens:20210612T220000
DTSTAMP:20260420T104900
CREATED:20210526T152032Z
LAST-MODIFIED:20210526T152032Z
UID:3160-1623526200-1623535200@www.agioi-isidoroi.gr
SUMMARY:Αναστάσιμος εσπερινός
DESCRIPTION:
URL:https://www.agioi-isidoroi.gr/leitourgia/anastasimos-esperinos-5/
LOCATION:Ιερός Ναός Αγίων Ισιδώρων Λυκαβηττού\, Λυκαβηττός\, Αθήνα\, Αττική\, 10210\, Greece
CATEGORIES:Αναστάσιμος Εσπερινός
ORGANIZER;CN="%CE%99%CE%B5%CF%81%CF%8C%CF%82 %CE%9D%CE%B1%CF%8C%CF%82 %CE%91%CE%B3%CE%AF%CF%89%CE%BD %CE%99%CF%83%CE%B9%CE%B4%CF%8E%CF%81%CF%89%CE%BD %CE%9B%CF%85%CE%BA%CE%B1%CE%B2%CE%B7%CF%84%CF%84%CE%BF%CF%8D":MAILTO:aisidro@otenet.gr
END:VEVENT
BEGIN:VEVENT
DTSTART;TZID=Europe/Athens:20210612T073000
DTEND;TZID=Europe/Athens:20210612T103000
DTSTAMP:20260420T104900
CREATED:20210526T151933Z
LAST-MODIFIED:20210526T151933Z
UID:3158-1623483000-1623493800@www.agioi-isidoroi.gr
SUMMARY:Οσίου Ονουφρίου\, Πέτρου του εν Άθω
DESCRIPTION:Όρθρος & Θεία Λειτουργία
URL:https://www.agioi-isidoroi.gr/leitourgia/osioy-onoyfrioy-petroy-toy-en-atho/
LOCATION:Ιερός Ναός Αγίων Ισιδώρων Λυκαβηττού\, Λυκαβηττός\, Αθήνα\, Αττική\, 10210\, Greece
CATEGORIES:Όρθρος Και Θεία Λειτουργία
ORGANIZER;CN="%CE%99%CE%B5%CF%81%CF%8C%CF%82 %CE%9D%CE%B1%CF%8C%CF%82 %CE%91%CE%B3%CE%AF%CF%89%CE%BD %CE%99%CF%83%CE%B9%CE%B4%CF%8E%CF%81%CF%89%CE%BD %CE%9B%CF%85%CE%BA%CE%B1%CE%B2%CE%B7%CF%84%CF%84%CE%BF%CF%8D":MAILTO:aisidro@otenet.gr
END:VEVENT
BEGIN:VEVENT
DTSTART;TZID=Europe/Athens:20210611T073000
DTEND;TZID=Europe/Athens:20210611T103000
DTSTAMP:20260420T104900
CREATED:20210526T151833Z
LAST-MODIFIED:20210526T151833Z
UID:3156-1623396600-1623407400@www.agioi-isidoroi.gr
SUMMARY:Βαρθολομαίου & Βαρνάβα των Αποστόλων\, Αγίου Λουκά Κριμαίας του Ιατρού
DESCRIPTION:Όρθρος & Θεία Λειτουργία
URL:https://www.agioi-isidoroi.gr/leitourgia/vartholomaioy-amp-varnava-ton-apostolon-agioy-loyka-krimaias-toy-iatroy/
LOCATION:Ιερός Ναός Αγίων Ισιδώρων Λυκαβηττού\, Λυκαβηττός\, Αθήνα\, Αττική\, 10210\, Greece
CATEGORIES:Όρθρος Και Θεία Λειτουργία
ORGANIZER;CN="%CE%99%CE%B5%CF%81%CF%8C%CF%82 %CE%9D%CE%B1%CF%8C%CF%82 %CE%91%CE%B3%CE%AF%CF%89%CE%BD %CE%99%CF%83%CE%B9%CE%B4%CF%8E%CF%81%CF%89%CE%BD %CE%9B%CF%85%CE%BA%CE%B1%CE%B2%CE%B7%CF%84%CF%84%CE%BF%CF%8D":MAILTO:aisidro@otenet.gr
END:VEVENT
BEGIN:VEVENT
DTSTART;TZID=Europe/Athens:20210610T073000
DTEND;TZID=Europe/Athens:20210610T103000
DTSTAMP:20260420T104900
CREATED:20210526T151715Z
LAST-MODIFIED:20210526T151715Z
UID:3154-1623310200-1623321000@www.agioi-isidoroi.gr
SUMMARY:ΤΗΣ ΑΝΑΛΗΨΕΩΣ
DESCRIPTION:Όρθρος & Θεία Λειτουργία
URL:https://www.agioi-isidoroi.gr/leitourgia/tis-analipseos/
LOCATION:Ιερός Ναός Αγίων Ισιδώρων Λυκαβηττού\, Λυκαβηττός\, Αθήνα\, Αττική\, 10210\, Greece
CATEGORIES:Όρθρος Και Θεία Λειτουργία
ORGANIZER;CN="%CE%99%CE%B5%CF%81%CF%8C%CF%82 %CE%9D%CE%B1%CF%8C%CF%82 %CE%91%CE%B3%CE%AF%CF%89%CE%BD %CE%99%CF%83%CE%B9%CE%B4%CF%8E%CF%81%CF%89%CE%BD %CE%9B%CF%85%CE%BA%CE%B1%CE%B2%CE%B7%CF%84%CF%84%CE%BF%CF%8D":MAILTO:aisidro@otenet.gr
END:VEVENT
BEGIN:VEVENT
DTSTART;TZID=Europe/Athens:20210609T193000
DTEND;TZID=Europe/Athens:20210609T220000
DTSTAMP:20260420T104900
CREATED:20210526T151619Z
LAST-MODIFIED:20210526T151619Z
UID:3152-1623267000-1623276000@www.agioi-isidoroi.gr
SUMMARY:Εσπερινός της Αναλήψεως
DESCRIPTION:
URL:https://www.agioi-isidoroi.gr/leitourgia/esperinos-tis-analipseos/
LOCATION:Ιερός Ναός Αγίων Ισιδώρων Λυκαβηττού\, Λυκαβηττός\, Αθήνα\, Αττική\, 10210\, Greece
CATEGORIES:Εσπερινός
ORGANIZER;CN="%CE%99%CE%B5%CF%81%CF%8C%CF%82 %CE%9D%CE%B1%CF%8C%CF%82 %CE%91%CE%B3%CE%AF%CF%89%CE%BD %CE%99%CF%83%CE%B9%CE%B4%CF%8E%CF%81%CF%89%CE%BD %CE%9B%CF%85%CE%BA%CE%B1%CE%B2%CE%B7%CF%84%CF%84%CE%BF%CF%8D":MAILTO:aisidro@otenet.gr
END:VEVENT
BEGIN:VEVENT
DTSTART;TZID=Europe/Athens:20210609T073000
DTEND;TZID=Europe/Athens:20210609T103000
DTSTAMP:20260420T104900
CREATED:20210526T151504Z
LAST-MODIFIED:20210526T151504Z
UID:3150-1623223800-1623234600@www.agioi-isidoroi.gr
SUMMARY:Απόδοση της εορτής του Πάσχα
DESCRIPTION:Όρθρος & Θεία Λειτουργία
URL:https://www.agioi-isidoroi.gr/leitourgia/apodosi-tis-eortis-toy-pascha/
LOCATION:Ιερός Ναός Αγίων Ισιδώρων Λυκαβηττού\, Λυκαβηττός\, Αθήνα\, Αττική\, 10210\, Greece
CATEGORIES:Όρθρος Και Θεία Λειτουργία
ORGANIZER;CN="%CE%99%CE%B5%CF%81%CF%8C%CF%82 %CE%9D%CE%B1%CF%8C%CF%82 %CE%91%CE%B3%CE%AF%CF%89%CE%BD %CE%99%CF%83%CE%B9%CE%B4%CF%8E%CF%81%CF%89%CE%BD %CE%9B%CF%85%CE%BA%CE%B1%CE%B2%CE%B7%CF%84%CF%84%CE%BF%CF%8D":MAILTO:aisidro@otenet.gr
END:VEVENT
END:VCALENDAR