BEGIN:VCALENDAR
VERSION:2.0
PRODID:-//ΙΕΡΟΣ ΝΑΟΣ ΑΓΙΩΝ ΙΣΙΔΩΡΩΝ - ECPv6.15.17.1//NONSGML v1.0//EN
CALSCALE:GREGORIAN
METHOD:PUBLISH
X-WR-CALNAME:ΙΕΡΟΣ ΝΑΟΣ ΑΓΙΩΝ ΙΣΙΔΩΡΩΝ
X-ORIGINAL-URL:https://www.agioi-isidoroi.gr
X-WR-CALDESC:Events for ΙΕΡΟΣ ΝΑΟΣ ΑΓΙΩΝ ΙΣΙΔΩΡΩΝ
REFRESH-INTERVAL;VALUE=DURATION:PT1H
X-Robots-Tag:noindex
X-PUBLISHED-TTL:PT1H
BEGIN:VTIMEZONE
TZID:Europe/Athens
BEGIN:DAYLIGHT
TZOFFSETFROM:+0200
TZOFFSETTO:+0300
TZNAME:EEST
DTSTART:20200329T010000
END:DAYLIGHT
BEGIN:STANDARD
TZOFFSETFROM:+0300
TZOFFSETTO:+0200
TZNAME:EET
DTSTART:20201025T010000
END:STANDARD
BEGIN:DAYLIGHT
TZOFFSETFROM:+0200
TZOFFSETTO:+0300
TZNAME:EEST
DTSTART:20210328T010000
END:DAYLIGHT
BEGIN:STANDARD
TZOFFSETFROM:+0300
TZOFFSETTO:+0200
TZNAME:EET
DTSTART:20211031T010000
END:STANDARD
BEGIN:DAYLIGHT
TZOFFSETFROM:+0200
TZOFFSETTO:+0300
TZNAME:EEST
DTSTART:20220327T010000
END:DAYLIGHT
BEGIN:STANDARD
TZOFFSETFROM:+0300
TZOFFSETTO:+0200
TZNAME:EET
DTSTART:20221030T010000
END:STANDARD
END:VTIMEZONE
BEGIN:VEVENT
DTSTART;TZID=Europe/Athens:20210918T183000
DTEND;TZID=Europe/Athens:20210918T213000
DTSTAMP:20260419T200123
CREATED:20210902T145118Z
LAST-MODIFIED:20210902T145118Z
UID:3737-1631989800-1632000600@www.agioi-isidoroi.gr
SUMMARY:Αναστάσιμος Εσπερινός
DESCRIPTION:
URL:https://www.agioi-isidoroi.gr/leitourgia/anastasimos-esperinos-16/
LOCATION:Ιερός Ναός Αγίων Ισιδώρων Λυκαβηττού\, Λυκαβηττός\, Αθήνα\, Αττική\, 10210\, Greece
CATEGORIES:Αναστάσιμος Εσπερινός
ORGANIZER;CN="%CE%99%CE%B5%CF%81%CF%8C%CF%82 %CE%9D%CE%B1%CF%8C%CF%82 %CE%91%CE%B3%CE%AF%CF%89%CE%BD %CE%99%CF%83%CE%B9%CE%B4%CF%8E%CF%81%CF%89%CE%BD %CE%9B%CF%85%CE%BA%CE%B1%CE%B2%CE%B7%CF%84%CF%84%CE%BF%CF%8D":MAILTO:aisidro@otenet.gr
END:VEVENT
BEGIN:VEVENT
DTSTART;TZID=Europe/Athens:20210918T073000
DTEND;TZID=Europe/Athens:20210918T103000
DTSTAMP:20260419T200123
CREATED:20210902T145037Z
LAST-MODIFIED:20210902T145037Z
UID:3735-1631950200-1631961000@www.agioi-isidoroi.gr
SUMMARY:Ευμενίου επισκ. Γορτύνης
DESCRIPTION:Όρθρος & Θεία Λειτουργία
URL:https://www.agioi-isidoroi.gr/leitourgia/eymenioy-episk-gortynis/
LOCATION:Ιερός Ναός Αγίων Ισιδώρων Λυκαβηττού\, Λυκαβηττός\, Αθήνα\, Αττική\, 10210\, Greece
CATEGORIES:Όρθρος Και Θεία Λειτουργία
ORGANIZER;CN="%CE%99%CE%B5%CF%81%CF%8C%CF%82 %CE%9D%CE%B1%CF%8C%CF%82 %CE%91%CE%B3%CE%AF%CF%89%CE%BD %CE%99%CF%83%CE%B9%CE%B4%CF%8E%CF%81%CF%89%CE%BD %CE%9B%CF%85%CE%BA%CE%B1%CE%B2%CE%B7%CF%84%CF%84%CE%BF%CF%8D":MAILTO:aisidro@otenet.gr
END:VEVENT
BEGIN:VEVENT
DTSTART;TZID=Europe/Athens:20210917T073000
DTEND;TZID=Europe/Athens:20210917T103000
DTSTAMP:20260419T200123
CREATED:20210902T144956Z
LAST-MODIFIED:20210902T144956Z
UID:3733-1631863800-1631874600@www.agioi-isidoroi.gr
SUMMARY:Αγίας Σοφίας\, Πίστεως\, Ελπίδος & Αγάπης
DESCRIPTION:Όρθρος & Θεία Λειτουργία
URL:https://www.agioi-isidoroi.gr/leitourgia/agias-sofias-pisteos-elpidos-amp-agapis/
LOCATION:Ιερός Ναός Αγίων Ισιδώρων Λυκαβηττού\, Λυκαβηττός\, Αθήνα\, Αττική\, 10210\, Greece
CATEGORIES:Όρθρος Και Θεία Λειτουργία
ORGANIZER;CN="%CE%99%CE%B5%CF%81%CF%8C%CF%82 %CE%9D%CE%B1%CF%8C%CF%82 %CE%91%CE%B3%CE%AF%CF%89%CE%BD %CE%99%CF%83%CE%B9%CE%B4%CF%8E%CF%81%CF%89%CE%BD %CE%9B%CF%85%CE%BA%CE%B1%CE%B2%CE%B7%CF%84%CF%84%CE%BF%CF%8D":MAILTO:aisidro@otenet.gr
END:VEVENT
BEGIN:VEVENT
DTSTART;TZID=Europe/Athens:20210916T073000
DTEND;TZID=Europe/Athens:20210916T103000
DTSTAMP:20260419T200123
CREATED:20210902T144914Z
LAST-MODIFIED:20210902T144914Z
UID:3731-1631777400-1631788200@www.agioi-isidoroi.gr
SUMMARY:Αγίας Ευφημίας
DESCRIPTION:Όρθρος & Θεία Λειτουργία
URL:https://www.agioi-isidoroi.gr/leitourgia/agias-eyfimias/
LOCATION:Ιερός Ναός Αγίων Ισιδώρων Λυκαβηττού\, Λυκαβηττός\, Αθήνα\, Αττική\, 10210\, Greece
CATEGORIES:Όρθρος Και Θεία Λειτουργία
ORGANIZER;CN="%CE%99%CE%B5%CF%81%CF%8C%CF%82 %CE%9D%CE%B1%CF%8C%CF%82 %CE%91%CE%B3%CE%AF%CF%89%CE%BD %CE%99%CF%83%CE%B9%CE%B4%CF%8E%CF%81%CF%89%CE%BD %CE%9B%CF%85%CE%BA%CE%B1%CE%B2%CE%B7%CF%84%CF%84%CE%BF%CF%8D":MAILTO:aisidro@otenet.gr
END:VEVENT
BEGIN:VEVENT
DTSTART;TZID=Europe/Athens:20210915T073000
DTEND;TZID=Europe/Athens:20210915T103000
DTSTAMP:20260419T200123
CREATED:20210902T144832Z
LAST-MODIFIED:20210902T144832Z
UID:3729-1631691000-1631701800@www.agioi-isidoroi.gr
SUMMARY:Αγίου Νικήτα
DESCRIPTION:Όρθρος & Θεία Λειτουργία
URL:https://www.agioi-isidoroi.gr/leitourgia/agioy-nikita/
LOCATION:Ιερός Ναός Αγίων Ισιδώρων Λυκαβηττού\, Λυκαβηττός\, Αθήνα\, Αττική\, 10210\, Greece
CATEGORIES:Όρθρος Και Θεία Λειτουργία
ORGANIZER;CN="%CE%99%CE%B5%CF%81%CF%8C%CF%82 %CE%9D%CE%B1%CF%8C%CF%82 %CE%91%CE%B3%CE%AF%CF%89%CE%BD %CE%99%CF%83%CE%B9%CE%B4%CF%8E%CF%81%CF%89%CE%BD %CE%9B%CF%85%CE%BA%CE%B1%CE%B2%CE%B7%CF%84%CF%84%CE%BF%CF%8D":MAILTO:aisidro@otenet.gr
END:VEVENT
BEGIN:VEVENT
DTSTART;TZID=Europe/Athens:20210914T203000
DTEND;TZID=Europe/Athens:20210914T233000
DTSTAMP:20260419T200123
CREATED:20210902T144745Z
LAST-MODIFIED:20210902T144745Z
UID:3727-1631651400-1631662200@www.agioi-isidoroi.gr
SUMMARY:ΝΥΧΤΕΡΙΝΗ ΘΕΙΑ ΛΕΙΤΟΥΡΓΙΑ
DESCRIPTION:«Σταυρός ο φύλαξ πάσης της Οικουμένης\, σταυρός η Ωραιότης της Εκκλησίας\, σταυρός βασιλέων το κραταίωμα\, σταυρός πιστών το στήριγμα\, σταυρός αγγέλων η δόξα\, και των δαιμόνων το τραύμα»  \n\nΘα τεθεί εις προσκύνηση τεμάχιο του Τιμίου Ξύλου.\n\nΣτους προσκυνητές θα δοθούν ως ευλογία σταυρουλάκια και εικονίτσες του Σταυρού.
URL:https://www.agioi-isidoroi.gr/leitourgia/nychterini-theia-leitoyrgia-2/
LOCATION:Ιερός Ναός Αγίων Ισιδώρων Λυκαβηττού\, Λυκαβηττός\, Αθήνα\, Αττική\, 10210\, Greece
CATEGORIES:Θεία Λειτουργία
ORGANIZER;CN="%CE%99%CE%B5%CF%81%CF%8C%CF%82 %CE%9D%CE%B1%CF%8C%CF%82 %CE%91%CE%B3%CE%AF%CF%89%CE%BD %CE%99%CF%83%CE%B9%CE%B4%CF%8E%CF%81%CF%89%CE%BD %CE%9B%CF%85%CE%BA%CE%B1%CE%B2%CE%B7%CF%84%CF%84%CE%BF%CF%8D":MAILTO:aisidro@otenet.gr
END:VEVENT
BEGIN:VEVENT
DTSTART;TZID=Europe/Athens:20210914T183000
DTEND;TZID=Europe/Athens:20210914T203000
DTSTAMP:20260419T200123
CREATED:20210902T144609Z
LAST-MODIFIED:20210902T144609Z
UID:3725-1631644200-1631651400@www.agioi-isidoroi.gr
SUMMARY:Μεθεόρτιος Εσπερινός & Εγκώμια του Σταυρού
DESCRIPTION:
URL:https://www.agioi-isidoroi.gr/leitourgia/metheortios-esperinos-amp-egkomia-toy-stayroy/
LOCATION:Ιερός Ναός Αγίων Ισιδώρων Λυκαβηττού\, Λυκαβηττός\, Αθήνα\, Αττική\, 10210\, Greece
ORGANIZER;CN="%CE%99%CE%B5%CF%81%CF%8C%CF%82 %CE%9D%CE%B1%CF%8C%CF%82 %CE%91%CE%B3%CE%AF%CF%89%CE%BD %CE%99%CF%83%CE%B9%CE%B4%CF%8E%CF%81%CF%89%CE%BD %CE%9B%CF%85%CE%BA%CE%B1%CE%B2%CE%B7%CF%84%CF%84%CE%BF%CF%8D":MAILTO:aisidro@otenet.gr
END:VEVENT
BEGIN:VEVENT
DTSTART;TZID=Europe/Athens:20210914T173000
DTEND;TZID=Europe/Athens:20210914T183000
DTSTAMP:20260419T200123
CREATED:20210902T144530Z
LAST-MODIFIED:20210902T144530Z
UID:3723-1631640600-1631644200@www.agioi-isidoroi.gr
SUMMARY:Ιερό Ευχέλαιο με το Τίμιο Ξύλο
DESCRIPTION:
URL:https://www.agioi-isidoroi.gr/leitourgia/iero-eychelaio-me-to-timio-xylo/
LOCATION:Ιερός Ναός Αγίων Ισιδώρων Λυκαβηττού\, Λυκαβηττός\, Αθήνα\, Αττική\, 10210\, Greece
ORGANIZER;CN="%CE%99%CE%B5%CF%81%CF%8C%CF%82 %CE%9D%CE%B1%CF%8C%CF%82 %CE%91%CE%B3%CE%AF%CF%89%CE%BD %CE%99%CF%83%CE%B9%CE%B4%CF%8E%CF%81%CF%89%CE%BD %CE%9B%CF%85%CE%BA%CE%B1%CE%B2%CE%B7%CF%84%CF%84%CE%BF%CF%8D":MAILTO:aisidro@otenet.gr
END:VEVENT
BEGIN:VEVENT
DTSTART;TZID=Europe/Athens:20210914T073000
DTEND;TZID=Europe/Athens:20210914T103000
DTSTAMP:20260419T200123
CREATED:20210902T144437Z
LAST-MODIFIED:20210902T144437Z
UID:3721-1631604600-1631615400@www.agioi-isidoroi.gr
SUMMARY:ΜΕΓΑΛΕΙΩΔΗΣ & ΜΕΓΑΛΟΠΡΕΠΗΣ ΙΕΡΑ ΠΑΝΗΓΥΡΙΣ ΤΗΣ ΥΨΩΣΕΩΣ ΤΟΥ ΤΙΜΙΟΥ & ΖΩΟΠΟΙΟΥ ΣΤΑΥΡΟΥ
DESCRIPTION:Όρθρος & ΠΑΝΗΓΥΡΙΚΗ ΘΕΙΑ ΛΕΙΤΟΥΡΓΙΑ \n* Εορτάζει το ιερό παρεκκλήσιο του Τιμίου Σταυρού \n* θα τεθεί προς ευλογία ο ΤΙΜΙΟΣ ΣΤΑΥΡΟΣ \n  \n«Σώσον Κύριε τον λαόν σου και ευλόγησον την κληρονομίαν σου\, νίκας τοις Βασιλεύσι κατά βαρβάρων δωρούμενος και το σον φυλάττων διά του Σταυρού σου πολίτευμα».
URL:https://www.agioi-isidoroi.gr/leitourgia/megaleiodis-amp-megaloprepis-iera-panigyris-tis-ypsoseos-toy-timioy-amp-zoopoioy-stayroy/
LOCATION:Ιερός Ναός Αγίων Ισιδώρων Λυκαβηττού\, Λυκαβηττός\, Αθήνα\, Αττική\, 10210\, Greece
CATEGORIES:Όρθρος Και Θεία Λειτουργία
ORGANIZER;CN="%CE%99%CE%B5%CF%81%CF%8C%CF%82 %CE%9D%CE%B1%CF%8C%CF%82 %CE%91%CE%B3%CE%AF%CF%89%CE%BD %CE%99%CF%83%CE%B9%CE%B4%CF%8E%CF%81%CF%89%CE%BD %CE%9B%CF%85%CE%BA%CE%B1%CE%B2%CE%B7%CF%84%CF%84%CE%BF%CF%8D":MAILTO:aisidro@otenet.gr
END:VEVENT
BEGIN:VEVENT
DTSTART;TZID=Europe/Athens:20210913T220000
DTEND;TZID=Europe/Athens:20210914T010000
DTSTAMP:20260419T200123
CREATED:20210902T144221Z
LAST-MODIFIED:20210902T144221Z
UID:3719-1631570400-1631581200@www.agioi-isidoroi.gr
SUMMARY:ΙΕΡΑ ΑΓΡΥΠΝΙΑ
DESCRIPTION:
URL:https://www.agioi-isidoroi.gr/leitourgia/iera-agrypnia-8/
LOCATION:Ιερός Ναός Αγίων Ισιδώρων Λυκαβηττού\, Λυκαβηττός\, Αθήνα\, Αττική\, 10210\, Greece
CATEGORIES:Ιερά Αγρυπνία
ORGANIZER;CN="%CE%99%CE%B5%CF%81%CF%8C%CF%82 %CE%9D%CE%B1%CF%8C%CF%82 %CE%91%CE%B3%CE%AF%CF%89%CE%BD %CE%99%CF%83%CE%B9%CE%B4%CF%8E%CF%81%CF%89%CE%BD %CE%9B%CF%85%CE%BA%CE%B1%CE%B2%CE%B7%CF%84%CF%84%CE%BF%CF%8D":MAILTO:aisidro@otenet.gr
END:VEVENT
BEGIN:VEVENT
DTSTART;TZID=Europe/Athens:20210913T193000
DTEND;TZID=Europe/Athens:20210913T220000
DTSTAMP:20260419T200123
CREATED:20210902T144130Z
LAST-MODIFIED:20210902T144130Z
UID:3717-1631561400-1631570400@www.agioi-isidoroi.gr
SUMMARY:ΜΕΓΑΣ ΠΑΝΗΓΥΡΙΚΟΣ ΕΣΠΕΡΙΝΟΣ
DESCRIPTION:ΜΕΓΑΣ ΠΑΝΗΓΥΡΙΚΟΣ ΕΣΠΕΡΙΝΟΣ
URL:https://www.agioi-isidoroi.gr/leitourgia/megas-panigyrikos-esperinos/
LOCATION:Ιερός Ναός Αγίων Ισιδώρων Λυκαβηττού\, Λυκαβηττός\, Αθήνα\, Αττική\, 10210\, Greece
CATEGORIES:Εσπερινός
ORGANIZER;CN="%CE%99%CE%B5%CF%81%CF%8C%CF%82 %CE%9D%CE%B1%CF%8C%CF%82 %CE%91%CE%B3%CE%AF%CF%89%CE%BD %CE%99%CF%83%CE%B9%CE%B4%CF%8E%CF%81%CF%89%CE%BD %CE%9B%CF%85%CE%BA%CE%B1%CE%B2%CE%B7%CF%84%CF%84%CE%BF%CF%8D":MAILTO:aisidro@otenet.gr
END:VEVENT
BEGIN:VEVENT
DTSTART;TZID=Europe/Athens:20210913T180000
DTEND;TZID=Europe/Athens:20210913T193000
DTSTAMP:20260419T200123
CREATED:20210902T144038Z
LAST-MODIFIED:20210902T144038Z
UID:3715-1631556000-1631561400@www.agioi-isidoroi.gr
SUMMARY:Παράκληση του Αγίου Αριστείδου & Λιτανεία της Ιεράς Εικόνος
DESCRIPTION:Παράκληση  & Λιτανεία
URL:https://www.agioi-isidoroi.gr/leitourgia/paraklisi-toy-agioy-aristeidoy-amp-litaneia-tis-ieras-eikonos/
LOCATION:Ιερός Ναός Αγίων Ισιδώρων Λυκαβηττού\, Λυκαβηττός\, Αθήνα\, Αττική\, 10210\, Greece
ORGANIZER;CN="%CE%99%CE%B5%CF%81%CF%8C%CF%82 %CE%9D%CE%B1%CF%8C%CF%82 %CE%91%CE%B3%CE%AF%CF%89%CE%BD %CE%99%CF%83%CE%B9%CE%B4%CF%8E%CF%81%CF%89%CE%BD %CE%9B%CF%85%CE%BA%CE%B1%CE%B2%CE%B7%CF%84%CF%84%CE%BF%CF%8D":MAILTO:aisidro@otenet.gr
END:VEVENT
BEGIN:VEVENT
DTSTART;TZID=Europe/Athens:20210913T073000
DTEND;TZID=Europe/Athens:20210913T103000
DTSTAMP:20260419T200123
CREATED:20210902T143914Z
LAST-MODIFIED:20210902T143914Z
UID:3713-1631518200-1631529000@www.agioi-isidoroi.gr
SUMMARY:ΙΕΡΑ ΠΑΝΗΓΥΡΙΣ ΤΟΥ ΑΓΙΟΥ ΑΡΙΣΤΕΙΔΟΥ ΤΟΥ ΑΘΗΝΑΙΟΥ
DESCRIPTION:Όρθρος & Πανηγυρική Θεία Λειτουργία  \nΕορτάζει το ιερό σπήλαιο στο οποίο κατά την παράδοση ερχόταν ο Άγιος για προσευχή και περισυλλογή \n «Τω Χριστώ προσηνέχθης θυσία άμωμος\, και ολοκάρπωμα θείον αιωρηθείς απηνώς\, εν αγχόνῃ Αριστείδη γενναιότατε\, γόνε κλεινέ των Αθηνών και φιλόσοφε σεπτέ\, διό σε νυν ευφημούντες\, φωναίς ευήχοις βοώμεν· Χριστόν δυσώπει υπέρ πάντων ημών»​
URL:https://www.agioi-isidoroi.gr/leitourgia/iera-panigyris-toy-agioy-aristeidoy-toy-athinaioy/
LOCATION:Ιερός Ναός Αγίων Ισιδώρων Λυκαβηττού\, Λυκαβηττός\, Αθήνα\, Αττική\, 10210\, Greece
CATEGORIES:Όρθρος Και Θεία Λειτουργία
ORGANIZER;CN="%CE%99%CE%B5%CF%81%CF%8C%CF%82 %CE%9D%CE%B1%CF%8C%CF%82 %CE%91%CE%B3%CE%AF%CF%89%CE%BD %CE%99%CF%83%CE%B9%CE%B4%CF%8E%CF%81%CF%89%CE%BD %CE%9B%CF%85%CE%BA%CE%B1%CE%B2%CE%B7%CF%84%CF%84%CE%BF%CF%8D":MAILTO:aisidro@otenet.gr
END:VEVENT
BEGIN:VEVENT
DTSTART;TZID=Europe/Athens:20210912T220000
DTEND;TZID=Europe/Athens:20210913T010000
DTSTAMP:20260419T200123
CREATED:20210902T143700Z
LAST-MODIFIED:20210902T143700Z
UID:3711-1631484000-1631494800@www.agioi-isidoroi.gr
SUMMARY:ΙΕΡΑ ΑΓΡΥΠΝΙΑ
DESCRIPTION:
URL:https://www.agioi-isidoroi.gr/leitourgia/iera-agrypnia-7/
LOCATION:Ιερός Ναός Αγίων Ισιδώρων Λυκαβηττού\, Λυκαβηττός\, Αθήνα\, Αττική\, 10210\, Greece
CATEGORIES:Ιερά Αγρυπνία
ORGANIZER;CN="%CE%99%CE%B5%CF%81%CF%8C%CF%82 %CE%9D%CE%B1%CF%8C%CF%82 %CE%91%CE%B3%CE%AF%CF%89%CE%BD %CE%99%CF%83%CE%B9%CE%B4%CF%8E%CF%81%CF%89%CE%BD %CE%9B%CF%85%CE%BA%CE%B1%CE%B2%CE%B7%CF%84%CF%84%CE%BF%CF%8D":MAILTO:aisidro@otenet.gr
END:VEVENT
BEGIN:VEVENT
DTSTART;TZID=Europe/Athens:20210912T193000
DTEND;TZID=Europe/Athens:20210912T223000
DTSTAMP:20260419T200123
CREATED:20210902T143604Z
LAST-MODIFIED:20210902T143604Z
UID:3709-1631475000-1631485800@www.agioi-isidoroi.gr
SUMMARY:Πανηγυρικός Εσπερινός
DESCRIPTION:Πανηγυρικός Εσπερινός
URL:https://www.agioi-isidoroi.gr/leitourgia/panigyrikos-esperinos-10/
LOCATION:Ιερός Ναός Αγίων Ισιδώρων Λυκαβηττού\, Λυκαβηττός\, Αθήνα\, Αττική\, 10210\, Greece
CATEGORIES:Εσπερινός
ORGANIZER;CN="%CE%99%CE%B5%CF%81%CF%8C%CF%82 %CE%9D%CE%B1%CF%8C%CF%82 %CE%91%CE%B3%CE%AF%CF%89%CE%BD %CE%99%CF%83%CE%B9%CE%B4%CF%8E%CF%81%CF%89%CE%BD %CE%9B%CF%85%CE%BA%CE%B1%CE%B2%CE%B7%CF%84%CF%84%CE%BF%CF%8D":MAILTO:aisidro@otenet.gr
END:VEVENT
BEGIN:VEVENT
DTSTART;TZID=Europe/Athens:20210912T073000
DTEND;TZID=Europe/Athens:20210912T103000
DTSTAMP:20260419T200123
CREATED:20210902T143340Z
LAST-MODIFIED:20210902T143340Z
UID:3707-1631431800-1631442600@www.agioi-isidoroi.gr
SUMMARY:ΠΡΟ ΤΗΣ ΥΨΩΣΕΩΣ
DESCRIPTION:Όρθρος & Θεία Λειτουργία
URL:https://www.agioi-isidoroi.gr/leitourgia/pro-tis-ypsoseos/
LOCATION:Ιερός Ναός Αγίων Ισιδώρων Λυκαβηττού\, Λυκαβηττός\, Αθήνα\, Αττική\, 10210\, Greece
CATEGORIES:Όρθρος Και Θεία Λειτουργία
ORGANIZER;CN="%CE%99%CE%B5%CF%81%CF%8C%CF%82 %CE%9D%CE%B1%CF%8C%CF%82 %CE%91%CE%B3%CE%AF%CF%89%CE%BD %CE%99%CF%83%CE%B9%CE%B4%CF%8E%CF%81%CF%89%CE%BD %CE%9B%CF%85%CE%BA%CE%B1%CE%B2%CE%B7%CF%84%CF%84%CE%BF%CF%8D":MAILTO:aisidro@otenet.gr
END:VEVENT
BEGIN:VEVENT
DTSTART;TZID=Europe/Athens:20210911T190000
DTEND;TZID=Europe/Athens:20210911T220000
DTSTAMP:20260419T200123
CREATED:20210902T143217Z
LAST-MODIFIED:20210902T143217Z
UID:3705-1631386800-1631397600@www.agioi-isidoroi.gr
SUMMARY:Αναστάσιμος Εσπερινός
DESCRIPTION:
URL:https://www.agioi-isidoroi.gr/leitourgia/anastasimos-esperinos-15/
LOCATION:Ιερός Ναός Αγίων Ισιδώρων Λυκαβηττού\, Λυκαβηττός\, Αθήνα\, Αττική\, 10210\, Greece
CATEGORIES:Αναστάσιμος Εσπερινός
ORGANIZER;CN="%CE%99%CE%B5%CF%81%CF%8C%CF%82 %CE%9D%CE%B1%CF%8C%CF%82 %CE%91%CE%B3%CE%AF%CF%89%CE%BD %CE%99%CF%83%CE%B9%CE%B4%CF%8E%CF%81%CF%89%CE%BD %CE%9B%CF%85%CE%BA%CE%B1%CE%B2%CE%B7%CF%84%CF%84%CE%BF%CF%8D":MAILTO:aisidro@otenet.gr
END:VEVENT
BEGIN:VEVENT
DTSTART;TZID=Europe/Athens:20210911T073000
DTEND;TZID=Europe/Athens:20210911T103000
DTSTAMP:20260419T200123
CREATED:20210902T143125Z
LAST-MODIFIED:20210902T143125Z
UID:3703-1631345400-1631356200@www.agioi-isidoroi.gr
SUMMARY:Οσίου Ευφροσύνου του μάγειρος
DESCRIPTION:Όρθρος & Θεία Λειτουργία
URL:https://www.agioi-isidoroi.gr/leitourgia/osioy-eyfrosynoy-toy-mageiros/
LOCATION:Ιερός Ναός Αγίων Ισιδώρων Λυκαβηττού\, Λυκαβηττός\, Αθήνα\, Αττική\, 10210\, Greece
CATEGORIES:Όρθρος Και Θεία Λειτουργία
ORGANIZER;CN="%CE%99%CE%B5%CF%81%CF%8C%CF%82 %CE%9D%CE%B1%CF%8C%CF%82 %CE%91%CE%B3%CE%AF%CF%89%CE%BD %CE%99%CF%83%CE%B9%CE%B4%CF%8E%CF%81%CF%89%CE%BD %CE%9B%CF%85%CE%BA%CE%B1%CE%B2%CE%B7%CF%84%CF%84%CE%BF%CF%8D":MAILTO:aisidro@otenet.gr
END:VEVENT
BEGIN:VEVENT
DTSTART;TZID=Europe/Athens:20210910T183000
DTEND;TZID=Europe/Athens:20210910T213000
DTSTAMP:20260419T200123
CREATED:20210902T143023Z
LAST-MODIFIED:20210902T143023Z
UID:3701-1631298600-1631309400@www.agioi-isidoroi.gr
SUMMARY:Εσπερινός & η Παράκληση στον Τίμιο Σταυρό
DESCRIPTION:
URL:https://www.agioi-isidoroi.gr/leitourgia/esperinos-amp-i-paraklisi-ston-timio-stayro-8/
LOCATION:Ιερός Ναός Αγίων Ισιδώρων Λυκαβηττού\, Λυκαβηττός\, Αθήνα\, Αττική\, 10210\, Greece
CATEGORIES:Εσπερινός & Παράκληση
ORGANIZER;CN="%CE%99%CE%B5%CF%81%CF%8C%CF%82 %CE%9D%CE%B1%CF%8C%CF%82 %CE%91%CE%B3%CE%AF%CF%89%CE%BD %CE%99%CF%83%CE%B9%CE%B4%CF%8E%CF%81%CF%89%CE%BD %CE%9B%CF%85%CE%BA%CE%B1%CE%B2%CE%B7%CF%84%CF%84%CE%BF%CF%8D":MAILTO:aisidro@otenet.gr
END:VEVENT
BEGIN:VEVENT
DTSTART;TZID=Europe/Athens:20210910T073000
DTEND;TZID=Europe/Athens:20210910T103000
DTSTAMP:20260419T200123
CREATED:20210902T142934Z
LAST-MODIFIED:20210902T142934Z
UID:3699-1631259000-1631269800@www.agioi-isidoroi.gr
SUMMARY:Μηνοδώρας\, Μητροδώρας & Νυμφοδώρας
DESCRIPTION:Όρθρος & Θεία Λειτουργία
URL:https://www.agioi-isidoroi.gr/leitourgia/minodoras-mitrodoras-amp-nymfodoras/
LOCATION:Ιερός Ναός Αγίων Ισιδώρων Λυκαβηττού\, Λυκαβηττός\, Αθήνα\, Αττική\, 10210\, Greece
CATEGORIES:Όρθρος Και Θεία Λειτουργία
ORGANIZER;CN="%CE%99%CE%B5%CF%81%CF%8C%CF%82 %CE%9D%CE%B1%CF%8C%CF%82 %CE%91%CE%B3%CE%AF%CF%89%CE%BD %CE%99%CF%83%CE%B9%CE%B4%CF%8E%CF%81%CF%89%CE%BD %CE%9B%CF%85%CE%BA%CE%B1%CE%B2%CE%B7%CF%84%CF%84%CE%BF%CF%8D":MAILTO:aisidro@otenet.gr
END:VEVENT
BEGIN:VEVENT
DTSTART;TZID=Europe/Athens:20210909T183000
DTEND;TZID=Europe/Athens:20210909T213000
DTSTAMP:20260419T200123
CREATED:20210902T142832Z
LAST-MODIFIED:20210902T142832Z
UID:3697-1631212200-1631223000@www.agioi-isidoroi.gr
SUMMARY:Εσπερινός & η Παράκληση στον Τίμιο Σταυρό
DESCRIPTION:
URL:https://www.agioi-isidoroi.gr/leitourgia/esperinos-amp-i-paraklisi-ston-timio-stayro-7/
LOCATION:Ιερός Ναός Αγίων Ισιδώρων Λυκαβηττού\, Λυκαβηττός\, Αθήνα\, Αττική\, 10210\, Greece
CATEGORIES:Εσπερινός & Παράκληση
ORGANIZER;CN="%CE%99%CE%B5%CF%81%CF%8C%CF%82 %CE%9D%CE%B1%CF%8C%CF%82 %CE%91%CE%B3%CE%AF%CF%89%CE%BD %CE%99%CF%83%CE%B9%CE%B4%CF%8E%CF%81%CF%89%CE%BD %CE%9B%CF%85%CE%BA%CE%B1%CE%B2%CE%B7%CF%84%CF%84%CE%BF%CF%8D":MAILTO:aisidro@otenet.gr
END:VEVENT
BEGIN:VEVENT
DTSTART;TZID=Europe/Athens:20210909T073000
DTEND;TZID=Europe/Athens:20210909T103000
DTSTAMP:20260419T200123
CREATED:20210902T142749Z
LAST-MODIFIED:20210902T142749Z
UID:3695-1631172600-1631183400@www.agioi-isidoroi.gr
SUMMARY:Των δικαίων Θεοπατόρων Ιωακείμ & Άννης
DESCRIPTION:Όρθρος & Θεία Λειτουργία
URL:https://www.agioi-isidoroi.gr/leitourgia/ton-dikaion-theopatoron-ioakeim-amp-annis/
LOCATION:Ιερός Ναός Αγίων Ισιδώρων Λυκαβηττού\, Λυκαβηττός\, Αθήνα\, Αττική\, 10210\, Greece
CATEGORIES:Όρθρος Και Θεία Λειτουργία
ORGANIZER;CN="%CE%99%CE%B5%CF%81%CF%8C%CF%82 %CE%9D%CE%B1%CF%8C%CF%82 %CE%91%CE%B3%CE%AF%CF%89%CE%BD %CE%99%CF%83%CE%B9%CE%B4%CF%8E%CF%81%CF%89%CE%BD %CE%9B%CF%85%CE%BA%CE%B1%CE%B2%CE%B7%CF%84%CF%84%CE%BF%CF%8D":MAILTO:aisidro@otenet.gr
END:VEVENT
BEGIN:VEVENT
DTSTART;TZID=Europe/Athens:20210908T183000
DTEND;TZID=Europe/Athens:20210908T213000
DTSTAMP:20260419T200123
CREATED:20210902T142314Z
LAST-MODIFIED:20210902T142314Z
UID:3693-1631125800-1631136600@www.agioi-isidoroi.gr
SUMMARY:Εσπερινός & η Παράκληση στον Τίμιο Σταυρό
DESCRIPTION:
URL:https://www.agioi-isidoroi.gr/leitourgia/esperinos-amp-i-paraklisi-ston-timio-stayro-6/
LOCATION:Ιερός Ναός Αγίων Ισιδώρων Λυκαβηττού\, Λυκαβηττός\, Αθήνα\, Αττική\, 10210\, Greece
CATEGORIES:Εσπερινός & Παράκληση
ORGANIZER;CN="%CE%99%CE%B5%CF%81%CF%8C%CF%82 %CE%9D%CE%B1%CF%8C%CF%82 %CE%91%CE%B3%CE%AF%CF%89%CE%BD %CE%99%CF%83%CE%B9%CE%B4%CF%8E%CF%81%CF%89%CE%BD %CE%9B%CF%85%CE%BA%CE%B1%CE%B2%CE%B7%CF%84%CF%84%CE%BF%CF%8D":MAILTO:aisidro@otenet.gr
END:VEVENT
BEGIN:VEVENT
DTSTART;TZID=Europe/Athens:20210908T073000
DTEND;TZID=Europe/Athens:20210908T103000
DTSTAMP:20260419T200123
CREATED:20210902T142123Z
LAST-MODIFIED:20210902T142213Z
UID:3690-1631086200-1631097000@www.agioi-isidoroi.gr
SUMMARY:ΤΟ ΓΕΝΕΘΛΙΟ ΤΗΣ ΘΕΟΤΟΚΟΥ
DESCRIPTION:Όρθρος & Θεία Λειτουργία \n«Η γέννησίς σου\, Θεοτόκε\, χαράν εμήνυσε πάση τη οικουμένη εκ σου γαρ ανέτειλεν ο ήλιος της δικαιοσύνης\, Χριστός ο Θεός ημών\, και λύσας την κατάραν έδωκε την ευλογίαν και καταργήσας τον θάνατο εδωρήσατο ημίν ζωήν αιώνιον»  \n\nΘα τεθεί για προσκύνημα η εικόνας της Παναγίας της Μαρμαριανής
URL:https://www.agioi-isidoroi.gr/leitourgia/to-genethlio-tis-theotokoy/
LOCATION:Ιερός Ναός Αγίων Ισιδώρων Λυκαβηττού\, Λυκαβηττός\, Αθήνα\, Αττική\, 10210\, Greece
CATEGORIES:Όρθρος Και Θεία Λειτουργία
ORGANIZER;CN="%CE%99%CE%B5%CF%81%CF%8C%CF%82 %CE%9D%CE%B1%CF%8C%CF%82 %CE%91%CE%B3%CE%AF%CF%89%CE%BD %CE%99%CF%83%CE%B9%CE%B4%CF%8E%CF%81%CF%89%CE%BD %CE%9B%CF%85%CE%BA%CE%B1%CE%B2%CE%B7%CF%84%CF%84%CE%BF%CF%8D":MAILTO:aisidro@otenet.gr
END:VEVENT
BEGIN:VEVENT
DTSTART;TZID=Europe/Athens:20210907T190000
DTEND;TZID=Europe/Athens:20210907T220000
DTSTAMP:20260419T200123
CREATED:20210728T185344Z
LAST-MODIFIED:20210728T185344Z
UID:3685-1631041200-1631052000@www.agioi-isidoroi.gr
SUMMARY:Εσπερινός  του Γενεθλίου της Παναγίας
DESCRIPTION:
URL:https://www.agioi-isidoroi.gr/leitourgia/esperinos-toy-genethlioy-tis-panagias/
LOCATION:Ιερός Ναός Αγίων Ισιδώρων Λυκαβηττού\, Λυκαβηττός\, Αθήνα\, Αττική\, 10210\, Greece
CATEGORIES:Εσπερινός
ORGANIZER;CN="%CE%99%CE%B5%CF%81%CF%8C%CF%82 %CE%9D%CE%B1%CF%8C%CF%82 %CE%91%CE%B3%CE%AF%CF%89%CE%BD %CE%99%CF%83%CE%B9%CE%B4%CF%8E%CF%81%CF%89%CE%BD %CE%9B%CF%85%CE%BA%CE%B1%CE%B2%CE%B7%CF%84%CF%84%CE%BF%CF%8D":MAILTO:aisidro@otenet.gr
END:VEVENT
BEGIN:VEVENT
DTSTART;TZID=Europe/Athens:20210907T073000
DTEND;TZID=Europe/Athens:20210907T103000
DTSTAMP:20260419T200123
CREATED:20210728T185305Z
LAST-MODIFIED:20210728T185305Z
UID:3683-1630999800-1631010600@www.agioi-isidoroi.gr
SUMMARY:Σώζοντος μάρτυρος
DESCRIPTION:Όρθρος & Θεία Λειτουργία
URL:https://www.agioi-isidoroi.gr/leitourgia/sozontos-martyros/
LOCATION:Ιερός Ναός Αγίων Ισιδώρων Λυκαβηττού\, Λυκαβηττός\, Αθήνα\, Αττική\, 10210\, Greece
CATEGORIES:Όρθρος Και Θεία Λειτουργία
ORGANIZER;CN="%CE%99%CE%B5%CF%81%CF%8C%CF%82 %CE%9D%CE%B1%CF%8C%CF%82 %CE%91%CE%B3%CE%AF%CF%89%CE%BD %CE%99%CF%83%CE%B9%CE%B4%CF%8E%CF%81%CF%89%CE%BD %CE%9B%CF%85%CE%BA%CE%B1%CE%B2%CE%B7%CF%84%CF%84%CE%BF%CF%8D":MAILTO:aisidro@otenet.gr
END:VEVENT
BEGIN:VEVENT
DTSTART;TZID=Europe/Athens:20210906T183000
DTEND;TZID=Europe/Athens:20210906T213000
DTSTAMP:20260419T200123
CREATED:20210728T185225Z
LAST-MODIFIED:20210728T185225Z
UID:3681-1630953000-1630963800@www.agioi-isidoroi.gr
SUMMARY:Εσπερινός & η Παράκληση στον Τίμιο Σταυρό
DESCRIPTION:
URL:https://www.agioi-isidoroi.gr/leitourgia/esperinos-amp-i-paraklisi-ston-timio-stayro-5/
LOCATION:Ιερός Ναός Αγίων Ισιδώρων Λυκαβηττού\, Λυκαβηττός\, Αθήνα\, Αττική\, 10210\, Greece
CATEGORIES:Εσπερινός & Παράκληση
ORGANIZER;CN="%CE%99%CE%B5%CF%81%CF%8C%CF%82 %CE%9D%CE%B1%CF%8C%CF%82 %CE%91%CE%B3%CE%AF%CF%89%CE%BD %CE%99%CF%83%CE%B9%CE%B4%CF%8E%CF%81%CF%89%CE%BD %CE%9B%CF%85%CE%BA%CE%B1%CE%B2%CE%B7%CF%84%CF%84%CE%BF%CF%8D":MAILTO:aisidro@otenet.gr
END:VEVENT
BEGIN:VEVENT
DTSTART;TZID=Europe/Athens:20210906T073000
DTEND;TZID=Europe/Athens:20210906T103000
DTSTAMP:20260419T200123
CREATED:20210728T185151Z
LAST-MODIFIED:20210728T185151Z
UID:3679-1630913400-1630924200@www.agioi-isidoroi.gr
SUMMARY:Ανάμν. θαύματος Αρχαγγέλου Μιχαήλ
DESCRIPTION:Όρθρος & Θεία Λειτουργία
URL:https://www.agioi-isidoroi.gr/leitourgia/anamn-thaymatos-archaggeloy-michail/
LOCATION:Ιερός Ναός Αγίων Ισιδώρων Λυκαβηττού\, Λυκαβηττός\, Αθήνα\, Αττική\, 10210\, Greece
CATEGORIES:Όρθρος Και Θεία Λειτουργία
ORGANIZER;CN="%CE%99%CE%B5%CF%81%CF%8C%CF%82 %CE%9D%CE%B1%CF%8C%CF%82 %CE%91%CE%B3%CE%AF%CF%89%CE%BD %CE%99%CF%83%CE%B9%CE%B4%CF%8E%CF%81%CF%89%CE%BD %CE%9B%CF%85%CE%BA%CE%B1%CE%B2%CE%B7%CF%84%CF%84%CE%BF%CF%8D":MAILTO:aisidro@otenet.gr
END:VEVENT
BEGIN:VEVENT
DTSTART;TZID=Europe/Athens:20210905T183000
DTEND;TZID=Europe/Athens:20210905T213000
DTSTAMP:20260419T200123
CREATED:20210728T183546Z
LAST-MODIFIED:20210728T183546Z
UID:3677-1630866600-1630877400@www.agioi-isidoroi.gr
SUMMARY:Εσπερινός & η Παράκληση στον Τίμιο Σταυρό
DESCRIPTION:
URL:https://www.agioi-isidoroi.gr/leitourgia/esperinos-amp-i-paraklisi-ston-timio-stayro-4/
LOCATION:Ιερός Ναός Αγίων Ισιδώρων Λυκαβηττού\, Λυκαβηττός\, Αθήνα\, Αττική\, 10210\, Greece
CATEGORIES:Εσπερινός & Παράκληση
ORGANIZER;CN="%CE%99%CE%B5%CF%81%CF%8C%CF%82 %CE%9D%CE%B1%CF%8C%CF%82 %CE%91%CE%B3%CE%AF%CF%89%CE%BD %CE%99%CF%83%CE%B9%CE%B4%CF%8E%CF%81%CF%89%CE%BD %CE%9B%CF%85%CE%BA%CE%B1%CE%B2%CE%B7%CF%84%CF%84%CE%BF%CF%8D":MAILTO:aisidro@otenet.gr
END:VEVENT
BEGIN:VEVENT
DTSTART;TZID=Europe/Athens:20210905T073000
DTEND;TZID=Europe/Athens:20210905T103000
DTSTAMP:20260419T200123
CREATED:20210728T183459Z
LAST-MODIFIED:20210728T183459Z
UID:3675-1630827000-1630837800@www.agioi-isidoroi.gr
SUMMARY:ΙΑ΄ΜΑΤΘΑΙΟΥ\, Προφ. Ζαχαρίου
DESCRIPTION:Όρθρος & Θεία Λειτουργία
URL:https://www.agioi-isidoroi.gr/leitourgia/ia-matthaioy-prof-zacharioy/
LOCATION:Ιερός Ναός Αγίων Ισιδώρων Λυκαβηττού\, Λυκαβηττός\, Αθήνα\, Αττική\, 10210\, Greece
CATEGORIES:Όρθρος Και Θεία Λειτουργία
ORGANIZER;CN="%CE%99%CE%B5%CF%81%CF%8C%CF%82 %CE%9D%CE%B1%CF%8C%CF%82 %CE%91%CE%B3%CE%AF%CF%89%CE%BD %CE%99%CF%83%CE%B9%CE%B4%CF%8E%CF%81%CF%89%CE%BD %CE%9B%CF%85%CE%BA%CE%B1%CE%B2%CE%B7%CF%84%CF%84%CE%BF%CF%8D":MAILTO:aisidro@otenet.gr
END:VEVENT
END:VCALENDAR