BEGIN:VCALENDAR
VERSION:2.0
PRODID:-//ΙΕΡΟΣ ΝΑΟΣ ΑΓΙΩΝ ΙΣΙΔΩΡΩΝ - ECPv6.15.17.1//NONSGML v1.0//EN
CALSCALE:GREGORIAN
METHOD:PUBLISH
X-WR-CALNAME:ΙΕΡΟΣ ΝΑΟΣ ΑΓΙΩΝ ΙΣΙΔΩΡΩΝ
X-ORIGINAL-URL:https://www.agioi-isidoroi.gr
X-WR-CALDESC:Events for ΙΕΡΟΣ ΝΑΟΣ ΑΓΙΩΝ ΙΣΙΔΩΡΩΝ
REFRESH-INTERVAL;VALUE=DURATION:PT1H
X-Robots-Tag:noindex
X-PUBLISHED-TTL:PT1H
BEGIN:VTIMEZONE
TZID:Europe/Athens
BEGIN:DAYLIGHT
TZOFFSETFROM:+0200
TZOFFSETTO:+0300
TZNAME:EEST
DTSTART:20210328T010000
END:DAYLIGHT
BEGIN:STANDARD
TZOFFSETFROM:+0300
TZOFFSETTO:+0200
TZNAME:EET
DTSTART:20211031T010000
END:STANDARD
BEGIN:DAYLIGHT
TZOFFSETFROM:+0200
TZOFFSETTO:+0300
TZNAME:EEST
DTSTART:20220327T010000
END:DAYLIGHT
BEGIN:STANDARD
TZOFFSETFROM:+0300
TZOFFSETTO:+0200
TZNAME:EET
DTSTART:20221030T010000
END:STANDARD
BEGIN:DAYLIGHT
TZOFFSETFROM:+0200
TZOFFSETTO:+0300
TZNAME:EEST
DTSTART:20230326T010000
END:DAYLIGHT
BEGIN:STANDARD
TZOFFSETFROM:+0300
TZOFFSETTO:+0200
TZNAME:EET
DTSTART:20231029T010000
END:STANDARD
END:VTIMEZONE
BEGIN:VEVENT
DTSTART;TZID=Europe/Athens:20220424T000000
DTEND;TZID=Europe/Athens:20220424T030000
DTSTAMP:20260421T190147
CREATED:20220403T125935Z
LAST-MODIFIED:20220403T165358Z
UID:4431-1650758400-1650769200@www.agioi-isidoroi.gr
SUMMARY:ΤΗΝ ΖΩΗΦΟΡΟΝ ΑΝΑΣΤΑΣΙΝ Του Κυρίου Ημών Ιησού Χριστού εορτάζομεν
DESCRIPTION:ΧΡΙΣΤΟΣ ΑΝΕΣΤΗ – ΑΛΗΘΩΣ ΑΝΕΣΤΗ \nΘεία Λειτουργία Αγου Ιωάννου του Χρυσοστόμου \n«Αναστάσεως ημέρα λαμπρυνθώμεν Λαοί\, Πάσχα Κυρίου\, Πάσχα• εκ γαρ θανάτου προς ζωήν\,\nκαι εκ γης προς ουρανόν\, Χριστός ο Θεός\, ημάς διεβίβασεν\, επινίκιον άδοντας»\n*Θα μοιραστούν Αυγά\, Τυρί και Κουλουράκια.
URL:https://www.agioi-isidoroi.gr/leitourgia/kyriaki-toy-pascha-tin-zoiforon-anastasin/
LOCATION:Ιερός Ναός Αγίων Ισιδώρων Λυκαβηττού\, Λυκαβηττός\, Αθήνα\, Αττική\, 10210\, Greece
CATEGORIES:Θεία Λειτουργία
ORGANIZER;CN="%CE%99%CE%B5%CF%81%CF%8C%CF%82 %CE%9D%CE%B1%CF%8C%CF%82 %CE%91%CE%B3%CE%AF%CF%89%CE%BD %CE%99%CF%83%CE%B9%CE%B4%CF%8E%CF%81%CF%89%CE%BD %CE%9B%CF%85%CE%BA%CE%B1%CE%B2%CE%B7%CF%84%CF%84%CE%BF%CF%8D":MAILTO:aisidro@otenet.gr
END:VEVENT
BEGIN:VEVENT
DTSTART;TZID=Europe/Athens:20220424T113000
DTEND;TZID=Europe/Athens:20220424T130000
DTSTAMP:20260421T190147
CREATED:20220403T130820Z
LAST-MODIFIED:20220403T130820Z
UID:4438-1650799800-1650805200@www.agioi-isidoroi.gr
SUMMARY:Ο ΕΣΠΕΡΙΝΟΣ ΤΗΣ ΑΓΑΠΗΣ
DESCRIPTION:«Χριστός Ανέστη εκ νεκρών\, θανάτῳ θάνατον πατήσας και τοις εν τοις μνήμασι ζωήν χαρισάμενος»
URL:https://www.agioi-isidoroi.gr/leitourgia/o-esperinos-tis-agapis-2/
LOCATION:Ιερός Ναός Αγίων Ισιδώρων Λυκαβηττού\, Λυκαβηττός\, Αθήνα\, Αττική\, 10210\, Greece
CATEGORIES:Εσπερινός
ORGANIZER;CN="%CE%99%CE%B5%CF%81%CF%8C%CF%82 %CE%9D%CE%B1%CF%8C%CF%82 %CE%91%CE%B3%CE%AF%CF%89%CE%BD %CE%99%CF%83%CE%B9%CE%B4%CF%8E%CF%81%CF%89%CE%BD %CE%9B%CF%85%CE%BA%CE%B1%CE%B2%CE%B7%CF%84%CF%84%CE%BF%CF%8D":MAILTO:aisidro@otenet.gr
END:VEVENT
END:VCALENDAR