BEGIN:VCALENDAR
VERSION:2.0
PRODID:-//ΙΕΡΟΣ ΝΑΟΣ ΑΓΙΩΝ ΙΣΙΔΩΡΩΝ - ECPv6.15.17.1//NONSGML v1.0//EN
CALSCALE:GREGORIAN
METHOD:PUBLISH
X-WR-CALNAME:ΙΕΡΟΣ ΝΑΟΣ ΑΓΙΩΝ ΙΣΙΔΩΡΩΝ
X-ORIGINAL-URL:https://www.agioi-isidoroi.gr
X-WR-CALDESC:Events for ΙΕΡΟΣ ΝΑΟΣ ΑΓΙΩΝ ΙΣΙΔΩΡΩΝ
REFRESH-INTERVAL;VALUE=DURATION:PT1H
X-Robots-Tag:noindex
X-PUBLISHED-TTL:PT1H
BEGIN:VTIMEZONE
TZID:Europe/Athens
BEGIN:DAYLIGHT
TZOFFSETFROM:+0200
TZOFFSETTO:+0300
TZNAME:EEST
DTSTART:20200329T010000
END:DAYLIGHT
BEGIN:STANDARD
TZOFFSETFROM:+0300
TZOFFSETTO:+0200
TZNAME:EET
DTSTART:20201025T010000
END:STANDARD
BEGIN:DAYLIGHT
TZOFFSETFROM:+0200
TZOFFSETTO:+0300
TZNAME:EEST
DTSTART:20210328T010000
END:DAYLIGHT
BEGIN:STANDARD
TZOFFSETFROM:+0300
TZOFFSETTO:+0200
TZNAME:EET
DTSTART:20211031T010000
END:STANDARD
BEGIN:DAYLIGHT
TZOFFSETFROM:+0200
TZOFFSETTO:+0300
TZNAME:EEST
DTSTART:20220327T010000
END:DAYLIGHT
BEGIN:STANDARD
TZOFFSETFROM:+0300
TZOFFSETTO:+0200
TZNAME:EET
DTSTART:20221030T010000
END:STANDARD
END:VTIMEZONE
BEGIN:VEVENT
DTSTART;TZID=Europe/Athens:20211225T060000
DTEND;TZID=Europe/Athens:20211225T110000
DTSTAMP:20260421T135952
CREATED:20211201T111738Z
LAST-MODIFIED:20211201T111738Z
UID:4022-1640412000-1640430000@www.agioi-isidoroi.gr
SUMMARY:Η ΚΑΤΑ ΣΑΡΚΑ ΓΕΝΝΗΣΙΣ  ΤΟΥ ΚΥΡΙΟΥ ΚΑΙ ΘΕΟΥ ΚΑΙ ΣΩΤΗΡΟΣ ΗΜΩΝ ΙΗΣΟΥ ΧΡΙΣΤΟΥ
DESCRIPTION:Όρθρος & Πανηγυρική Θεία Λειτουργία \n‘‘Δόξα εν υψίστοις Θεώ\, και επί γης ειρήνη\, εν ανθρώποις ευδοκία’’ \nΖΗΣΤΕ ΤΗ ΜΥΣΤΑΓΩΓΙΑ ΤΩΝ ΧΡΙΣΤΟΥΓΕΝΝΩΝ\nΣΤΟΝ ΙΕΡΟ ΣΠΗΛΑΙΩΔΗ ΝΑΟ ΤΩΝ\nΑΓΙΩΝ ΙΣΙΔΩΡΩΝ ΛΥΚΑΒΗΤΤΟΥ\nΤο ιερό σπήλαιο των Αγίων Ισιδώρων μας μεταφέρει νοερά\nστο Σπήλαιο της Γεννήσεως του Κυρίου στην Βηθλεέμ της Ιουδαίας.\nΗ γέννησίς σου Χριστέ ο Θεός ημών\, ανέτειλε τω κόσμω\, το φως\nτο της γνώσεως· εν αυτή γαρ οι τοις άστροις λατρεύοντες\, υπό\nαστέρος εδιδάσκοντο· σε προσκυνείν\, τον Ήλιον της δικαιοσύνης\,\nκαι σε γινώσκειν εξ ύψους ανατολήν\, Κύριε δόξα σοι. \n• Στο τέλος θα ψαλούν τα κάλαντα & θα μοιραστούν γλυκίσματα. \nΣΑΣ ΕΥΧΟΜΑΣΤΕ ΕΙΡΗΝΙΚΑ ΧΡΙΣΤΟΥΓΕΝΝΑ\n& ΧΡΟΝΙΑ ΠΟΛΛΑ
URL:https://www.agioi-isidoroi.gr/leitourgia/i-kata-sarka-gennisis-toy-kyrioy-kai-theoy-kai-sotiros-imon-iisoy-christoy/
LOCATION:Ιερός Ναός Αγίων Ισιδώρων Λυκαβηττού\, Λυκαβηττός\, Αθήνα\, Αττική\, 10210\, Greece
CATEGORIES:Όρθρος Και Θεία Λειτουργία
ORGANIZER;CN="%CE%99%CE%B5%CF%81%CF%8C%CF%82 %CE%9D%CE%B1%CF%8C%CF%82 %CE%91%CE%B3%CE%AF%CF%89%CE%BD %CE%99%CF%83%CE%B9%CE%B4%CF%8E%CF%81%CF%89%CE%BD %CE%9B%CF%85%CE%BA%CE%B1%CE%B2%CE%B7%CF%84%CF%84%CE%BF%CF%8D":MAILTO:aisidro@otenet.gr
END:VEVENT
BEGIN:VEVENT
DTSTART;TZID=Europe/Athens:20211225T180000
DTEND;TZID=Europe/Athens:20211225T210000
DTSTAMP:20260421T135952
CREATED:20211201T111853Z
LAST-MODIFIED:20211201T111853Z
UID:4024-1640455200-1640466000@www.agioi-isidoroi.gr
SUMMARY:Πανηγυρικός Εσπερινός
DESCRIPTION:
URL:https://www.agioi-isidoroi.gr/leitourgia/panigyrikos-esperinos-14/
LOCATION:Ιερός Ναός Αγίων Ισιδώρων Λυκαβηττού\, Λυκαβηττός\, Αθήνα\, Αττική\, 10210\, Greece
CATEGORIES:Εσπερινός
ORGANIZER;CN="%CE%99%CE%B5%CF%81%CF%8C%CF%82 %CE%9D%CE%B1%CF%8C%CF%82 %CE%91%CE%B3%CE%AF%CF%89%CE%BD %CE%99%CF%83%CE%B9%CE%B4%CF%8E%CF%81%CF%89%CE%BD %CE%9B%CF%85%CE%BA%CE%B1%CE%B2%CE%B7%CF%84%CF%84%CE%BF%CF%8D":MAILTO:aisidro@otenet.gr
END:VEVENT
END:VCALENDAR