BEGIN:VCALENDAR
VERSION:2.0
PRODID:-//ΙΕΡΟΣ ΝΑΟΣ ΑΓΙΩΝ ΙΣΙΔΩΡΩΝ - ECPv6.15.17.1//NONSGML v1.0//EN
CALSCALE:GREGORIAN
METHOD:PUBLISH
X-ORIGINAL-URL:https://www.agioi-isidoroi.gr
X-WR-CALDESC:Events for ΙΕΡΟΣ ΝΑΟΣ ΑΓΙΩΝ ΙΣΙΔΩΡΩΝ
REFRESH-INTERVAL;VALUE=DURATION:PT1H
X-Robots-Tag:noindex
X-PUBLISHED-TTL:PT1H
BEGIN:VTIMEZONE
TZID:Europe/Athens
BEGIN:DAYLIGHT
TZOFFSETFROM:+0200
TZOFFSETTO:+0300
TZNAME:EEST
DTSTART:20200329T010000
END:DAYLIGHT
BEGIN:STANDARD
TZOFFSETFROM:+0300
TZOFFSETTO:+0200
TZNAME:EET
DTSTART:20201025T010000
END:STANDARD
BEGIN:DAYLIGHT
TZOFFSETFROM:+0200
TZOFFSETTO:+0300
TZNAME:EEST
DTSTART:20210328T010000
END:DAYLIGHT
BEGIN:STANDARD
TZOFFSETFROM:+0300
TZOFFSETTO:+0200
TZNAME:EET
DTSTART:20211031T010000
END:STANDARD
BEGIN:DAYLIGHT
TZOFFSETFROM:+0200
TZOFFSETTO:+0300
TZNAME:EEST
DTSTART:20220327T010000
END:DAYLIGHT
BEGIN:STANDARD
TZOFFSETFROM:+0300
TZOFFSETTO:+0200
TZNAME:EET
DTSTART:20221030T010000
END:STANDARD
END:VTIMEZONE
BEGIN:VEVENT
DTSTART;TZID=Europe/Athens:20211201T073000
DTEND;TZID=Europe/Athens:20211201T110000
DTSTAMP:20260419T170845
CREATED:20211129T215428Z
LAST-MODIFIED:20211129T215428Z
UID:3955-1638343800-1638356400@www.agioi-isidoroi.gr
SUMMARY:Προφήτου Ναούμ
DESCRIPTION:Όρθρος & Θεία Λειτουργία-Αγιασμός
URL:https://www.agioi-isidoroi.gr/leitourgia/profitoy-naoym/
LOCATION:Ιερός Ναός Αγίων Ισιδώρων Λυκαβηττού\, Λυκαβηττός\, Αθήνα\, Αττική\, 10210\, Greece
CATEGORIES:Όρθρος Και Θεία Λειτουργία
ORGANIZER;CN="%CE%99%CE%B5%CF%81%CF%8C%CF%82 %CE%9D%CE%B1%CF%8C%CF%82 %CE%91%CE%B3%CE%AF%CF%89%CE%BD %CE%99%CF%83%CE%B9%CE%B4%CF%8E%CF%81%CF%89%CE%BD %CE%9B%CF%85%CE%BA%CE%B1%CE%B2%CE%B7%CF%84%CF%84%CE%BF%CF%8D":MAILTO:aisidro@otenet.gr
END:VEVENT
BEGIN:VEVENT
DTSTART;TZID=Europe/Athens:20211201T073000
DTEND;TZID=Europe/Athens:20211201T110000
DTSTAMP:20260419T170845
CREATED:20211201T124950Z
LAST-MODIFIED:20211201T124950Z
UID:4044-1638343800-1638356400@www.agioi-isidoroi.gr
SUMMARY:Όρθρος & Θεία Λειτουργία - ΔΟΞΟΛΟΓΙΑ
DESCRIPTION:• Με λαμπρότητα τιμάτε η εορτή του Μεγάλου Βασιλείου\, ο οποίος όταν σπούδαζε\nστην Αθήνα συνήθιζε να έρχεται στο Ιερό Σπήλαιο των Αγίων Ισιδώρων μαζί με τον\nΆγιο Γρηγόριο τον Θεολόγο για προσευχή και περισυλλογή.\n• Θα τεθεί για προσκύνηση ιερό λείψανο του Αγίου Βασιλείου του Μεγάλου.\n• Θα γίνει η κοπή της Πρωτοχρονιάτικης Βασιλόπιτας\, θα ψαλούν τα κάλαντα και θα\nμοιραστούν στους προσκυνητές γλυκίσματα.
URL:https://www.agioi-isidoroi.gr/leitourgia/orthros-amp-theia-leitoyrgia-doxologia/
LOCATION:Ιερός Ναός Αγίων Ισιδώρων Λυκαβηττού\, Λυκαβηττός\, Αθήνα\, Αττική\, 10210\, Greece
CATEGORIES:Όρθρος Και Θεία Λειτουργία
ORGANIZER;CN="%CE%99%CE%B5%CF%81%CF%8C%CF%82 %CE%9D%CE%B1%CF%8C%CF%82 %CE%91%CE%B3%CE%AF%CF%89%CE%BD %CE%99%CF%83%CE%B9%CE%B4%CF%8E%CF%81%CF%89%CE%BD %CE%9B%CF%85%CE%BA%CE%B1%CE%B2%CE%B7%CF%84%CF%84%CE%BF%CF%8D":MAILTO:aisidro@otenet.gr
END:VEVENT
BEGIN:VEVENT
DTSTART;TZID=Europe/Athens:20211201T183000
DTEND;TZID=Europe/Athens:20211201T210000
DTSTAMP:20260419T170845
CREATED:20211129T220044Z
LAST-MODIFIED:20211129T220044Z
UID:3959-1638383400-1638392400@www.agioi-isidoroi.gr
SUMMARY:Πανηγυρικός Εσπερινός & ΝΥΧΤΕΡΙΝΗ ΘΕΙΑ ΛΕΙΤΟΥΡΓΙΑ
DESCRIPTION:
URL:https://www.agioi-isidoroi.gr/leitourgia/panigyrikos-esperinos-amp-nychterini-theia-leitoyrgia-4/
LOCATION:Αττική
CATEGORIES:Εσπερινός,Θεία Λειτουργία
END:VEVENT
END:VCALENDAR