BEGIN:VCALENDAR
VERSION:2.0
PRODID:-//ΙΕΡΟΣ ΝΑΟΣ ΑΓΙΩΝ ΙΣΙΔΩΡΩΝ - ECPv6.15.17.1//NONSGML v1.0//EN
CALSCALE:GREGORIAN
METHOD:PUBLISH
X-ORIGINAL-URL:https://www.agioi-isidoroi.gr
X-WR-CALDESC:Events for ΙΕΡΟΣ ΝΑΟΣ ΑΓΙΩΝ ΙΣΙΔΩΡΩΝ
REFRESH-INTERVAL;VALUE=DURATION:PT1H
X-Robots-Tag:noindex
X-PUBLISHED-TTL:PT1H
BEGIN:VTIMEZONE
TZID:Europe/Athens
BEGIN:DAYLIGHT
TZOFFSETFROM:+0200
TZOFFSETTO:+0300
TZNAME:EEST
DTSTART:20200329T010000
END:DAYLIGHT
BEGIN:STANDARD
TZOFFSETFROM:+0300
TZOFFSETTO:+0200
TZNAME:EET
DTSTART:20201025T010000
END:STANDARD
BEGIN:DAYLIGHT
TZOFFSETFROM:+0200
TZOFFSETTO:+0300
TZNAME:EEST
DTSTART:20210328T010000
END:DAYLIGHT
BEGIN:STANDARD
TZOFFSETFROM:+0300
TZOFFSETTO:+0200
TZNAME:EET
DTSTART:20211031T010000
END:STANDARD
BEGIN:DAYLIGHT
TZOFFSETFROM:+0200
TZOFFSETTO:+0300
TZNAME:EEST
DTSTART:20220327T010000
END:DAYLIGHT
BEGIN:STANDARD
TZOFFSETFROM:+0300
TZOFFSETTO:+0200
TZNAME:EET
DTSTART:20221030T010000
END:STANDARD
END:VTIMEZONE
BEGIN:VEVENT
DTSTART;TZID=Europe/Athens:20210913T220000
DTEND;TZID=Europe/Athens:20210914T010000
DTSTAMP:20260421T125034
CREATED:20210902T144221Z
LAST-MODIFIED:20210902T144221Z
UID:3719-1631570400-1631581200@www.agioi-isidoroi.gr
SUMMARY:ΙΕΡΑ ΑΓΡΥΠΝΙΑ
DESCRIPTION:
URL:https://www.agioi-isidoroi.gr/leitourgia/iera-agrypnia-8/
LOCATION:Ιερός Ναός Αγίων Ισιδώρων Λυκαβηττού\, Λυκαβηττός\, Αθήνα\, Αττική\, 10210\, Greece
CATEGORIES:Ιερά Αγρυπνία
ORGANIZER;CN="%CE%99%CE%B5%CF%81%CF%8C%CF%82 %CE%9D%CE%B1%CF%8C%CF%82 %CE%91%CE%B3%CE%AF%CF%89%CE%BD %CE%99%CF%83%CE%B9%CE%B4%CF%8E%CF%81%CF%89%CE%BD %CE%9B%CF%85%CE%BA%CE%B1%CE%B2%CE%B7%CF%84%CF%84%CE%BF%CF%8D":MAILTO:aisidro@otenet.gr
END:VEVENT
BEGIN:VEVENT
DTSTART;TZID=Europe/Athens:20210914T073000
DTEND;TZID=Europe/Athens:20210914T103000
DTSTAMP:20260421T125034
CREATED:20210902T144437Z
LAST-MODIFIED:20210902T144437Z
UID:3721-1631604600-1631615400@www.agioi-isidoroi.gr
SUMMARY:ΜΕΓΑΛΕΙΩΔΗΣ & ΜΕΓΑΛΟΠΡΕΠΗΣ ΙΕΡΑ ΠΑΝΗΓΥΡΙΣ ΤΗΣ ΥΨΩΣΕΩΣ ΤΟΥ ΤΙΜΙΟΥ & ΖΩΟΠΟΙΟΥ ΣΤΑΥΡΟΥ
DESCRIPTION:Όρθρος & ΠΑΝΗΓΥΡΙΚΗ ΘΕΙΑ ΛΕΙΤΟΥΡΓΙΑ \n* Εορτάζει το ιερό παρεκκλήσιο του Τιμίου Σταυρού \n* θα τεθεί προς ευλογία ο ΤΙΜΙΟΣ ΣΤΑΥΡΟΣ \n  \n«Σώσον Κύριε τον λαόν σου και ευλόγησον την κληρονομίαν σου\, νίκας τοις Βασιλεύσι κατά βαρβάρων δωρούμενος και το σον φυλάττων διά του Σταυρού σου πολίτευμα».
URL:https://www.agioi-isidoroi.gr/leitourgia/megaleiodis-amp-megaloprepis-iera-panigyris-tis-ypsoseos-toy-timioy-amp-zoopoioy-stayroy/
LOCATION:Ιερός Ναός Αγίων Ισιδώρων Λυκαβηττού\, Λυκαβηττός\, Αθήνα\, Αττική\, 10210\, Greece
CATEGORIES:Όρθρος Και Θεία Λειτουργία
ORGANIZER;CN="%CE%99%CE%B5%CF%81%CF%8C%CF%82 %CE%9D%CE%B1%CF%8C%CF%82 %CE%91%CE%B3%CE%AF%CF%89%CE%BD %CE%99%CF%83%CE%B9%CE%B4%CF%8E%CF%81%CF%89%CE%BD %CE%9B%CF%85%CE%BA%CE%B1%CE%B2%CE%B7%CF%84%CF%84%CE%BF%CF%8D":MAILTO:aisidro@otenet.gr
END:VEVENT
BEGIN:VEVENT
DTSTART;TZID=Europe/Athens:20210914T173000
DTEND;TZID=Europe/Athens:20210914T183000
DTSTAMP:20260421T125034
CREATED:20210902T144530Z
LAST-MODIFIED:20210902T144530Z
UID:3723-1631640600-1631644200@www.agioi-isidoroi.gr
SUMMARY:Ιερό Ευχέλαιο με το Τίμιο Ξύλο
DESCRIPTION:
URL:https://www.agioi-isidoroi.gr/leitourgia/iero-eychelaio-me-to-timio-xylo/
LOCATION:Ιερός Ναός Αγίων Ισιδώρων Λυκαβηττού\, Λυκαβηττός\, Αθήνα\, Αττική\, 10210\, Greece
ORGANIZER;CN="%CE%99%CE%B5%CF%81%CF%8C%CF%82 %CE%9D%CE%B1%CF%8C%CF%82 %CE%91%CE%B3%CE%AF%CF%89%CE%BD %CE%99%CF%83%CE%B9%CE%B4%CF%8E%CF%81%CF%89%CE%BD %CE%9B%CF%85%CE%BA%CE%B1%CE%B2%CE%B7%CF%84%CF%84%CE%BF%CF%8D":MAILTO:aisidro@otenet.gr
END:VEVENT
BEGIN:VEVENT
DTSTART;TZID=Europe/Athens:20210914T183000
DTEND;TZID=Europe/Athens:20210914T203000
DTSTAMP:20260421T125034
CREATED:20210902T144609Z
LAST-MODIFIED:20210902T144609Z
UID:3725-1631644200-1631651400@www.agioi-isidoroi.gr
SUMMARY:Μεθεόρτιος Εσπερινός & Εγκώμια του Σταυρού
DESCRIPTION:
URL:https://www.agioi-isidoroi.gr/leitourgia/metheortios-esperinos-amp-egkomia-toy-stayroy/
LOCATION:Ιερός Ναός Αγίων Ισιδώρων Λυκαβηττού\, Λυκαβηττός\, Αθήνα\, Αττική\, 10210\, Greece
ORGANIZER;CN="%CE%99%CE%B5%CF%81%CF%8C%CF%82 %CE%9D%CE%B1%CF%8C%CF%82 %CE%91%CE%B3%CE%AF%CF%89%CE%BD %CE%99%CF%83%CE%B9%CE%B4%CF%8E%CF%81%CF%89%CE%BD %CE%9B%CF%85%CE%BA%CE%B1%CE%B2%CE%B7%CF%84%CF%84%CE%BF%CF%8D":MAILTO:aisidro@otenet.gr
END:VEVENT
BEGIN:VEVENT
DTSTART;TZID=Europe/Athens:20210914T203000
DTEND;TZID=Europe/Athens:20210914T233000
DTSTAMP:20260421T125034
CREATED:20210902T144745Z
LAST-MODIFIED:20210902T144745Z
UID:3727-1631651400-1631662200@www.agioi-isidoroi.gr
SUMMARY:ΝΥΧΤΕΡΙΝΗ ΘΕΙΑ ΛΕΙΤΟΥΡΓΙΑ
DESCRIPTION:«Σταυρός ο φύλαξ πάσης της Οικουμένης\, σταυρός η Ωραιότης της Εκκλησίας\, σταυρός βασιλέων το κραταίωμα\, σταυρός πιστών το στήριγμα\, σταυρός αγγέλων η δόξα\, και των δαιμόνων το τραύμα»  \n\nΘα τεθεί εις προσκύνηση τεμάχιο του Τιμίου Ξύλου.\n\nΣτους προσκυνητές θα δοθούν ως ευλογία σταυρουλάκια και εικονίτσες του Σταυρού.
URL:https://www.agioi-isidoroi.gr/leitourgia/nychterini-theia-leitoyrgia-2/
LOCATION:Ιερός Ναός Αγίων Ισιδώρων Λυκαβηττού\, Λυκαβηττός\, Αθήνα\, Αττική\, 10210\, Greece
CATEGORIES:Θεία Λειτουργία
ORGANIZER;CN="%CE%99%CE%B5%CF%81%CF%8C%CF%82 %CE%9D%CE%B1%CF%8C%CF%82 %CE%91%CE%B3%CE%AF%CF%89%CE%BD %CE%99%CF%83%CE%B9%CE%B4%CF%8E%CF%81%CF%89%CE%BD %CE%9B%CF%85%CE%BA%CE%B1%CE%B2%CE%B7%CF%84%CF%84%CE%BF%CF%8D":MAILTO:aisidro@otenet.gr
END:VEVENT
END:VCALENDAR