BEGIN:VCALENDAR
VERSION:2.0
PRODID:-//ΙΕΡΟΣ ΝΑΟΣ ΑΓΙΩΝ ΙΣΙΔΩΡΩΝ - ECPv6.15.17.1//NONSGML v1.0//EN
CALSCALE:GREGORIAN
METHOD:PUBLISH
X-WR-CALNAME:ΙΕΡΟΣ ΝΑΟΣ ΑΓΙΩΝ ΙΣΙΔΩΡΩΝ
X-ORIGINAL-URL:https://www.agioi-isidoroi.gr
X-WR-CALDESC:Events for ΙΕΡΟΣ ΝΑΟΣ ΑΓΙΩΝ ΙΣΙΔΩΡΩΝ
REFRESH-INTERVAL;VALUE=DURATION:PT1H
X-Robots-Tag:noindex
X-PUBLISHED-TTL:PT1H
BEGIN:VTIMEZONE
TZID:Europe/Athens
BEGIN:DAYLIGHT
TZOFFSETFROM:+0200
TZOFFSETTO:+0300
TZNAME:EEST
DTSTART:20200329T010000
END:DAYLIGHT
BEGIN:STANDARD
TZOFFSETFROM:+0300
TZOFFSETTO:+0200
TZNAME:EET
DTSTART:20201025T010000
END:STANDARD
BEGIN:DAYLIGHT
TZOFFSETFROM:+0200
TZOFFSETTO:+0300
TZNAME:EEST
DTSTART:20210328T010000
END:DAYLIGHT
BEGIN:STANDARD
TZOFFSETFROM:+0300
TZOFFSETTO:+0200
TZNAME:EET
DTSTART:20211031T010000
END:STANDARD
BEGIN:DAYLIGHT
TZOFFSETFROM:+0200
TZOFFSETTO:+0300
TZNAME:EEST
DTSTART:20220327T010000
END:DAYLIGHT
BEGIN:STANDARD
TZOFFSETFROM:+0300
TZOFFSETTO:+0200
TZNAME:EET
DTSTART:20221030T010000
END:STANDARD
END:VTIMEZONE
BEGIN:VEVENT
DTSTART;TZID=Europe/Athens:20210826T220000
DTEND;TZID=Europe/Athens:20210827T003000
DTSTAMP:20260421T163402
CREATED:20210728T180729Z
LAST-MODIFIED:20210728T180729Z
UID:3642-1630015200-1630024200@www.agioi-isidoroi.gr
SUMMARY:ΙΕΡΑ ΑΓΡΥΠΝΙΑ
DESCRIPTION:
URL:https://www.agioi-isidoroi.gr/leitourgia/iera-agrypnia-6/
LOCATION:Αττική
CATEGORIES:Ιερά Αγρυπνία
END:VEVENT
BEGIN:VEVENT
DTSTART;TZID=Europe/Athens:20210827T073000
DTEND;TZID=Europe/Athens:20210827T103000
DTSTAMP:20260421T163402
CREATED:20210728T180912Z
LAST-MODIFIED:20210728T180912Z
UID:3644-1630049400-1630060200@www.agioi-isidoroi.gr
SUMMARY:ΤΟΥ ΑΓΙΟΥ ΜΕΓΑΛΟΜΑΡΤΥΡΟΣ ΦΑΝΟΥΡΙΟΥ
DESCRIPTION:Όρθρος & Πανηγυρική Θεία Λειτουργία \nΙΕΡΑ ΠΑΝΗΓΥΡΙΣ ΤΟΥ ΑΓΙΟΥ ΦΑΝΟΥΡΙΟΥ \nΕορτάζει το παρεκκλήσιο του Αγίου  Φανουρίου. \n«Ουράνιον εφύμνιον εν γη τελείται λαμπρώς\, επίγειον πανήγυριν νυν εορτάζει φαιδρώς Αγγέλων πολίτευμα\, άνωθεν υμνωδίαις\, ευφημούσι τους άθλους\, κάτωθεν Εκκλησία την ουράνιον δόξαν ην εύρες πόνοις και άθλοις τοις σοις\, Φανούριε ένδοξε»
URL:https://www.agioi-isidoroi.gr/leitourgia/toy-agioy-megalomartyros-fanoyrioy/
LOCATION:Ιερός Ναός Αγίων Ισιδώρων Λυκαβηττού\, Λυκαβηττός\, Αθήνα\, Αττική\, 10210\, Greece
CATEGORIES:Όρθρος Και Θεία Λειτουργία
ORGANIZER;CN="%CE%99%CE%B5%CF%81%CF%8C%CF%82 %CE%9D%CE%B1%CF%8C%CF%82 %CE%91%CE%B3%CE%AF%CF%89%CE%BD %CE%99%CF%83%CE%B9%CE%B4%CF%8E%CF%81%CF%89%CE%BD %CE%9B%CF%85%CE%BA%CE%B1%CE%B2%CE%B7%CF%84%CF%84%CE%BF%CF%8D":MAILTO:aisidro@otenet.gr
END:VEVENT
BEGIN:VEVENT
DTSTART;TZID=Europe/Athens:20210827T183000
DTEND;TZID=Europe/Athens:20210827T210000
DTSTAMP:20260421T163402
CREATED:20210728T181114Z
LAST-MODIFIED:20210728T181114Z
UID:3646-1630089000-1630098000@www.agioi-isidoroi.gr
SUMMARY:Εσπερινός & η Παράκληση του Αγίου
DESCRIPTION:ευλογία των πιτών \n«Τα αιτήματα των καρδιών αυτών και πάσαν την βουλήν αυτών ταχέως πλήρωσον άγιε Φανούριε\, οδηγών αυτούς προς εργασίαν των εντολών σου\, ίνα διά παντός εν ευφροσύνη και αγαλλιάσει υμνώσι και δοξάσωσι το πάντιμον και μεγαλοπρεπές όνομά σου»
URL:https://www.agioi-isidoroi.gr/leitourgia/esperinos-amp-i-paraklisi-toy-agioy/
LOCATION:Ιερός Ναός Αγίων Ισιδώρων Λυκαβηττού\, Λυκαβηττός\, Αθήνα\, Αττική\, 10210\, Greece
CATEGORIES:Εσπερινός & Παράκληση
ORGANIZER;CN="%CE%99%CE%B5%CF%81%CF%8C%CF%82 %CE%9D%CE%B1%CF%8C%CF%82 %CE%91%CE%B3%CE%AF%CF%89%CE%BD %CE%99%CF%83%CE%B9%CE%B4%CF%8E%CF%81%CF%89%CE%BD %CE%9B%CF%85%CE%BA%CE%B1%CE%B2%CE%B7%CF%84%CF%84%CE%BF%CF%8D":MAILTO:aisidro@otenet.gr
END:VEVENT
END:VCALENDAR