BEGIN:VCALENDAR
VERSION:2.0
PRODID:-//ΙΕΡΟΣ ΝΑΟΣ ΑΓΙΩΝ ΙΣΙΔΩΡΩΝ - ECPv6.15.17.1//NONSGML v1.0//EN
CALSCALE:GREGORIAN
METHOD:PUBLISH
X-ORIGINAL-URL:https://www.agioi-isidoroi.gr
X-WR-CALDESC:Events for ΙΕΡΟΣ ΝΑΟΣ ΑΓΙΩΝ ΙΣΙΔΩΡΩΝ
REFRESH-INTERVAL;VALUE=DURATION:PT1H
X-Robots-Tag:noindex
X-PUBLISHED-TTL:PT1H
BEGIN:VTIMEZONE
TZID:Europe/Athens
BEGIN:DAYLIGHT
TZOFFSETFROM:+0200
TZOFFSETTO:+0300
TZNAME:EEST
DTSTART:20200329T010000
END:DAYLIGHT
BEGIN:STANDARD
TZOFFSETFROM:+0300
TZOFFSETTO:+0200
TZNAME:EET
DTSTART:20201025T010000
END:STANDARD
BEGIN:DAYLIGHT
TZOFFSETFROM:+0200
TZOFFSETTO:+0300
TZNAME:EEST
DTSTART:20210328T010000
END:DAYLIGHT
BEGIN:STANDARD
TZOFFSETFROM:+0300
TZOFFSETTO:+0200
TZNAME:EET
DTSTART:20211031T010000
END:STANDARD
BEGIN:DAYLIGHT
TZOFFSETFROM:+0200
TZOFFSETTO:+0300
TZNAME:EEST
DTSTART:20220327T010000
END:DAYLIGHT
BEGIN:STANDARD
TZOFFSETFROM:+0300
TZOFFSETTO:+0200
TZNAME:EET
DTSTART:20221030T010000
END:STANDARD
END:VTIMEZONE
BEGIN:VEVENT
DTSTART;TZID=Europe/Athens:20210505T073000
DTEND;TZID=Europe/Athens:20210505T123000
DTSTAMP:20260423T091128
CREATED:20210404T195412Z
LAST-MODIFIED:20210404T195412Z
UID:2955-1620199800-1620217800@www.agioi-isidoroi.gr
SUMMARY:Αγίας μεγαλομάρτυρος Ειρήνης - Αγίου μεγαλομάρτυρος Εφραίμ Ν. Μάκρης
DESCRIPTION:Όρθρος & Θεία Λειτουργία
URL:https://www.agioi-isidoroi.gr/leitourgia/agias-megalomartyros-eirinis-agioy-megalomartyros-efraim-n-makris/
LOCATION:Αττική
CATEGORIES:Όρθρος Και Θεία Λειτουργία
END:VEVENT
END:VCALENDAR