BEGIN:VCALENDAR
VERSION:2.0
PRODID:-//ΙΕΡΟΣ ΝΑΟΣ ΑΓΙΩΝ ΙΣΙΔΩΡΩΝ - ECPv6.15.17.1//NONSGML v1.0//EN
CALSCALE:GREGORIAN
METHOD:PUBLISH
X-WR-CALNAME:ΙΕΡΟΣ ΝΑΟΣ ΑΓΙΩΝ ΙΣΙΔΩΡΩΝ
X-ORIGINAL-URL:https://www.agioi-isidoroi.gr
X-WR-CALDESC:Events for ΙΕΡΟΣ ΝΑΟΣ ΑΓΙΩΝ ΙΣΙΔΩΡΩΝ
REFRESH-INTERVAL;VALUE=DURATION:PT1H
X-Robots-Tag:noindex
X-PUBLISHED-TTL:PT1H
BEGIN:VTIMEZONE
TZID:Europe/Athens
BEGIN:DAYLIGHT
TZOFFSETFROM:+0200
TZOFFSETTO:+0300
TZNAME:EEST
DTSTART:20200329T010000
END:DAYLIGHT
BEGIN:STANDARD
TZOFFSETFROM:+0300
TZOFFSETTO:+0200
TZNAME:EET
DTSTART:20201025T010000
END:STANDARD
BEGIN:DAYLIGHT
TZOFFSETFROM:+0200
TZOFFSETTO:+0300
TZNAME:EEST
DTSTART:20210328T010000
END:DAYLIGHT
BEGIN:STANDARD
TZOFFSETFROM:+0300
TZOFFSETTO:+0200
TZNAME:EET
DTSTART:20211031T010000
END:STANDARD
BEGIN:DAYLIGHT
TZOFFSETFROM:+0200
TZOFFSETTO:+0300
TZNAME:EEST
DTSTART:20220327T010000
END:DAYLIGHT
BEGIN:STANDARD
TZOFFSETFROM:+0300
TZOFFSETTO:+0200
TZNAME:EET
DTSTART:20221030T010000
END:STANDARD
END:VTIMEZONE
BEGIN:VEVENT
DTSTART;TZID=Europe/Athens:20210416T073000
DTEND;TZID=Europe/Athens:20210416T113000
DTSTAMP:20260423T105857
CREATED:20210404T190339Z
LAST-MODIFIED:20210404T190339Z
UID:2881-1618558200-1618572600@www.agioi-isidoroi.gr
SUMMARY:Αγίου Αμφιλοχίου εν Πάτμω
DESCRIPTION:Προηγιασμένη Θεία Λειτουργία
URL:https://www.agioi-isidoroi.gr/leitourgia/agioy-amfilochioy-en-patmo/
LOCATION:Ιερός Ναός Αγίων Ισιδώρων Λυκαβηττού\, Λυκαβηττός\, Αθήνα\, Αττική\, 10210\, Greece
CATEGORIES:Θεία Λειτουργία
ORGANIZER;CN="%CE%99%CE%B5%CF%81%CF%8C%CF%82 %CE%9D%CE%B1%CF%8C%CF%82 %CE%91%CE%B3%CE%AF%CF%89%CE%BD %CE%99%CF%83%CE%B9%CE%B4%CF%8E%CF%81%CF%89%CE%BD %CE%9B%CF%85%CE%BA%CE%B1%CE%B2%CE%B7%CF%84%CF%84%CE%BF%CF%8D":MAILTO:aisidro@otenet.gr
END:VEVENT
BEGIN:VEVENT
DTSTART;TZID=Europe/Athens:20210416T193000
DTEND;TZID=Europe/Athens:20210416T223000
DTSTAMP:20260423T105857
CREATED:20210404T190526Z
LAST-MODIFIED:20210404T190606Z
UID:2883-1618601400-1618612200@www.agioi-isidoroi.gr
SUMMARY:ΙΕΡΑ ΠΑΝΗΓΥΡΙΣ ΤΗΣ ΠΑΝΑΓΙΑΣ ΤΟΥ ΑΚΑΘΙΣΤΟΥ ΥΜΝΟΥ
DESCRIPTION:ΙΕΡΑ ΠΑΝΗΓΥΡΙΣ \nΤΗΣ ΠΑΝΑΓΙΑΣ ΤΟΥ ΑΚΑΘΙΣΤΟΥ ΥΜΝΟΥ\n\n\n* Εορτάζει η Ιερά & Θαυματουργός Εικόνα της Παναγίας του Ακαθίστου Ύμνου η οποία φυλάσσεται εντός του Ιερού Βήματος του Ναού μας.\n\n\n* Τῇ ὑπερμάχῷ στρατηγῷ τὰ νικητήρια\, ὡς λυτρωθεῖσα τῶν δεινῶν εὐχαριστήρια\, ἀναγράφω σοι ἡ πόλις σου\, Θεοτόκε· ἀλλ’ ὡς ἔχουσα τὸ κράτος ἀπροσμάχητον\, ἐκ παντοίων με κινδύνων ἐλευθέρωσον\, ἵνα κράζω σοί· Χαῖρε Νύμφη ἀνύμφευτε.
URL:https://www.agioi-isidoroi.gr/leitourgia/iera-panigyris-tis-panagias-toy-akathistoy-ymnoy/
LOCATION:Ιερός Ναός Αγίων Ισιδώρων Λυκαβηττού\, Λυκαβηττός\, Αθήνα\, Αττική\, 10210\, Greece
CATEGORIES:Ο ΑΚΑΘΙΣΤΟΣ ΥΜΝΟΣ
ORGANIZER;CN="%CE%99%CE%B5%CF%81%CF%8C%CF%82 %CE%9D%CE%B1%CF%8C%CF%82 %CE%91%CE%B3%CE%AF%CF%89%CE%BD %CE%99%CF%83%CE%B9%CE%B4%CF%8E%CF%81%CF%89%CE%BD %CE%9B%CF%85%CE%BA%CE%B1%CE%B2%CE%B7%CF%84%CF%84%CE%BF%CF%8D":MAILTO:aisidro@otenet.gr
END:VEVENT
END:VCALENDAR